Workbook

Sheet หน้าหลัก
B7: =IF('ข้อมูลโรงเรียน'!$C$5="","เริ่มต้นที่ปุ่ม “ข้อมูลโรงเรียน” ด้านล่าง","โรงเรียน"&'ข้อมูลโรงเรียน'!$C$5) | G7: ="ปีการศึกษา "&'ข้อมูลโรงเรียน'!$C$12&" • ชั้น"&'ข้อมูลโรงเรียน'!$C$7&"/"&'ข้อมูลโรงเรียน'!$C$8&" ครู"&IF('ข้อมูลโรงเรียน'!$C$9="","...",'ข้อมูลโรงเรียน'!$C$9)
B8: เวอร์ชัน 1.0 ฉบับทดลองใช้ฟรี (5 คน) • ปรับปรุงล่าสุด ตุลาคม 2569 • ติดต่อ / สั่งซื้อ: เพจ ใบงานสื่อการสอน อนุบาล Kun Ton (คลิกเพื่อทักแชท)
B10: นักเรียนทั้งหมด | E10: นักเรียนชาย / หญิง | H10: มาเรียนเฉลี่ยทั้งปี | K10: เงินออมรวมทั้งห้อง
B11: =COUNTIF('ข้อมูลนักเรียน'!$E$9:$E$13,"?*")&" คน" | E11: =COUNTIF('ข้อมูลนักเรียน'!$D$9:$D$13,"ด.ช.")&" / "&COUNTIF('ข้อมูลนักเรียน'!$D$9:$D$13,"ด.ญ.") | H11: =IF(N('สรุปมาเรียน'!Z14)=0,"-",TEXT('สรุปมาเรียน'!Z14,"0.0%")) | K11: =TEXT(N('สรุปออมเงิน'!Q14),"#,##0")&" บาท"
B13: 🌈 เลือกเมนูที่ต้องการ (คลิกที่ปุ่ม)
B16: ข้อมูลโรงเรียน | E16: ข้อมูลนักเรียน | H16: แดชบอร์ด | K16: วิธีใช้งาน
B17: ▶ ตั้งค่า / วันหยุด | E17: ▶ เปิดทะเบียนนักเรียน | H17: ▶ ภาพรวมชั้นเรียน | K17: ▶ อ่านคู่มือ
C20: แบบบันทึก | I20: แบบบันทึก | L20: แบบบันทึก
B21: การมาเรียน | E21: สรุปการมาเรียน | H21: การดื่มนม | K21: การแปรงฟัน
B22: ▶ ภาคเรียนที่ 1 | C22: ▶ ภาคเรียนที่ 2 | E22: ▶ สรุปทั้งปี | H22: ▶ ภาคเรียนที่ 1 | I22: ▶ ภาคเรียนที่ 2 | K22: ▶ ภาคเรียนที่ 1 | L22: ▶ ภาคเรียนที่ 2
C24: แบบบันทึก | F24: แบบบันทึก | I24: แบบบันทึก | L24: แบบบันทึก
B25: อาหารกลางวัน | E25: นอนกลางวัน | H25: การขับถ่าย | K25: การออกกำลังกาย
B26: ▶ ภาคเรียนที่ 1 | C26: ▶ ภาคเรียนที่ 2 | E26: ▶ มีในฉบับเต็ม (คลิกดูรายละเอียด) | H26: ▶ มีในฉบับเต็ม (คลิกดูรายละเอียด) | K26: ▶ มีในฉบับเต็ม (คลิกดูรายละเอียด)
C28: แบบบันทึก | F28: แบบบันทึก
B29: กิจกรรมหน้าเสาธง | E29: การทำความสะอาด | H29: รับ - ส่งนักเรียน | K29: บันทึกรับ-ส่งพิเศษ
B30: ▶ มีในฉบับเต็ม (คลิกดูรายละเอียด) | E30: ▶ มีในฉบับเต็ม (คลิกดูรายละเอียด) | H30: ▶ มีในฉบับเต็ม (คลิกดูรายละเอียด) | K30: ▶ มีในฉบับเต็ม (คลิกดูรายละเอียด)
C33: แบบบันทึก | F33: แบบบันทึก | I33: แบบบันทึก
B34: ประเมินพัฒนาการ | E34: น้ำหนัก - ส่วนสูง | H34: การตรวจสุขภาพ | K34: คัดกรองนักเรียน
B35: ▶ มีในฉบับเต็ม (คลิกดูรายละเอียด) | E35: ▶ บันทึกรายเดือน | H35: ▶ มีในฉบับเต็ม (คลิกดูรายละเอียด) | K35: ▶ มีในฉบับเต็ม (คลิกดูรายละเอียด)
B38: เยี่ยมบ้าน | E38: สมุดรายงานประจำตัว
B39: ▶ มีในฉบับเต็ม (คลิกดูรายละเอียด) | E39: ▶ มีในฉบับเต็ม (คลิกดูรายละเอียด)
B43: สมุดสื่อสารผู้ปกครอง | E43: พิมพ์รายงาน | H43: ป้ายชื่อ / บัตรนักเรียน | K43: เกียรติบัตร
B44: ▶ มีในฉบับเต็ม (คลิกดูรายละเอียด) | E44: ▶ มีในฉบับเต็ม (คลิกดูรายละเอียด) | H44: ▶ มีในฉบับเต็ม (คลิกดูรายละเอียด) | K44: ▶ มีในฉบับเต็ม (คลิกดูรายละเอียด)
B47: วันเกิด / ใบรายชื่อ | E47: ยกข้อมูลปีถัดไป
B48: ▶ มีในฉบับเต็ม (คลิกดูรายละเอียด) | E48: ▶ มีในฉบับเต็ม (คลิกดูรายละเอียด)
C51: แบบบันทึก
B52: การออมเงิน | E52: ถอน / สรุปเงินออม | H52: งบอาหารกลางวัน / นม | K52: เงินอุดหนุนรายหัว
B53: ▶ มีในฉบับเต็ม (คลิกดูรายละเอียด) | E53: ▶ มีในฉบับเต็ม (คลิกดูรายละเอียด) | H53: ▶ มีในฉบับเต็ม (คลิกดูรายละเอียด) | K53: ▶ มีในฉบับเต็ม (คลิกดูรายละเอียด)
B56: บัญชีรายรับ - จ่าย
B57: ▶ มีในฉบับเต็ม (คลิกดูรายละเอียด)
B60: 💗 ถึงคุณครูอนุบาลทุกคน ขอบคุณที่ดูแลเด็ก ๆ ด้วยหัวใจ ทุกวันที่คุณครูตั้งใจ คือรอยยิ้มและการเติบโตของเด็ก ๆ ขอให้ไฟล์นี้ช่วยให้งานเอกสารเบาลง และมีเวลาให้เด็ก ๆ มากขึ้นนะคะ 🌷
B64: ไม่ใช้มาโคร • เปิดได้ทั้ง Excel และ Google Sheets • ช่องสีเหลือง = ช่องที่ครูกรอก • เวอร์ชัน 1.0 ฉบับทดลองใช้ฟรี (5 คน) • ติดต่อ / แจ้งปัญหา / สั่งซื้อ: ทักแชทเพจ Facebook “ใบงานสื่อการสอน อนุบาล Kun Ton” facebook.com/KunTonKinder

Sheet ฉบับเต็ม
A1: 🏠
A2: หน้าหลัก | B2: ปลดล็อกทุกฟังก์ชัน และบันทึกนักเรียนได้ 60 คน
B4: ฟังก์ชัน | C4: ทดลองใช้ฟรี | D4: ฉบับเต็ม | F4: ฉบับเต็ม (ไฟล์นี้) | G4: สมาชิก VIP
B5: จำนวนนักเรียนต่อห้อง | C5: 5 คน | D5: 60 คน | F5: 120 บาท | G5: 199 บาท
B6: ข้อมูลโรงเรียน / ทะเบียนนักเรียน / วันหยุด | C6: ✓ | D6: ✓ | F6: ✓ ครบทุกฟังก์ชัน | G6: ✓ จ่ายครั้งเดียว ใช้ได้ตลอดชีพ
B7: เช็คชื่อการมาเรียน + สรุปทั้งปี | C7: ✓ | D7: ✓ | F7: ✓ นักเรียน 60 คนต่อห้อง | G7: ✓ ดาวน์โหลดได้ทุกไฟล์ในกลุ่ม
B8: ดื่มนม แปรงฟัน อาหารกลางวัน | C8: ✓ | D8: ✓ | F8: ✓ ใช้ได้ทั้ง Excel และ Google Sheets | G8: ✓ รวมไฟล์ระบบธุรการนี้ด้วย
B9: น้ำหนัก-ส่วนสูง + ประเมินภาวะโภชนาการอัตโนมัติ | C9: ✓ | D9: ✓
B10: แดชบอร์ดกราฟ | C10: ✓ | D10: ✓ | F10: สั่งซื้อ / สมัครสมาชิก VIP (คลิกเพื่อทักแชท) เพจ ใบงานสื่อการสอน อนุบาล Kun Ton
B11: นอนกลางวัน ขับถ่าย ออกกำลังกาย หน้าเสาธง ทำความสะอาด | C11: 🔒 | D11: ✓
B12: ประเมินพัฒนาการ 4 ด้าน (หลักสูตรปฐมวัย 2560) | C12: 🔒 | D12: ✓ | F12: facebook.com/KunTonKinder
B13: สมุดรายงานประจำตัวนักเรียน (สมุดพก) รายคน / ทั้งห้อง | C13: 🔒 | D13: ✓ | F13: หลังชำระเงิน รับไฟล์ฉบับเต็มทางแชท
B14: ตรวจสุขภาพ คัดกรองนักเรียน เยี่ยมบ้าน | C14: 🔒 | D14: ✓ | F14: รายชื่อนักเรียนที่กรอกไว้ คัดลอกไปวางในฉบับเต็มได้ (วางแบบเฉพาะค่า)
B15: ระบบรับ-ส่งนักเรียน สมุดสื่อสารผู้ปกครอง | C15: 🔒 | D15: ✓
B16: ออมเงิน งบอาหาร/นม เงินอุดหนุน บัญชีรายรับ-จ่าย | C16: 🔒 | D16: ✓
B17: ป้ายชื่อ บัตรนักเรียน เกียรติบัตร ปฏิทินวันเกิด | C17: 🔒 | D17: ✓
B18: หน้าพิมพ์รายงาน ยกข้อมูลไปปีถัดไป | C18: 🔒 | D18: ✓

Sheet แดชบอร์ด
A1: 🏠
A2: หน้าหลัก | B2: ="โรงเรียน"&'ข้อมูลโรงเรียน'!$C$5&" ชั้น"&'ข้อมูลโรงเรียน'!$C$7&"/"&'ข้อมูลโรงเรียน'!$C$8&" ปีการศึกษา "&'ข้อมูลโรงเรียน'!$C$12&" ครูประจำชั้น "&'ข้อมูลโรงเรียน'!$C$9
B4: นักเรียน (คน) | G4: มาเรียนเฉลี่ยทั้งปี | L4: เยี่ยมบ้านแล้ว | Q4: กลุ่มเสี่ยง + มีปัญหา (คน) | V4: เงินออมรวม (บาท)
B5: =COUNTIF('ข้อมูลนักเรียน'!$E$9:$E$13,"?*") | G5: =IF(N('สรุปมาเรียน'!Z14)=0,"-",'สรุปมาเรียน'!Z14) | L5: =IFERROR(COUNTIF('เยี่ยมบ้าน'!$T$9:$T$13,"✓ เยี่ยมแล้ว")/COUNTIF('ข้อมูลนักเรียน'!$E$9:$E$13,"?*"),"-") | Q5: =N('คัดกรองนักเรียน'!F23)+N('คัดกรองนักเรียน'!H23) | V5: =N('สรุปออมเงิน'!Q14)
B60: ตารางข้อมูลประกอบกราฟ (คำนวณอัตโนมัติ)
B62: เดือน | C62: มาเรียน % | D62: ดื่มนม % | E62: แปรงฟัน % | F62: ทานหมด % | G62: นอนหลับ % | H62: ออกกำลังกาย % | I62: เงินฝาก (บาท) | J62: สูงดีสมส่วน %
B63: พ.ค. | C63: =IFERROR(N('มาเรียน-ภ1'!AI14)/(N('มาเรียน-ภ1'!AI14)+N('มาเรียน-ภ1'!AJ14)+N('มาเรียน-ภ1'!AK14)),"") | D63: =IFERROR(N('ดื่มนม-ภ1'!AI14)/(N('ดื่มนม-ภ1'!AI14)+N('ดื่มนม-ภ1'!AJ14)),"") | E63: =IFERROR(N('แปรงฟัน-ภ1'!AI14)/(N('แปรงฟัน-ภ1'!AI14)+N('แปรงฟัน-ภ1'!AJ14)),"") | F63: =IFERROR(N('อาหารกลางวัน-ภ1'!AI14)/(N('อาหารกลางวัน-ภ1'!AI14)+N('อาหารกลางวัน-ภ1'!AJ14)+N('อาหารกลางวัน-ภ1'!AK14)),"") | G63: =IFERROR(N('นอนกลางวัน-ภ1'!AI14)/(N('นอนกลางวัน-ภ1'!AI14)+N('นอนกลางวัน-ภ1'!AJ14)+N('นอนกลางวัน-ภ1'!AK14)),"") | H63: =IFERROR(N('ออกกำลังกาย-ภ1'!AI14)/(N('ออกกำลังกาย-ภ1'!AI14)+N('ออกกำลังกาย-ภ1'!AJ14)),"") | I63: =N('ออมเงิน-ภ1'!AI14) | J63: =IF('น้ำหนักส่วนสูง'!G31="","",'น้ำหนักส่วนสูง'!G31)
B64: มิ.ย. | C64: =IFERROR(N('มาเรียน-ภ1'!BQ14)/(N('มาเรียน-ภ1'!BQ14)+N('มาเรียน-ภ1'!BR14)+N('มาเรียน-ภ1'!BS14)),"") | D64: =IFERROR(N('ดื่มนม-ภ1'!BQ14)/(N('ดื่มนม-ภ1'!BQ14)+N('ดื่มนม-ภ1'!BR14)),"") | E64: =IFERROR(N('แปรงฟัน-ภ1'!BQ14)/(N('แปรงฟัน-ภ1'!BQ14)+N('แปรงฟัน-ภ1'!BR14)),"") | F64: =IFERROR(N('อาหารกลางวัน-ภ1'!BQ14)/(N('อาหารกลางวัน-ภ1'!BQ14)+N('อาหารกลางวัน-ภ1'!BR14)+N('อาหารกลางวัน-ภ1'!BS14)),"") | G64: =IFERROR(N('นอนกลางวัน-ภ1'!BQ14)/(N('นอนกลางวัน-ภ1'!BQ14)+N('นอนกลางวัน-ภ1'!BR14)+N('นอนกลางวัน-ภ1'!BS14)),"") | H64: =IFERROR(N('ออกกำลังกาย-ภ1'!BQ14)/(N('ออกกำลังกาย-ภ1'!BQ14)+N('ออกกำลังกาย-ภ1'!BR14)),"") | I64: =N('ออมเงิน-ภ1'!BQ14) | J64: =IF('น้ำหนักส่วนสูง'!O31="","",'น้ำหนักส่วนสูง'!O31)
B65: ก.ค. | C65: =IFERROR(N('มาเรียน-ภ1'!CY14)/(N('มาเรียน-ภ1'!CY14)+N('มาเรียน-ภ1'!CZ14)+N('มาเรียน-ภ1'!DA14)),"") | D65: =IFERROR(N('ดื่มนม-ภ1'!CY14)/(N('ดื่มนม-ภ1'!CY14)+N('ดื่มนม-ภ1'!CZ14)),"") | E65: =IFERROR(N('แปรงฟัน-ภ1'!CY14)/(N('แปรงฟัน-ภ1'!CY14)+N('แปรงฟัน-ภ1'!CZ14)),"") | F65: =IFERROR(N('อาหารกลางวัน-ภ1'!CY14)/(N('อาหารกลางวัน-ภ1'!CY14)+N('อาหารกลางวัน-ภ1'!CZ14)+N('อาหารกลางวัน-ภ1'!DA14)),"") | G65: =IFERROR(N('นอนกลางวัน-ภ1'!CY14)/(N('นอนกลางวัน-ภ1'!CY14)+N('นอนกลางวัน-ภ1'!CZ14)+N('นอนกลางวัน-ภ1'!DA14)),"") | H65: =IFERROR(N('ออกกำลังกาย-ภ1'!CY14)/(N('ออกกำลังกาย-ภ1'!CY14)+N('ออกกำลังกาย-ภ1'!CZ14)),"") | I65: =N('ออมเงิน-ภ1'!CY14) | J65: =IF('น้ำหนักส่วนสูง'!W31="","",'น้ำหนักส่วนสูง'!W31)
B66: ส.ค. | C66: =IFERROR(N('มาเรียน-ภ1'!EG14)/(N('มาเรียน-ภ1'!EG14)+N('มาเรียน-ภ1'!EH14)+N('มาเรียน-ภ1'!EI14)),"") | D66: =IFERROR(N('ดื่มนม-ภ1'!EG14)/(N('ดื่มนม-ภ1'!EG14)+N('ดื่มนม-ภ1'!EH14)),"") | E66: =IFERROR(N('แปรงฟัน-ภ1'!EG14)/(N('แปรงฟัน-ภ1'!EG14)+N('แปรงฟัน-ภ1'!EH14)),"") | F66: =IFERROR(N('อาหารกลางวัน-ภ1'!EG14)/(N('อาหารกลางวัน-ภ1'!EG14)+N('อาหารกลางวัน-ภ1'!EH14)+N('อาหารกลางวัน-ภ1'!EI14)),"") | G66: =IFERROR(N('นอนกลางวัน-ภ1'!EG14)/(N('นอนกลางวัน-ภ1'!EG14)+N('นอนกลางวัน-ภ1'!EH14)+N('นอนกลางวัน-ภ1'!EI14)),"") | H66: =IFERROR(N('ออกกำลังกาย-ภ1'!EG14)/(N('ออกกำลังกาย-ภ1'!EG14)+N('ออกกำลังกาย-ภ1'!EH14)),"") | I66: =N('ออมเงิน-ภ1'!EG14) | J66: =IF('น้ำหนักส่วนสูง'!AE31="","",'น้ำหนักส่วนสูง'!AE31)
B67: ก.ย. | C67: =IFERROR(N('มาเรียน-ภ1'!FO14)/(N('มาเรียน-ภ1'!FO14)+N('มาเรียน-ภ1'!FP14)+N('มาเรียน-ภ1'!FQ14)),"") | D67: =IFERROR(N('ดื่มนม-ภ1'!FO14)/(N('ดื่มนม-ภ1'!FO14)+N('ดื่มนม-ภ1'!FP14)),"") | E67: =IFERROR(N('แปรงฟัน-ภ1'!FO14)/(N('แปรงฟัน-ภ1'!FO14)+N('แปรงฟัน-ภ1'!FP14)),"") | F67: =IFERROR(N('อาหารกลางวัน-ภ1'!FO14)/(N('อาหารกลางวัน-ภ1'!FO14)+N('อาหารกลางวัน-ภ1'!FP14)+N('อาหารกลางวัน-ภ1'!FQ14)),"") | G67: =IFERROR(N('นอนกลางวัน-ภ1'!FO14)/(N('นอนกลางวัน-ภ1'!FO14)+N('นอนกลางวัน-ภ1'!FP14)+N('นอนกลางวัน-ภ1'!FQ14)),"") | H67: =IFERROR(N('ออกกำลังกาย-ภ1'!FO14)/(N('ออกกำลังกาย-ภ1'!FO14)+N('ออกกำลังกาย-ภ1'!FP14)),"") | I67: =N('ออมเงิน-ภ1'!FO14) | J67: =IF('น้ำหนักส่วนสูง'!AM31="","",'น้ำหนักส่วนสูง'!AM31)
B68: ต.ค. | C68: =IFERROR(N('มาเรียน-ภ1'!GW14)/(N('มาเรียน-ภ1'!GW14)+N('มาเรียน-ภ1'!GX14)+N('มาเรียน-ภ1'!GY14)),"") | D68: =IFERROR(N('ดื่มนม-ภ1'!GW14)/(N('ดื่มนม-ภ1'!GW14)+N('ดื่มนม-ภ1'!GX14)),"") | E68: =IFERROR(N('แปรงฟัน-ภ1'!GW14)/(N('แปรงฟัน-ภ1'!GW14)+N('แปรงฟัน-ภ1'!GX14)),"") | F68: =IFERROR(N('อาหารกลางวัน-ภ1'!GW14)/(N('อาหารกลางวัน-ภ1'!GW14)+N('อาหารกลางวัน-ภ1'!GX14)+N('อาหารกลางวัน-ภ1'!GY14)),"") | G68: =IFERROR(N('นอนกลางวัน-ภ1'!GW14)/(N('นอนกลางวัน-ภ1'!GW14)+N('นอนกลางวัน-ภ1'!GX14)+N('นอนกลางวัน-ภ1'!GY14)),"") | H68: =IFERROR(N('ออกกำลังกาย-ภ1'!GW14)/(N('ออกกำลังกาย-ภ1'!GW14)+N('ออกกำลังกาย-ภ1'!GX14)),"") | I68: =N('ออมเงิน-ภ1'!GW14) | J68: =IF('น้ำหนักส่วนสูง'!AU31="","",'น้ำหนักส่วนสูง'!AU31)
B69: พ.ย. | C69: =IFERROR(N('มาเรียน-ภ2'!AI14)/(N('มาเรียน-ภ2'!AI14)+N('มาเรียน-ภ2'!AJ14)+N('มาเรียน-ภ2'!AK14)),"") | D69: =IFERROR(N('ดื่มนม-ภ2'!AI14)/(N('ดื่มนม-ภ2'!AI14)+N('ดื่มนม-ภ2'!AJ14)),"") | E69: =IFERROR(N('แปรงฟัน-ภ2'!AI14)/(N('แปรงฟัน-ภ2'!AI14)+N('แปรงฟัน-ภ2'!AJ14)),"") | F69: =IFERROR(N('อาหารกลางวัน-ภ2'!AI14)/(N('อาหารกลางวัน-ภ2'!AI14)+N('อาหารกลางวัน-ภ2'!AJ14)+N('อาหารกลางวัน-ภ2'!AK14)),"") | G69: =IFERROR(N('นอนกลางวัน-ภ2'!AI14)/(N('นอนกลางวัน-ภ2'!AI14)+N('นอนกลางวัน-ภ2'!AJ14)+N('นอนกลางวัน-ภ2'!AK14)),"") | H69: =IFERROR(N('ออกกำลังกาย-ภ2'!AI14)/(N('ออกกำลังกาย-ภ2'!AI14)+N('ออกกำลังกาย-ภ2'!AJ14)),"") | I69: =N('ออมเงิน-ภ2'!AI14) | J69: =IF('น้ำหนักส่วนสูง'!BC31="","",'น้ำหนักส่วนสูง'!BC31)
B70: ธ.ค. | C70: =IFERROR(N('มาเรียน-ภ2'!BQ14)/(N('มาเรียน-ภ2'!BQ14)+N('มาเรียน-ภ2'!BR14)+N('มาเรียน-ภ2'!BS14)),"") | D70: =IFERROR(N('ดื่มนม-ภ2'!BQ14)/(N('ดื่มนม-ภ2'!BQ14)+N('ดื่มนม-ภ2'!BR14)),"") | E70: =IFERROR(N('แปรงฟัน-ภ2'!BQ14)/(N('แปรงฟัน-ภ2'!BQ14)+N('แปรงฟัน-ภ2'!BR14)),"") | F70: =IFERROR(N('อาหารกลางวัน-ภ2'!BQ14)/(N('อาหารกลางวัน-ภ2'!BQ14)+N('อาหารกลางวัน-ภ2'!BR14)+N('อาหารกลางวัน-ภ2'!BS14)),"") | G70: =IFERROR(N('นอนกลางวัน-ภ2'!BQ14)/(N('นอนกลางวัน-ภ2'!BQ14)+N('นอนกลางวัน-ภ2'!BR14)+N('นอนกลางวัน-ภ2'!BS14)),"") | H70: =IFERROR(N('ออกกำลังกาย-ภ2'!BQ14)/(N('ออกกำลังกาย-ภ2'!BQ14)+N('ออกกำลังกาย-ภ2'!BR14)),"") | I70: =N('ออมเงิน-ภ2'!BQ14) | J70: =IF('น้ำหนักส่วนสูง'!BK31="","",'น้ำหนักส่วนสูง'!BK31)
B71: ม.ค. | C71: =IFERROR(N('มาเรียน-ภ2'!CY14)/(N('มาเรียน-ภ2'!CY14)+N('มาเรียน-ภ2'!CZ14)+N('มาเรียน-ภ2'!DA14)),"") | D71: =IFERROR(N('ดื่มนม-ภ2'!CY14)/(N('ดื่มนม-ภ2'!CY14)+N('ดื่มนม-ภ2'!CZ14)),"") | E71: =IFERROR(N('แปรงฟัน-ภ2'!CY14)/(N('แปรงฟัน-ภ2'!CY14)+N('แปรงฟัน-ภ2'!CZ14)),"") | F71: =IFERROR(N('อาหารกลางวัน-ภ2'!CY14)/(N('อาหารกลางวัน-ภ2'!CY14)+N('อาหารกลางวัน-ภ2'!CZ14)+N('อาหารกลางวัน-ภ2'!DA14)),"") | G71: =IFERROR(N('นอนกลางวัน-ภ2'!CY14)/(N('นอนกลางวัน-ภ2'!CY14)+N('นอนกลางวัน-ภ2'!CZ14)+N('นอนกลางวัน-ภ2'!DA14)),"") | H71: =IFERROR(N('ออกกำลังกาย-ภ2'!CY14)/(N('ออกกำลังกาย-ภ2'!CY14)+N('ออกกำลังกาย-ภ2'!CZ14)),"") | I71: =N('ออมเงิน-ภ2'!CY14) | J71: =IF('น้ำหนักส่วนสูง'!BS31="","",'น้ำหนักส่วนสูง'!BS31)
B72: ก.พ. | C72: =IFERROR(N('มาเรียน-ภ2'!EG14)/(N('มาเรียน-ภ2'!EG14)+N('มาเรียน-ภ2'!EH14)+N('มาเรียน-ภ2'!EI14)),"") | D72: =IFERROR(N('ดื่มนม-ภ2'!EG14)/(N('ดื่มนม-ภ2'!EG14)+N('ดื่มนม-ภ2'!EH14)),"") | E72: =IFERROR(N('แปรงฟัน-ภ2'!EG14)/(N('แปรงฟัน-ภ2'!EG14)+N('แปรงฟัน-ภ2'!EH14)),"") | F72: =IFERROR(N('อาหารกลางวัน-ภ2'!EG14)/(N('อาหารกลางวัน-ภ2'!EG14)+N('อาหารกลางวัน-ภ2'!EH14)+N('อาหารกลางวัน-ภ2'!EI14)),"") | G72: =IFERROR(N('นอนกลางวัน-ภ2'!EG14)/(N('นอนกลางวัน-ภ2'!EG14)+N('นอนกลางวัน-ภ2'!EH14)+N('นอนกลางวัน-ภ2'!EI14)),"") | H72: =IFERROR(N('ออกกำลังกาย-ภ2'!EG14)/(N('ออกกำลังกาย-ภ2'!EG14)+N('ออกกำลังกาย-ภ2'!EH14)),"") | I72: =N('ออมเงิน-ภ2'!EG14) | J72: =IF('น้ำหนักส่วนสูง'!CA31="","",'น้ำหนักส่วนสูง'!CA31)
B73: มี.ค. | C73: =IFERROR(N('มาเรียน-ภ2'!FO14)/(N('มาเรียน-ภ2'!FO14)+N('มาเรียน-ภ2'!FP14)+N('มาเรียน-ภ2'!FQ14)),"") | D73: =IFERROR(N('ดื่มนม-ภ2'!FO14)/(N('ดื่มนม-ภ2'!FO14)+N('ดื่มนม-ภ2'!FP14)),"") | E73: =IFERROR(N('แปรงฟัน-ภ2'!FO14)/(N('แปรงฟัน-ภ2'!FO14)+N('แปรงฟัน-ภ2'!FP14)),"") | F73: =IFERROR(N('อาหารกลางวัน-ภ2'!FO14)/(N('อาหารกลางวัน-ภ2'!FO14)+N('อาหารกลางวัน-ภ2'!FP14)+N('อาหารกลางวัน-ภ2'!FQ14)),"") | G73: =IFERROR(N('นอนกลางวัน-ภ2'!FO14)/(N('นอนกลางวัน-ภ2'!FO14)+N('นอนกลางวัน-ภ2'!FP14)+N('นอนกลางวัน-ภ2'!FQ14)),"") | H73: =IFERROR(N('ออกกำลังกาย-ภ2'!FO14)/(N('ออกกำลังกาย-ภ2'!FO14)+N('ออกกำลังกาย-ภ2'!FP14)),"") | I73: =N('ออมเงิน-ภ2'!FO14) | J73: =IF('น้ำหนักส่วนสูง'!CI31="","",'น้ำหนักส่วนสูง'!CI31)
B75: ภาวะโภชนาการ เดือน: | D75: =CHOOSE($L$76,"พฤษภาคม","มิถุนายน","กรกฎาคม","สิงหาคม","กันยายน","ตุลาคม","พฤศจิกายน","ธันวาคม","มกราคม","กุมภาพันธ์","มีนาคม") | L75: (เดือนล่าสุดที่มีข้อมูล)
B76: ภาวะ | C76: จำนวน (คน) | L76: =IFERROR(LOOKUP(2,1/(J63:J73<>""),ROW(J63:J73)-62),1)
B77: ผอม | C77: =CHOOSE($L$76,'น้ำหนักส่วนสูง'!G16,'น้ำหนักส่วนสูง'!O16,'น้ำหนักส่วนสูง'!W16,'น้ำหนักส่วนสูง'!AE16,'น้ำหนักส่วนสูง'!AM16,'น้ำหนักส่วนสูง'!AU16,'น้ำหนักส่วนสูง'!BC16,'น้ำหนักส่วนสูง'!BK16,'น้ำหนักส่วนสูง'!BS16,'น้ำหนักส่วนสูง'!CA16,'น้ำหนักส่วนสูง'!CI16)
B78: ค่อนข้างผอม | C78: =CHOOSE($L$76,'น้ำหนักส่วนสูง'!G17,'น้ำหนักส่วนสูง'!O17,'น้ำหนักส่วนสูง'!W17,'น้ำหนักส่วนสูง'!AE17,'น้ำหนักส่วนสูง'!AM17,'น้ำหนักส่วนสูง'!AU17,'น้ำหนักส่วนสูง'!BC17,'น้ำหนักส่วนสูง'!BK17,'น้ำหนักส่วนสูง'!BS17,'น้ำหนักส่วนสูง'!CA17,'น้ำหนักส่วนสูง'!CI17)
B79: สมส่วน | C79: =CHOOSE($L$76,'น้ำหนักส่วนสูง'!G18,'น้ำหนักส่วนสูง'!O18,'น้ำหนักส่วนสูง'!W18,'น้ำหนักส่วนสูง'!AE18,'น้ำหนักส่วนสูง'!AM18,'น้ำหนักส่วนสูง'!AU18,'น้ำหนักส่วนสูง'!BC18,'น้ำหนักส่วนสูง'!BK18,'น้ำหนักส่วนสูง'!BS18,'น้ำหนักส่วนสูง'!CA18,'น้ำหนักส่วนสูง'!CI18)
B80: ท้วม | C80: =CHOOSE($L$76,'น้ำหนักส่วนสูง'!G19,'น้ำหนักส่วนสูง'!O19,'น้ำหนักส่วนสูง'!W19,'น้ำหนักส่วนสูง'!AE19,'น้ำหนักส่วนสูง'!AM19,'น้ำหนักส่วนสูง'!AU19,'น้ำหนักส่วนสูง'!BC19,'น้ำหนักส่วนสูง'!BK19,'น้ำหนักส่วนสูง'!BS19,'น้ำหนักส่วนสูง'!CA19,'น้ำหนักส่วนสูง'!CI19)
B81: เริ่มอ้วน | C81: =CHOOSE($L$76,'น้ำหนักส่วนสูง'!G20,'น้ำหนักส่วนสูง'!O20,'น้ำหนักส่วนสูง'!W20,'น้ำหนักส่วนสูง'!AE20,'น้ำหนักส่วนสูง'!AM20,'น้ำหนักส่วนสูง'!AU20,'น้ำหนักส่วนสูง'!BC20,'น้ำหนักส่วนสูง'!BK20,'น้ำหนักส่วนสูง'!BS20,'น้ำหนักส่วนสูง'!CA20,'น้ำหนักส่วนสูง'!CI20)
B82: อ้วน | C82: =CHOOSE($L$76,'น้ำหนักส่วนสูง'!G21,'น้ำหนักส่วนสูง'!O21,'น้ำหนักส่วนสูง'!W21,'น้ำหนักส่วนสูง'!AE21,'น้ำหนักส่วนสูง'!AM21,'น้ำหนักส่วนสูง'!AU21,'น้ำหนักส่วนสูง'!BC21,'น้ำหนักส่วนสูง'!BK21,'น้ำหนักส่วนสูง'!BS21,'น้ำหนักส่วนสูง'!CA21,'น้ำหนักส่วนสูง'!CI21)
B85: พัฒนาการ | C85: ดี ภ1 | D85: พอใช้ ภ1 | E85: ปรับปรุง ภ1 | F85: ดี ภ2 | G85: พอใช้ ภ2 | H85: ปรับปรุง ภ2
B86: ร่างกาย | C86: =COUNTIF('ประเมินพัฒนาการ-ภ1'!AH9:AH13,"ดี") | D86: =COUNTIF('ประเมินพัฒนาการ-ภ1'!AH9:AH13,"พอใช้") | E86: =COUNTIF('ประเมินพัฒนาการ-ภ1'!AH9:AH13,"ปรับปรุง") | F86: =COUNTIF('ประเมินพัฒนาการ-ภ2'!AH9:AH13,"ดี") | G86: =COUNTIF('ประเมินพัฒนาการ-ภ2'!AH9:AH13,"พอใช้") | H86: =COUNTIF('ประเมินพัฒนาการ-ภ2'!AH9:AH13,"ปรับปรุง")
B87: อารมณ์ จิตใจ | C87: =COUNTIF('ประเมินพัฒนาการ-ภ1'!AJ9:AJ13,"ดี") | D87: =COUNTIF('ประเมินพัฒนาการ-ภ1'!AJ9:AJ13,"พอใช้") | E87: =COUNTIF('ประเมินพัฒนาการ-ภ1'!AJ9:AJ13,"ปรับปรุง") | F87: =COUNTIF('ประเมินพัฒนาการ-ภ2'!AJ9:AJ13,"ดี") | G87: =COUNTIF('ประเมินพัฒนาการ-ภ2'!AJ9:AJ13,"พอใช้") | H87: =COUNTIF('ประเมินพัฒนาการ-ภ2'!AJ9:AJ13,"ปรับปรุง")
B88: สังคม | C88: =COUNTIF('ประเมินพัฒนาการ-ภ1'!AL9:AL13,"ดี") | D88: =COUNTIF('ประเมินพัฒนาการ-ภ1'!AL9:AL13,"พอใช้") | E88: =COUNTIF('ประเมินพัฒนาการ-ภ1'!AL9:AL13,"ปรับปรุง") | F88: =COUNTIF('ประเมินพัฒนาการ-ภ2'!AL9:AL13,"ดี") | G88: =COUNTIF('ประเมินพัฒนาการ-ภ2'!AL9:AL13,"พอใช้") | H88: =COUNTIF('ประเมินพัฒนาการ-ภ2'!AL9:AL13,"ปรับปรุง")
B89: สติปัญญา | C89: =COUNTIF('ประเมินพัฒนาการ-ภ1'!AN9:AN13,"ดี") | D89: =COUNTIF('ประเมินพัฒนาการ-ภ1'!AN9:AN13,"พอใช้") | E89: =COUNTIF('ประเมินพัฒนาการ-ภ1'!AN9:AN13,"ปรับปรุง") | F89: =COUNTIF('ประเมินพัฒนาการ-ภ2'!AN9:AN13,"ดี") | G89: =COUNTIF('ประเมินพัฒนาการ-ภ2'!AN9:AN13,"พอใช้") | H89: =COUNTIF('ประเมินพัฒนาการ-ภ2'!AN9:AN13,"ปรับปรุง")
B92: ผลคัดกรอง | C92: จำนวน (คน)
B93: ปกติ | C93: =N('คัดกรองนักเรียน'!D23)
B94: เสี่ยง | C94: =N('คัดกรองนักเรียน'!F23)
B95: มีปัญหา | C95: =N('คัดกรองนักเรียน'!H23)

Sheet วิธีใช้
A1: 🏠
A2: หน้าหลัก | B2: อ่านครั้งเดียว ใช้ได้ทั้งปี
B4: ฉบับทดลองใช้ฟรี
B5: • ฉบับนี้ใช้งานได้จริง บันทึกนักเรียนได้ 5 คน และเปิดให้ใช้ 10 เมนูหลัก เมนูที่มีรูปกุญแจใช้ได้ในฉบับเต็ม
B6: • ฉบับเต็ม 120 บาท: นักเรียน 60 คน ครบทุกฟังก์ชัน • สมาชิก VIP 199 บาท จ่ายครั้งเดียว ตลอดชีพ ดาวน์โหลดได้ทุกไฟล์ในกลุ่ม
B7: • สั่งซื้อ / สมัคร VIP: ทักแชทเพจ “ใบงานสื่อการสอน อนุบาล Kun Ton” facebook.com/KunTonKinder (รายละเอียดดูที่หน้า “ฉบับเต็ม”)
B9: ขอบคุณที่เลือกใช้ระบบธุรการชั้นเรียนอนุบาล
B10: • แนะนำให้บันทึกสำเนาไฟล์ (สำรองข้อมูล) เป็นระยะ เช่น ทุกสิ้นเดือน
B11: • ไฟล์นี้สำหรับผู้ซื้อหรือสมาชิกเท่านั้น ขอความร่วมมืองดส่งต่อ แจกจ่าย หรือนำไปจำหน่าย
B12: • มีข้อเสนอแนะหรืออยากให้เพิ่มความสามารถ เช่น แบบฟอร์มที่ต้นสังกัดใช้ หรือส่วนที่ใช้งานยาก แจ้งเราได้เสมอ
B13: • ติดต่อ / แจ้งปัญหา / สั่งซื้อ: ทักแชทเพจ Facebook “ใบงานสื่อการสอน อนุบาล Kun Ton” facebook.com/KunTonKinder
B15: เริ่มต้นใช้งาน (ทำครั้งเดียว)
B16: 1. หน้า “ข้อมูลโรงเรียน” กรอกชื่อโรงเรียน ชั้น ห้อง ครูประจำชั้น ผู้บริหาร และปีการศึกษา
B17: 2. หน้า “ข้อมูลโรงเรียน” ตรวจวันเปิด-ปิดภาคเรียนทั้ง 2 ภาค และรายการวันหยุด (ใส่ค่าปี 2569 ไว้ให้แล้ว)
... B72: • ใช้ 1 ไฟล์ ต่อ 1 ห้องเรียน ต่อ 1 ปีการศึกษา ปีถัดไปให้ใช้ไฟล์ใหม่แล้วเปลี่ยนปีการศึกษา

Sheet ข้อมูลโรงเรียน
A1: 🏠
A2: หน้าหลัก | B2: กรอกช่องสีเหลืองครั้งเดียว ข้อมูลจะไปขึ้นทุกหน้าอัตโนมัติ
B4: ข้อมูลโรงเรียนและชั้นเรียน
B5: ชื่อโรงเรียน
B6: สังกัด / เขตพื้นที่
B7: ระดับชั้น | C7: อนุบาล 2
B8: ห้อง | C8: 1
B9: ครูประจำชั้น
B10: ครูประจำชั้น (คนที่ 2)
B11: ผู้บริหารสถานศึกษา
B12: ปีการศึกษา (พ.ศ.) | C12: 2569
B14: วันเปิด - ปิดภาคเรียน | C14: วันที่ | D14: เดือน | E14: แสดงผล | G14: คำแนะนำ
B15: ภาคเรียนที่ 1 วันเปิดเรียน | C15: 15 | D15: พฤษภาคม | E15: =IF(Z15=0,"ตรวจสอบวันที่!",DAY(Z15)&" "&CHOOSE(MONTH(Z15),"ม.ค.","ก.พ.","มี.ค.","เม.ย.","พ.ค.","มิ.ย.","ก.ค.","ส.ค.","ก.ย.","ต.ค.","พ.ย.","ธ.ค.")&" "&(YEAR(Z15)+543)) | G15: • ปีที่ตรงกับวันหยุดคำนวณให้เอง (พ.ค.–ธ.ค. = ปีการศึกษา, ม.ค.–เม.ย. = ปีถัดไป) | Z15: =IFERROR(DATE(IF(MATCH(D15,{"มกราคม","กุมภาพันธ์","มีนาคม","เมษายน","พฤษภาคม","มิถุนายน","กรกฎาคม","สิงหาคม","กันยายน","ตุลาคม","พฤศจิกายน","ธันวาคม"},0)>=5,$C$12-543,$C$12-542),MATCH(D15,{"มกราคม","กุมภาพันธ์","มีนาคม","เมษายน","พฤษภาคม","มิถุนายน","กรกฎาคม","สิงหาคม","กันยายน","ตุลาคม","พฤศจิกายน","ธันวาคม"},0),C15),0)
B16: ภาคเรียนที่ 1 วันปิดภาค | C16: 9 | D16: ตุลาคม | E16: =IF(Z16=0,"ตรวจสอบวันที่!",DAY(Z16)&" "&CHOOSE(MONTH(Z16),"ม.ค.","ก.พ.","มี.ค.","เม.ย.","พ.ค.","มิ.ย.","ก.ค.","ส.ค.","ก.ย.","ต.ค.","พ.ย.","ธ.ค.")&" "&(YEAR(Z16)+543)) | G16: • วันหยุดจะขึ้นเป็นแถบสีแดงพร้อมชื่อในทุกแบบบันทึก | Z16: =IFERROR(DATE(IF(MATCH(D16,{"มกราคม","กุมภาพันธ์","มีนาคม","เมษายน","พฤษภาคม","มิถุนายน","กรกฎาคม","สิงหาคม","กันยายน","ตุลาคม","พฤศจิกายน","ธันวาคม"},0)>=5,$C$12-543,$C$12-542),MATCH(D16,{"มกราคม","กุมภาพันธ์","มีนาคม","เมษายน","พฤษภาคม","มิถุนายน","กรกฎาคม","สิงหาคม","กันยายน","ตุลาคม","พฤศจิกายน","ธันวาคม"},0),C16),0)
B17: ภาคเรียนที่ 2 วันเปิดเรียน | C17: 2 | D17: พฤศจิกายน | E17: =IF(Z17=0,"ตรวจสอบวันที่!",DAY(Z17)&" "&CHOOSE(MONTH(Z17),"ม.ค.","ก.พ.","มี.ค.","เม.ย.","พ.ค.","มิ.ย.","ก.ค.","ส.ค.","ก.ย.","ต.ค.","พ.ย.","ธ.ค.")&" "&(YEAR(Z17)+543)) | G17: • วันเสาร์-อาทิตย์เป็นสีเทาอัตโนมัติ ไม่ต้องใส่ | Z17: =IFERROR(DATE(IF(MATCH(D17,{"มกราคม","กุมภาพันธ์","มีนาคม","เมษายน","พฤษภาคม","มิถุนายน","กรกฎาคม","สิงหาคม","กันยายน","ตุลาคม","พฤศจิกายน","ธันวาคม"},0)>=5,$C$12-543,$C$12-542),MATCH(D17,{"มกราคม","กุมภาพันธ์","มีนาคม","เมษายน","พฤษภาคม","มิถุนายน","กรกฎาคม","สิงหาคม","กันยายน","ตุลาคม","พฤศจิกายน","ธันวาคม"},0),C17),0)
B18: ภาคเรียนที่ 2 วันปิดภาค | C18: 31 | D18: มีนาคม | E18: =IF(Z18=0,"ตรวจสอบวันที่!",DAY(Z18)&" "&CHOOSE(MONTH(Z18),"ม.ค.","ก.พ.","มี.ค.","เม.ย.","พ.ค.","มิ.ย.","ก.ค.","ส.ค.","ก.ย.","ต.ค.","พ.ย.","ธ.ค.")&" "&(YEAR(Z18)+543)) | G18: • วันพระทางจันทรคติเปลี่ยนทุกปี ตรวจสอบกับประกาศของทางราชการ | Z18: =IFERROR(DATE(IF(MATCH(D18,{"มกราคม","กุมภาพันธ์","มีนาคม","เมษายน","พฤษภาคม","มิถุนายน","กรกฎาคม","สิงหาคม","กันยายน","ตุลาคม","พฤศจิกายน","ธันวาคม"},0)>=5,$C$12-543,$C$12-542),MATCH(D18,{"มกราคม","กุมภาพันธ์","มีนาคม","เมษายน","พฤษภาคม","มิถุนายน","กรกฎาคม","สิงหาคม","กันยายน","ตุลาคม","พฤศจิกายน","ธันวาคม"},0),C18),0)
G19: • วันหยุดพิเศษของโรงเรียน (เช่น กีฬาสี ปิดซ่อม) เพิ่มได้ที่แถวว่าง
B20: วันหยุดระหว่างปีการศึกษา | G20: • ค่าเริ่มต้นเป็นวันหยุดปีการศึกษา 2569
B21: ชื่อวันหยุด | C21: วันที่ | D21: เดือน | E21: แสดงผล
B22: ชดเชยวันวิสาขบูชา | C22: 1 | D22: มิถุนายน | E22: =IF(Z22=0,"",DAY(Z22)&" "&CHOOSE(MONTH(Z22),"ม.ค.","ก.พ.","มี.ค.","เม.ย.","พ.ค.","มิ.ย.","ก.ค.","ส.ค.","ก.ย.","ต.ค.","พ.ย.","ธ.ค.")&" "&(YEAR(Z22)+543)) | Z22: =IF(OR(C22="",D22=""),0,IFERROR(DATE(IF(MATCH(D22,{"มกราคม","กุมภาพันธ์","มีนาคม","เมษายน","พฤษภาคม","มิถุนายน","กรกฎาคม","สิงหาคม","กันยายน","ตุลาคม","พฤศจิกายน","ธันวาคม"},0)>=5,$C$12-543,$C$12-542),MATCH(D22,{"มกราคม","กุมภาพันธ์","มีนาคม","เมษายน","พฤษภาคม","มิถุนายน","กรกฎาคม","สิงหาคม","กันยายน","ตุลาคม","พฤศจิกายน","ธันวาคม"},0),C22),0))
B23: วันเฉลิมฯ พระราชินี | C23: 3 | D23: มิถุนายน | E23: =IF(Z23=0,"",DAY(Z23)&" "&CHOOSE(MONTH(Z23),"ม.ค.","ก.พ.","มี.ค.","เม.ย.","พ.ค.","มิ.ย.","ก.ค.","ส.ค.","ก.ย.","ต.ค.","พ.ย.","ธ.ค.")&" "&(YEAR(Z23)+543)) | Z23: =IF(OR(C23="",D23=""),0,IFERROR(DATE(IF(MATCH(D23,{"มกราคม","กุมภาพันธ์","มีนาคม","เมษายน","พฤษภาคม","มิถุนายน","กรกฎาคม","สิงหาคม","กันยายน","ตุลาคม","พฤศจิกายน","ธันวาคม"},0)>=5,$C$12-543,$C$12-542),MATCH(D23,{"มกราคม","กุมภาพันธ์","มีนาคม","เมษายน","พฤษภาคม","มิถุนายน","กรกฎาคม","สิงหาคม","กันยายน","ตุลาคม","พฤศจิกายน","ธันวาคม"},0),C23),0))
B24: วันเฉลิมฯ ร.10 | C24: 28 | D24: กรกฎาคม | E24: =IF(Z24=0,"",DAY(Z24)&" "&CHOOSE(MONTH(Z24),"ม.ค.","ก.พ.","มี.ค.","เม.ย.","พ.ค.","มิ.ย.","ก.ค.","ส.ค.","ก.ย.","ต.ค.","พ.ย.","ธ.ค.")&" "&(YEAR(Z24)+543)) | Z24: =IF(OR(C24="",D24=""),0,IFERROR(DATE(IF(MATCH(D24,{"มกราคม","กุมภาพันธ์","มีนาคม","เมษายน","พฤษภาคม","มิถุนายน","กรกฎาคม","สิงหาคม","กันยายน","ตุลาคม","พฤศจิกายน","ธันวาคม"},0)>=5,$C$12-543,$C$12-542),MATCH(D24,{"มกราคม","กุมภาพันธ์","มีนาคม","เมษายน","พฤษภาคม","มิถุนายน","กรกฎาคม","สิงหาคม","กันยายน","ตุลาคม","พฤศจิกายน","ธันวาคม"},0),C24),0))
B25: วันอาสาฬหบูชา | C25: 29 | D25: กรกฎาคม | E25: =IF(Z25=0,"",DAY(Z25)&" "&CHOOSE(MONTH(Z25),"ม.ค.","ก.พ.","มี.ค.","เม.ย.","พ.ค.","มิ.ย.","ก.ค.","ส.ค.","ก.ย.","ต.ค.","พ.ย.","ธ.ค.")&" "&(YEAR(Z25)+543)) | Z25: =IF(OR(C25="",D25=""),0,IFERROR(DATE(IF(MATCH(D25,{"มกราคม","กุมภาพันธ์","มีนาคม","เมษายน","พฤษภาคม","มิถุนายน","กรกฎาคม","สิงหาคม","กันยายน","ตุลาคม","พฤศจิกายน","ธันวาคม"},0)>=5,$C$12-543,$C$12-542),MATCH(D25,{"มกราคม","กุมภาพันธ์","มีนาคม","เมษายน","พฤษภาคม","มิถุนายน","กรกฎาคม","สิงหาคม","กันยายน","ตุลาคม","พฤศจิกายน","ธันวาคม"},0),C25),0))
B26: วันเข้าพรรษา | C26: 30 | D26: กรกฎาคม | E26: =IF(Z26=0,"",DAY(Z26)&" "&CHOOSE(MONTH(Z26),"ม.ค.","ก.พ.","มี.ค.","เม.ย.","พ.ค.","มิ.ย.","ก.ค.","ส.ค.","ก.ย.","ต.ค.","พ.ย.","ธ.ค.")&" "&(YEAR(Z26)+543)) | Z26: =IF(OR(C26="",D26=""),0,IFERROR(DATE(IF(MATCH(D26,{"มกราคม","กุมภาพันธ์","มีนาคม","เมษายน","พฤษภาคม","มิถุนายน","กรกฎาคม","สิงหาคม","กันยายน","ตุลาคม","พฤศจิกายน","ธันวาคม"},0)>=5,$C$12-543,$C$12-542),MATCH(D26,{"มกราคม","กุมภาพันธ์","มีนาคม","เมษายน","พฤษภาคม","มิถุนายน","กรกฎาคม","สิงหาคม","กันยายน","ตุลาคม","พฤศจิกายน","ธันวาคม"},0),C26),0))
B27: วันแม่แห่งชาติ | C27: 12 | D27: สิงหาคม | E27: =IF(Z27=0,"",DAY(Z27)&" "&CHOOSE(MONTH(Z27),"ม.ค.","ก.พ.","มี.ค.","เม.ย.","พ.ค.","มิ.ย.","ก.ค.","ส.ค.","ก.ย.","ต.ค.","พ.ย.","ธ.ค.")&" "&(YEAR(Z27)+543)) | Z27: =IF(OR(C27="",D27=""),0,IFERROR(DATE(IF(MATCH(D27,{"มกราคม","กุมภาพันธ์","มีนาคม","เมษายน","พฤษภาคม","มิถุนายน","กรกฎาคม","สิงหาคม","กันยายน","ตุลาคม","พฤศจิกายน","ธันวาคม"},0)>=5,$C$12-543,$C$12-542),MATCH(D27,{"มกราคม","กุมภาพันธ์","มีนาคม","เมษายน","พฤษภาคม","มิถุนายน","กรกฎาคม","สิงหาคม","กันยายน","ตุลาคม","พฤศจิกายน","ธันวาคม"},0),C27),0))
B28: วันนวมินทรมหาราช | C28: 13 | D28: ตุลาคม | E28: =IF(Z28=0,"",DAY(Z28)&" "&CHOOSE(MONTH(Z28),"ม.ค.","ก.พ.","มี.ค.","เม.ย.","พ.ค.","มิ.ย.","ก.ค.","ส.ค.","ก.ย.","ต.ค.","พ.ย.","ธ.ค.")&" "&(YEAR(Z28)+543)) | Z28: =IF(OR(C28="",D28=""),0,IFERROR(DATE(IF(MATCH(D28,{"มกราคม","กุมภาพันธ์","มีนาคม","เมษายน","พฤษภาคม","มิถุนายน","กรกฎาคม","สิงหาคม","กันยายน","ตุลาคม","พฤศจิกายน","ธันวาคม"},0)>=5,$C$12-543,$C$12-542),MATCH(D28,{"มกราคม","กุมภาพันธ์","มีนาคม","เมษายน","พฤษภาคม","มิถุนายน","กรกฎาคม","สิงหาคม","กันยายน","ตุลาคม","พฤศจิกายน","ธันวาคม"},0),C28),0))
B29: วันปิยมหาราช | C29: 23 | D29: ตุลาคม | E29: =IF(Z29=0,"",DAY(Z29)&" "&CHOOSE(MONTH(Z29),"ม.ค.","ก.พ.","มี.ค.","เม.ย.","พ.ค.","มิ.ย.","ก.ค.","ส.ค.","ก.ย.","ต.ค.","พ.ย.","ธ.ค.")&" "&(YEAR(Z29)+543)) | Z29: =IF(OR(C29="",D29=""),0,IFERROR(DATE(IF(MATCH(D29,{"มกราคม","กุมภาพันธ์","มีนาคม","เมษายน","พฤษภาคม","มิถุนายน","กรกฎาคม","สิงหาคม","กันยายน","ตุลาคม","พฤศจิกายน","ธันวาคม"},0)>=5,$C$12-543,$C$12-542),MATCH(D29,{"มกราคม","กุมภาพันธ์","มีนาคม","เมษายน","พฤษภาคม","มิถุนายน","กรกฎาคม","สิงหาคม","กันยายน","ตุลาคม","พฤศจิกายน","ธันวาคม"},0),C29),0))
B30: ชดเชยวันพ่อแห่งชาติ | C30: 7 | D30: ธันวาคม | E30: =IF(Z30=0,"",DAY(Z30)&" "&CHOOSE(MONTH(Z30),"ม.ค.","ก.พ.","มี.ค.","เม.ย.","พ.ค.","มิ.ย.","ก.ค.","ส.ค.","ก.ย.","ต.ค.","พ.ย.","ธ.ค.")&" "&(YEAR(Z30)+543)) | Z30: =IF(OR(C30="",D30=""),0,IFERROR(DATE(IF(MATCH(D30,{"มกราคม","กุมภาพันธ์","มีนาคม","เมษายน","พฤษภาคม","มิถุนายน","กรกฎาคม","สิงหาคม","กันยายน","ตุลาคม","พฤศจิกายน","ธันวาคม"},0)>=5,$C$12-543,$C$12-542),MATCH(D30,{"มกราคม","กุมภาพันธ์","มีนาคม","เมษายน","พฤษภาคม","มิถุนายน","กรกฎาคม","สิงหาคม","กันยายน","ตุลาคม","พฤศจิกายน","ธันวาคม"},0),C30),0))
B31: วันรัฐธรรมนูญ | C31: 10 | D31: ธันวาคม | E31: =IF(Z31=0,"",DAY(Z31)&" "&CHOOSE(MONTH(Z31),"ม.ค.","ก.พ.","มี.ค.","เม.ย.","พ.ค.","มิ.ย.","ก.ค.","ส.ค.","ก.ย.","ต.ค.","พ.ย.","ธ.ค.")&" "&(YEAR(Z31)+543)) | Z31: =IF(OR(C31="",D31=""),0,IFERROR(DATE(IF(MATCH(D31,{"มกราคม","กุมภาพันธ์","มีนาคม","เมษายน","พฤษภาคม","มิถุนายน","กรกฎาคม","สิงหาคม","กันยายน","ตุลาคม","พฤศจิกายน","ธันวาคม"},0)>=5,$C$12-543,$C$12-542),MATCH(D31,{"มกราคม","กุมภาพันธ์","มีนาคม","เมษายน","พฤษภาคม","มิถุนายน","กรกฎาคม","สิงหาคม","กันยายน","ตุลาคม","พฤศจิกายน","ธันวาคม"},0),C31),0))
B32: วันสิ้นปี | C32: 31 | D32: ธันวาคม | E32: =IF(Z32=0,"",DAY(Z32)&" "&CHOOSE(MONTH(Z32),"ม.ค.","ก.พ.","มี.ค.","เม.ย.","พ.ค.","มิ.ย.","ก.ค.","ส.ค.","ก.ย.","ต.ค.","พ.ย.","ธ.ค.")&" "&(YEAR(Z32)+543)) | Z32: =IF(OR(C32="",D32=""),0,IFERROR(DATE(IF(MATCH(D32,{"มกราคม","กุมภาพันธ์","มีนาคม","เมษายน","พฤษภาคม","มิถุนายน","กรกฎาคม","สิงหาคม","กันยายน","ตุลาคม","พฤศจิกายน","ธันวาคม"},0)>=5,$C$12-543,$C$12-542),MATCH(D32,{"มกราคม","กุมภาพันธ์","มีนาคม","เมษายน","พฤษภาคม","มิถุนายน","กรกฎาคม","สิงหาคม","กันยายน","ตุลาคม","พฤศจิกายน","ธันวาคม"},0),C32),0))
B33: วันขึ้นปีใหม่ | C33: 1 | D33: มกราคม | E33: =IF(Z33=0,"",DAY(Z33)&" "&CHOOSE(MONTH(Z33),"ม.ค.","ก.พ.","มี.ค.","เม.ย.","พ.ค.","มิ.ย.","ก.ค.","ส.ค.","ก.ย.","ต.ค.","พ.ย.","ธ.ค.")&" "&(YEAR(Z33)+543)) | Z33: =IF(OR(C33="",D33=""),0,IFERROR(DATE(IF(MATCH(D33,{"มกราคม","กุมภาพันธ์","มีนาคม","เมษายน","พฤษภาคม","มิถุนายน","กรกฎาคม","สิงหาคม","กันยายน","ตุลาคม","พฤศจิกายน","ธันวาคม"},0)>=5,$C$12-543,$C$12-542),MATCH(D33,{"มกราคม","กุมภาพันธ์","มีนาคม","เมษายน","พฤษภาคม","มิถุนายน","กรกฎาคม","สิงหาคม","กันยายน","ตุลาคม","พฤศจิกายน","ธันวาคม"},0),C33),0))
B34: วันครู | C34: 16 | D34: มกราคม | E34: =IF(Z34=0,"",DAY(Z34)&" "&CHOOSE(MONTH(Z34),"ม.ค.","ก.พ.","มี.ค.","เม.ย.","พ.ค.","มิ.ย.","ก.ค.","ส.ค.","ก.ย.","ต.ค.","พ.ย.","ธ.ค.")&" "&(YEAR(Z34)+543)) | Z34: =IF(OR(C34="",D34=""),0,IFERROR(DATE(IF(MATCH(D34,{"มกราคม","กุมภาพันธ์","มีนาคม","เมษายน","พฤษภาคม","มิถุนายน","กรกฎาคม","สิงหาคม","กันยายน","ตุลาคม","พฤศจิกายน","ธันวาคม"},0)>=5,$C$12-543,$C$12-542),MATCH(D34,{"มกราคม","กุมภาพันธ์","มีนาคม","เมษายน","พฤษภาคม","มิถุนายน","กรกฎาคม","สิงหาคม","กันยายน","ตุลาคม","พฤศจิกายน","ธันวาคม"},0),C34),0))
B35: วันมาฆบูชา (ใส่วันที่) | E35: =IF(Z35=0,"",DAY(Z35)&" "&CHOOSE(MONTH(Z35),"ม.ค.","ก.พ.","มี.ค.","เม.ย.","พ.ค.","มิ.ย.","ก.ค.","ส.ค.","ก.ย.","ต.ค.","พ.ย.","ธ.ค.")&" "&(YEAR(Z35)+543)) | Z35: =IF(OR(C35="",D35=""),0,IFERROR(DATE(IF(MATCH(D35,{"มกราคม","กุมภาพันธ์","มีนาคม","เมษายน","พฤษภาคม","มิถุนายน","กรกฎาคม","สิงหาคม","กันยายน","ตุลาคม","พฤศจิกายน","ธันวาคม"},0)>=5,$C$12-543,$C$12-542),MATCH(D35,{"มกราคม","กุมภาพันธ์","มีนาคม","เมษายน","พฤษภาคม","มิถุนายน","กรกฎาคม","สิงหาคม","กันยายน","ตุลาคม","พฤศจิกายน","ธันวาคม"},0),C35),0))
E36: =IF(Z36=0,"",DAY(Z36)&" "&CHOOSE(MONTH(Z36),"ม.ค.","ก.พ.","มี.ค.","เม.ย.","พ.ค.","มิ.ย.","ก.ค.","ส.ค.","ก.ย.","ต.ค.","พ.ย.","ธ.ค.")&" "&(YEAR(Z36)+543)) | Z36: =IF(OR(C36="",D36=""),0,IFERROR(DATE(IF(MATCH(D36,{"มกราคม","กุมภาพันธ์","มีนาคม","เมษายน","พฤษภาคม","มิถุนายน","กรกฎาคม","สิงหาคม","กันยายน","ตุลาคม","พฤศจิกายน","ธันวาคม"},0)>=5,$C$12-543,$C$12-542),MATCH(D36,{"มกราคม","กุมภาพันธ์","มีนาคม","เมษายน","พฤษภาคม","มิถุนายน","กรกฎาคม","สิงหาคม","กันยายน","ตุลาคม","พฤศจิกายน","ธันวาคม"},0),C36),0))
E37: =IF(Z37=0,"",DAY(Z37)&" "&CHOOSE(MONTH(Z37),"ม.ค.","ก.พ.","มี.ค.","เม.ย.","พ.ค.","มิ.ย.","ก.ค.","ส.ค.","ก.ย.","ต.ค.","พ.ย.","ธ.ค.")&" "&(YEAR(Z37)+543)) | Z37: =IF(OR(C37="",D37=""),0,IFERROR(DATE(IF(MATCH(D37,{"มกราคม","กุมภาพันธ์","มีนาคม","เมษายน","พฤษภาคม","มิถุนายน","กรกฎาคม","สิงหาคม","กันยายน","ตุลาคม","พฤศจิกายน","ธันวาคม"},0)>=5,$C$12-543,$C$12-542),MATCH(D37,{"มกราคม","กุมภาพันธ์","มีนาคม","เมษายน","พฤษภาคม","มิถุนายน","กรกฎาคม","สิงหาคม","กันยายน","ตุลาคม","พฤศจิกายน","ธันวาคม"},0),C37),0))
E38: =IF(Z38=0,"",DAY(Z38)&" "&CHOOSE(MONTH(Z38),"ม.ค.","ก.พ.","มี.ค.","เม.ย.","พ.ค.","มิ.ย.","ก.ค.","ส.ค.","ก.ย.","ต.ค.","พ.ย.","ธ.ค.")&" "&(YEAR(Z38)+543)) | Z38: =IF(OR(C38="",D38=""),0,IFERROR(DATE(IF(MATCH(D38,{"มกราคม","กุมภาพันธ์","มีนาคม","เมษายน","พฤษภาคม","มิถุนายน","กรกฎาคม","สิงหาคม","กันยายน","ตุลาคม","พฤศจิกายน","ธันวาคม"},0)>=5,$C$12-543,$C$12-542),MATCH(D38,{"มกราคม","กุมภาพันธ์","มีนาคม","เมษายน","พฤษภาคม","มิถุนายน","กรกฎาคม","สิงหาคม","กันยายน","ตุลาคม","พฤศจิกายน","ธันวาคม"},0),C38),0))
E39: =IF(Z39=0,"",DAY(Z39)&" "&CHOOSE(MONTH(Z39),"ม.ค.","ก.พ.","มี.ค.","เม.ย.","พ.ค.","มิ.ย.","ก.ค.","ส.ค.","ก.ย.","ต.ค.","พ.ย.","ธ.ค.")&" "&(YEAR(Z39)+543)) | Z39: =IF(OR(C39="",D39=""),0,IFERROR(DATE(IF(MATCH(D39,{"มกราคม","กุมภาพันธ์","มีนาคม","เมษายน","พฤษภาคม","มิถุนายน","กรกฎาคม","สิงหาคม","กันยายน","ตุลาคม","พฤศจิกายน","ธันวาคม"},0)>=5,$C$12-543,$C$12-542),MATCH(D39,{"มกราคม","กุมภาพันธ์","มีนาคม","เมษายน","พฤษภาคม","มิถุนายน","กรกฎาคม","สิงหาคม","กันยายน","ตุลาคม","พฤศจิกายน","ธันวาคม"},0),C39),0))
E40: =IF(Z40=0,"",DAY(Z40)&" "&CHOOSE(MONTH(Z40),"ม.ค.","ก.พ.","มี.ค.","เม.ย.","พ.ค.","มิ.ย.","ก.ค.","ส.ค.","ก.ย.","ต.ค.","พ.ย.","ธ.ค.")&" "&(YEAR(Z40)+543)) | Z40: =IF(OR(C40="",D40=""),0,IFERROR(DATE(IF(MATCH(D40,{"มกราคม","กุมภาพันธ์","มีนาคม","เมษายน","พฤษภาคม","มิถุนายน","กรกฎาคม","สิงหาคม","กันยายน","ตุลาคม","พฤศจิกายน","ธันวาคม"},0)>=5,$C$12-543,$C$12-542),MATCH(D40,{"มกราคม","กุมภาพันธ์","มีนาคม","เมษายน","พฤษภาคม","มิถุนายน","กรกฎาคม","สิงหาคม","กันยายน","ตุลาคม","พฤศจิกายน","ธันวาคม"},0),C40),0))
E41: =IF(Z41=0,"",DAY(Z41)&" "&CHOOSE(MONTH(Z41),"ม.ค.","ก.พ.","มี.ค.","เม.ย.","พ.ค.","มิ.ย.","ก.ค.","ส.ค.","ก.ย.","ต.ค.","พ.ย.","ธ.ค.")&" "&(YEAR(Z41)+543)) | Z41: =IF(OR(C41="",D41=""),0,IFERROR(DATE(IF(MATCH(D41,{"มกราคม","กุมภาพันธ์","มีนาคม","เมษายน","พฤษภาคม","มิถุนายน","กรกฎาคม","สิงหาคม","กันยายน","ตุลาคม","พฤศจิกายน","ธันวาคม"},0)>=5,$C$12-543,$C$12-542),MATCH(D41,{"มกราคม","กุมภาพันธ์","มีนาคม","เมษายน","พฤษภาคม","มิถุนายน","กรกฎาคม","สิงหาคม","กันยายน","ตุลาคม","พฤศจิกายน","ธันวาคม"},0),C41),0))
E42: =IF(Z42=0,"",DAY(Z42)&" "&CHOOSE(MONTH(Z42),"ม.ค.","ก.พ.","มี.ค.","เม.ย.","พ.ค.","มิ.ย.","ก.ค.","ส.ค.","ก.ย.","ต.ค.","พ.ย.","ธ.ค.")&" "&(YEAR(Z42)+543)) | Z42: =IF(OR(C42="",D42=""),0,IFERROR(DATE(IF(MATCH(D42,{"มกราคม","กุมภาพันธ์","มีนาคม","เมษายน","พฤษภาคม","มิถุนายน","กรกฎาคม","สิงหาคม","กันยายน","ตุลาคม","พฤศจิกายน","ธันวาคม"},0)>=5,$C$12-543,$C$12-542),MATCH(D42,{"มกราคม","กุมภาพันธ์","มีนาคม","เมษายน","พฤษภาคม","มิถุนายน","กรกฎาคม","สิงหาคม","กันยายน","ตุลาคม","พฤศจิกายน","ธันวาคม"},0),C42),0))
E43: =IF(Z43=0,"",DAY(Z43)&" "&CHOOSE(MONTH(Z43),"ม.ค.","ก.พ.","มี.ค.","เม.ย.","พ.ค.","มิ.ย.","ก.ค.","ส.ค.","ก.ย.","ต.ค.","พ.ย.","ธ.ค.")&" "&(YEAR(Z43)+543)) | Z43: =IF(OR(C43="",D43=""),0,IFERROR(DATE(IF(MATCH(D43,{"มกราคม","กุมภาพันธ์","มีนาคม","เมษายน","พฤษภาคม","มิถุนายน","กรกฎาคม","สิงหาคม","กันยายน","ตุลาคม","พฤศจิกายน","ธันวาคม"},0)>=5,$C$12-543,$C$12-542),MATCH(D43,{"มกราคม","กุมภาพันธ์","มีนาคม","เมษายน","พฤษภาคม","มิถุนายน","กรกฎาคม","สิงหาคม","กันยายน","ตุลาคม","พฤศจิกายน","ธันวาคม"},0),C43),0))
E44: =IF(Z44=0,"",DAY(Z44)&" "&CHOOSE(MONTH(Z44),"ม.ค.","ก.พ.","มี.ค.","เม.ย.","พ.ค.","มิ.ย.","ก.ค.","ส.ค.","ก.ย.","ต.ค.","พ.ย.","ธ.ค.")&" "&(YEAR(Z44)+543)) | Z44: =IF(OR(C44="",D44=""),0,IFERROR(DATE(IF(MATCH(D44,{"มกราคม","กุมภาพันธ์","มีนาคม","เมษายน","พฤษภาคม","มิถุนายน","กรกฎาคม","สิงหาคม","กันยายน","ตุลาคม","พฤศจิกายน","ธันวาคม"},0)>=5,$C$12-543,$C$12-542),MATCH(D44,{"มกราคม","กุมภาพันธ์","มีนาคม","เมษายน","พฤษภาคม","มิถุนายน","กรกฎาคม","สิงหาคม","กันยายน","ตุลาคม","พฤศจิกายน","ธันวาคม"},0),C44),0))
E45: =IF(Z45=0,"",DAY(Z45)&" "&CHOOSE(MONTH(Z45),"ม.ค.","ก.พ.","มี.ค.","เม.ย.","พ.ค.","มิ.ย.","ก.ค.","ส.ค.","ก.ย.","ต.ค.","พ.ย.","ธ.ค.")&" "&(YEAR(Z45)+543)) | Z45: =IF(OR(C45="",D45=""),0,IFERROR(DATE(IF(MATCH(D45,{"มกราคม","กุมภาพันธ์","มีนาคม","เมษายน","พฤษภาคม","มิถุนายน","กรกฎาคม","สิงหาคม","กันยายน","ตุลาคม","พฤศจิกายน","ธันวาคม"},0)>=5,$C$12-543,$C$12-542),MATCH(D45,{"มกราคม","กุมภาพันธ์","มีนาคม","เมษายน","พฤษภาคม","มิถุนายน","กรกฎาคม","สิงหาคม","กันยายน","ตุลาคม","พฤศจิกายน","ธันวาคม"},0),C45),0))
E46: =IF(Z46=0,"",DAY(Z46)&" "&CHOOSE(MONTH(Z46),"ม.ค.","ก.พ.","มี.ค.","เม.ย.","พ.ค.","มิ.ย.","ก.ค.","ส.ค.","ก.ย.","ต.ค.","พ.ย.","ธ.ค.")&" "&(YEAR(Z46)+543)) | Z46: =IF(OR(C46="",D46=""),0,IFERROR(DATE(IF(MATCH(D46,{"มกราคม","กุมภาพันธ์","มีนาคม","เมษายน","พฤษภาคม","มิถุนายน","กรกฎาคม","สิงหาคม","กันยายน","ตุลาคม","พฤศจิกายน","ธันวาคม"},0)>=5,$C$12-543,$C$12-542),MATCH(D46,{"มกราคม","กุมภาพันธ์","มีนาคม","เมษายน","พฤษภาคม","มิถุนายน","กรกฎาคม","สิงหาคม","กันยายน","ตุลาคม","พฤศจิกายน","ธันวาคม"},0),C46),0))
E47: =IF(Z47=0,"",DAY(Z47)&" "&CHOOSE(MONTH(Z47),"ม.ค.","ก.พ.","มี.ค.","เม.ย.","พ.ค.","มิ.ย.","ก.ค.","ส.ค.","ก.ย.","ต.ค.","พ.ย.","ธ.ค.")&" "&(YEAR(Z47)+543)) | Z47: =IF(OR(C47="",D47=""),0,IFERROR(DATE(IF(MATCH(D47,{"มกราคม","กุมภาพันธ์","มีนาคม","เมษายน","พฤษภาคม","มิถุนายน","กรกฎาคม","สิงหาคม","กันยายน","ตุลาคม","พฤศจิกายน","ธันวาคม"},0)>=5,$C$12-543,$C$12-542),MATCH(D47,{"มกราคม","กุมภาพันธ์","มีนาคม","เมษายน","พฤษภาคม","มิถุนายน","กรกฎาคม","สิงหาคม","กันยายน","ตุลาคม","พฤศจิกายน","ธันวาคม"},0),C47),0))
... E61: =IF(Z61=0,"",DAY(Z61)&" "&CHOOSE(MONTH(Z61),"ม.ค.","ก.พ.","มี.ค.","เม.ย.","พ.ค.","มิ.ย.","ก.ค.","ส.ค.","ก.ย.","ต.ค.","พ.ย.","ธ.ค.")&" "&(YEAR(Z61)+543)) | Z61: =IF(OR(C61="",D61=""),0,IFERROR(DATE(IF(MATCH(D61,{"มกราคม","กุมภาพันธ์","มีนาคม","เมษายน","พฤษภาคม","มิถุนายน","กรกฎาคม","สิงหาคม","กันยายน","ตุลาคม","พฤศจิกายน","ธันวาคม"},0)>=5,$C$12-543,$C$12-542),MATCH(D61,{"มกราคม","กุมภาพันธ์","มีนาคม","เมษายน","พฤษภาคม","มิถุนายน","กรกฎาคม","สิงหาคม","กันยายน","ตุลาคม","พฤศจิกายน","ธันวาคม"},0),C61),0))

Sheet ข้อมูลนักเรียน
A1: 🏠
A2: หน้าหลัก | B2: ="โรงเรียน"&'ข้อมูลโรงเรียน'!$C$5&" ชั้น"&'ข้อมูลโรงเรียน'!$C$7&"/"&'ข้อมูลโรงเรียน'!$C$8&" ปีการศึกษา "&'ข้อมูลโรงเรียน'!$C$12&" ครูประจำชั้น "&'ข้อมูลโรงเรียน'!$C$9
B3: ฉบับทดลองใช้: บันทึกได้ 5 คน (ฉบับเต็ม 60 คน) • กรอกรายชื่อตั้งแต่เลขที่ 1 • แถวสีเทาเป็นตัวอย่าง (ไม่นับในการสรุป) • ชื่อจะไปขึ้นทุกแบบบันทึกอัตโนมัติ
A5: เลขที่ | B5: เลขประจำตัว | C5: เลขบัตรประชาชน | D5: คำนำหน้า | E5: ชื่อ | F5: นามสกุล | G5: ชื่อเล่น | H5: วันเกิด (วันที่) | I5: เดือนเกิด | J5: ปีเกิด (พ.ศ.) | K5: อายุ (ถึงวันนี้) | L5: กรุ๊ป เลือด | M5: โรคประจำตัว / แพ้อาหาร-ยา | N5: ชื่อ-สกุลผู้ปกครอง | O5: เกี่ยวข้อง เป็น | P5: เบอร์โทรศัพท์ | Q5: ที่อยู่ | R5: หมายเหตุ
A8: ตัวอย่าง | B8: 6901 | C8: 1234567890123 | D8: ด.ญ. | E8: ใจดี | F8: รักเรียน | G8: น้ำฝน | H8: 12 | I8: มีนาคม | J8: 2565 | K8: =IF(S8="","",DATEDIF(S8,TODAY(),"y")&" ปี "&DATEDIF(S8,TODAY(),"ym")&" ด.") | L8: O | M8: แพ้กุ้ง | N8: นางสมศรี รักเรียน | O8: แม่ | P8: 0812345678 | Q8: 12 ม.3 ต.ในเมือง | S8: =IF(OR(H8="",I8="",J8=""),"",IFERROR(DATE(J8-543,MATCH(I8,{"มกราคม","กุมภาพันธ์","มีนาคม","เมษายน","พฤษภาคม","มิถุนายน","กรกฎาคม","สิงหาคม","กันยายน","ตุลาคม","พฤศจิกายน","ธันวาคม"},0),H8),"")) | T8: =IF(E8="","",D8&E8&" "&F8)
A9: 1 | K9: =IF(S9="","",DATEDIF(S9,TODAY(),"y")&" ปี "&DATEDIF(S9,TODAY(),"ym")&" ด.") | S9: =IF(OR(H9="",I9="",J9=""),"",IFERROR(DATE(J9-543,MATCH(I9,{"มกราคม","กุมภาพันธ์","มีนาคม","เมษายน","พฤษภาคม","มิถุนายน","กรกฎาคม","สิงหาคม","กันยายน","ตุลาคม","พฤศจิกายน","ธันวาคม"},0),H9),"")) | T9: =IF(E9="","",D9&E9&" "&F9)
A10: 2 | K10: =IF(S10="","",DATEDIF(S10,TODAY(),"y")&" ปี "&DATEDIF(S10,TODAY(),"ym")&" ด.") | S10: =IF(OR(H10="",I10="",J10=""),"",IFERROR(DATE(J10-543,MATCH(I10,{"มกราคม","กุมภาพันธ์","มีนาคม","เมษายน","พฤษภาคม","มิถุนายน","กรกฎาคม","สิงหาคม","กันยายน","ตุลาคม","พฤศจิกายน","ธันวาคม"},0),H10),"")) | T10: =IF(E10="","",D10&E10&" "&F10)
A11: 3 | K11: =IF(S11="","",DATEDIF(S11,TODAY(),"y")&" ปี "&DATEDIF(S11,TODAY(),"ym")&" ด.") | S11: =IF(OR(H11="",I11="",J11=""),"",IFERROR(DATE(J11-543,MATCH(I11,{"มกราคม","กุมภาพันธ์","มีนาคม","เมษายน","พฤษภาคม","มิถุนายน","กรกฎาคม","สิงหาคม","กันยายน","ตุลาคม","พฤศจิกายน","ธันวาคม"},0),H11),"")) | T11: =IF(E11="","",D11&E11&" "&F11)
A12: 4 | K12: =IF(S12="","",DATEDIF(S12,TODAY(),"y")&" ปี "&DATEDIF(S12,TODAY(),"ym")&" ด.") | S12: =IF(OR(H12="",I12="",J12=""),"",IFERROR(DATE(J12-543,MATCH(I12,{"มกราคม","กุมภาพันธ์","มีนาคม","เมษายน","พฤษภาคม","มิถุนายน","กรกฎาคม","สิงหาคม","กันยายน","ตุลาคม","พฤศจิกายน","ธันวาคม"},0),H12),"")) | T12: =IF(E12="","",D12&E12&" "&F12)
A13: 5 | K13: =IF(S13="","",DATEDIF(S13,TODAY(),"y")&" ปี "&DATEDIF(S13,TODAY(),"ym")&" ด.") | S13: =IF(OR(H13="",I13="",J13=""),"",IFERROR(DATE(J13-543,MATCH(I13,{"มกราคม","กุมภาพันธ์","มีนาคม","เมษายน","พฤษภาคม","มิถุนายน","กรกฎาคม","สิงหาคม","กันยายน","ตุลาคม","พฤศจิกายน","ธันวาคม"},0),H13),"")) | T13: =IF(E13="","",D13&E13&" "&F13)

Sheet ผู้รับ-ส่ง
A1: 🏠
A2: หน้าหลัก | B2: ="โรงเรียน"&'ข้อมูลโรงเรียน'!$C$5&" ชั้น"&'ข้อมูลโรงเรียน'!$C$7&"/"&'ข้อมูลโรงเรียน'!$C$8&" ปีการศึกษา "&'ข้อมูลโรงเรียน'!$C$12&" ครูประจำชั้น "&'ข้อมูลโรงเรียน'!$C$9
B3: ผู้ปกครองในทะเบียนนักเรียนมีสิทธิ์รับอัตโนมัติ • เพิ่มผู้มีสิทธิ์รับได้อีก 3 คน • ใส่ข้อห้ามสำคัญในช่องสีแดง (เช่น คำสั่งศาล / บุคคลที่ห้ามรับ)
A5: เลขที่ | B5: ชื่อ - สกุล | C5: ชื่อเล่น | D5: การเดินทาง กลับบ้าน | E5: ผู้ปกครอง (จากทะเบียน) | F5: ผู้มีสิทธิ์รับ 1 ชื่อ-สกุล | G5: เกี่ยวข้อง เป็น | H5: โทรศัพท์ | I5: ผู้มีสิทธิ์รับ 2 ชื่อ-สกุล | J5: เกี่ยวข้อง เป็น | K5: โทรศัพท์ | L5: ผู้มีสิทธิ์รับ 3 ชื่อ-สกุล | M5: เกี่ยวข้อง เป็น | N5: โทรศัพท์ | O5: ⚠ ข้อห้าม / ข้อควรระวัง
A9: 1 | B9: ='ข้อมูลนักเรียน'!T9 | C9: =IF(B9="","",'ข้อมูลนักเรียน'!G9&"") | E9: =IF(B9="","",'ข้อมูลนักเรียน'!N9&"") | Q9: =E9&" | "&F9&" | "&I9&" | "&L9 | R9: =TRIM(IF(F9="","",F9&IF(G9="",""," ("&G9&")"))&IF(I9="","",", "&I9&IF(J9="",""," ("&J9&")"))&IF(L9="","",", "&L9&IF(M9="",""," ("&M9&")")))
A10: 2 | B10: ='ข้อมูลนักเรียน'!T10 | C10: =IF(B10="","",'ข้อมูลนักเรียน'!G10&"") | E10: =IF(B10="","",'ข้อมูลนักเรียน'!N10&"") | Q10: =E10&" | "&F10&" | "&I10&" | "&L10 | R10: =TRIM(IF(F10="","",F10&IF(G10="",""," ("&G10&")"))&IF(I10="","",", "&I10&IF(J10="",""," ("&J10&")"))&IF(L10="","",", "&L10&IF(M10="",""," ("&M10&")")))
A11: 3 | B11: ='ข้อมูลนักเรียน'!T11 | C11: =IF(B11="","",'ข้อมูลนักเรียน'!G11&"") | E11: =IF(B11="","",'ข้อมูลนักเรียน'!N11&"") | Q11: =E11&" | "&F11&" | "&I11&" | "&L11 | R11: =TRIM(IF(F11="","",F11&IF(G11="",""," ("&G11&")"))&IF(I11="","",", "&I11&IF(J11="",""," ("&J11&")"))&IF(L11="","",", "&L11&IF(M11="",""," ("&M11&")")))
A12: 4 | B12: ='ข้อมูลนักเรียน'!T12 | C12: =IF(B12="","",'ข้อมูลนักเรียน'!G12&"") | E12: =IF(B12="","",'ข้อมูลนักเรียน'!N12&"") | Q12: =E12&" | "&F12&" | "&I12&" | "&L12 | R12: =TRIM(IF(F12="","",F12&IF(G12="",""," ("&G12&")"))&IF(I12="","",", "&I12&IF(J12="",""," ("&J12&")"))&IF(L12="","",", "&L12&IF(M12="",""," ("&M12&")")))
A13: 5 | B13: ='ข้อมูลนักเรียน'!T13 | C13: =IF(B13="","",'ข้อมูลนักเรียน'!G13&"") | E13: =IF(B13="","",'ข้อมูลนักเรียน'!N13&"") | Q13: =E13&" | "&F13&" | "&I13&" | "&L13 | R13: =TRIM(IF(F13="","",F13&IF(G13="",""," ("&G13&")"))&IF(I13="","",", "&I13&IF(J13="",""," ("&J13&")"))&IF(L13="","",", "&L13&IF(M13="",""," ("&M13&")")))

Sheet บันทึกรับ-ส่ง
A1: 🏠
A2: หน้าหลัก | B2: ="โรงเรียน"&'ข้อมูลโรงเรียน'!$C$5&" ชั้น"&'ข้อมูลโรงเรียน'!$C$7&"/"&'ข้อมูลโรงเรียน'!$C$8&" ปีการศึกษา "&'ข้อมูลโรงเรียน'!$C$12&" ครูประจำชั้น "&'ข้อมูลโรงเรียน'!$C$9
B3: ใส่เลขที่นักเรียนและชื่อผู้มารับ • ระบบตรวจกับทะเบียนผู้มีสิทธิ์รับให้ทันที • ⚠ สีแดง = ไม่อยู่ในรายชื่อ ควรโทรยืนยันผู้ปกครองก่อนส่งตัวเด็ก
A5: วันที่ | B5: เดือน | C5: เลขที่ | D5: ชื่อ - สกุลนักเรียน | E5: ประเภท | F5: เวลา | G5: ชื่อผู้รับ / ผู้ส่ง | H5: เกี่ยวข้อง เป็น | I5: ตรวจสอบสิทธิ์ | J5: ครูผู้อนุญาต | K5: หมายเหตุ | L5: ⚠ ข้อห้ามของเด็กคนนี้
D7: =IF(C7="","",IFERROR(INDEX('ข้อมูลนักเรียน'!$T$9:$T$13,C7),"ไม่พบเลขที่")) | I7: =IF(OR(C7="",G7=""),"",IF(ISNUMBER(SEARCH(TRIM(G7),INDEX('ผู้รับ-ส่ง'!$Q$9:$Q$13,C7))),"✓ มีสิทธิ์รับ","⚠ ไม่อยู่ในรายชื่อ")) | L7: =IF(C7="","",IFERROR(INDEX('ผู้รับ-ส่ง'!$O$9:$O$13,C7)&"",""))
D8: =IF(C8="","",IFERROR(INDEX('ข้อมูลนักเรียน'!$T$9:$T$13,C8),"ไม่พบเลขที่")) | I8: =IF(OR(C8="",G8=""),"",IF(ISNUMBER(SEARCH(TRIM(G8),INDEX('ผู้รับ-ส่ง'!$Q$9:$Q$13,C8))),"✓ มีสิทธิ์รับ","⚠ ไม่อยู่ในรายชื่อ")) | L8: =IF(C8="","",IFERROR(INDEX('ผู้รับ-ส่ง'!$O$9:$O$13,C8)&"",""))
D9: =IF(C9="","",IFERROR(INDEX('ข้อมูลนักเรียน'!$T$9:$T$13,C9),"ไม่พบเลขที่")) | I9: =IF(OR(C9="",G9=""),"",IF(ISNUMBER(SEARCH(TRIM(G9),INDEX('ผู้รับ-ส่ง'!$Q$9:$Q$13,C9))),"✓ มีสิทธิ์รับ","⚠ ไม่อยู่ในรายชื่อ")) | L9: =IF(C9="","",IFERROR(INDEX('ผู้รับ-ส่ง'!$O$9:$O$13,C9)&"",""))
D10: =IF(C10="","",IFERROR(INDEX('ข้อมูลนักเรียน'!$T$9:$T$13,C10),"ไม่พบเลขที่")) | I10: =IF(OR(C10="",G10=""),"",IF(ISNUMBER(SEARCH(TRIM(G10),INDEX('ผู้รับ-ส่ง'!$Q$9:$Q$13,C10))),"✓ มีสิทธิ์รับ","⚠ ไม่อยู่ในรายชื่อ")) | L10: =IF(C10="","",IFERROR(INDEX('ผู้รับ-ส่ง'!$O$9:$O$13,C10)&"",""))
D11: =IF(C11="","",IFERROR(INDEX('ข้อมูลนักเรียน'!$T$9:$T$13,C11),"ไม่พบเลขที่")) | I11: =IF(OR(C11="",G11=""),"",IF(ISNUMBER(SEARCH(TRIM(G11),INDEX('ผู้รับ-ส่ง'!$Q$9:$Q$13,C11))),"✓ มีสิทธิ์รับ","⚠ ไม่อยู่ในรายชื่อ")) | L11: =IF(C11="","",IFERROR(INDEX('ผู้รับ-ส่ง'!$O$9:$O$13,C11)&"",""))
D12: =IF(C12="","",IFERROR(INDEX('ข้อมูลนักเรียน'!$T$9:$T$13,C12),"ไม่พบเลขที่")) | I12: =IF(OR(C12="",G12=""),"",IF(ISNUMBER(SEARCH(TRIM(G12),INDEX('ผู้รับ-ส่ง'!$Q$9:$Q$13,C12))),"✓ มีสิทธิ์รับ","⚠ ไม่อยู่ในรายชื่อ")) | L12: =IF(C12="","",IFERROR(INDEX('ผู้รับ-ส่ง'!$O$9:$O$13,C12)&"",""))
D13: =IF(C13="","",IFERROR(INDEX('ข้อมูลนักเรียน'!$T$9:$T$13,C13),"ไม่พบเลขที่")) | I13: =IF(OR(C13="",G13=""),"",IF(ISNUMBER(SEARCH(TRIM(G13),INDEX('ผู้รับ-ส่ง'!$Q$9:$Q$13,C13))),"✓ มีสิทธิ์รับ","⚠ ไม่อยู่ในรายชื่อ")) | L13: =IF(C13="","",IFERROR(INDEX('ผู้รับ-ส่ง'!$O$9:$O$13,C13)&"",""))
D14: =IF(C14="","",IFERROR(INDEX('ข้อมูลนักเรียน'!$T$9:$T$13,C14),"ไม่พบเลขที่")) | I14: =IF(OR(C14="",G14=""),"",IF(ISNUMBER(SEARCH(TRIM(G14),INDEX('ผู้รับ-ส่ง'!$Q$9:$Q$13,C14))),"✓ มีสิทธิ์รับ","⚠ ไม่อยู่ในรายชื่อ")) | L14: =IF(C14="","",IFERROR(INDEX('ผู้รับ-ส่ง'!$O$9:$O$13,C14)&"",""))
D15: =IF(C15="","",IFERROR(INDEX('ข้อมูลนักเรียน'!$T$9:$T$13,C15),"ไม่พบเลขที่")) | I15: =IF(OR(C15="",G15=""),"",IF(ISNUMBER(SEARCH(TRIM(G15),INDEX('ผู้รับ-ส่ง'!$Q$9:$Q$13,C15))),"✓ มีสิทธิ์รับ","⚠ ไม่อยู่ในรายชื่อ")) | L15: =IF(C15="","",IFERROR(INDEX('ผู้รับ-ส่ง'!$O$9:$O$13,C15)&"",""))
D16: =IF(C16="","",IFERROR(INDEX('ข้อมูลนักเรียน'!$T$9:$T$13,C16),"ไม่พบเลขที่")) | I16: =IF(OR(C16="",G16=""),"",IF(ISNUMBER(SEARCH(TRIM(G16),INDEX('ผู้รับ-ส่ง'!$Q$9:$Q$13,C16))),"✓ มีสิทธิ์รับ","⚠ ไม่อยู่ในรายชื่อ")) | L16: =IF(C16="","",IFERROR(INDEX('ผู้รับ-ส่ง'!$O$9:$O$13,C16)&"",""))
D17: =IF(C17="","",IFERROR(INDEX('ข้อมูลนักเรียน'!$T$9:$T$13,C17),"ไม่พบเลขที่")) | I17: =IF(OR(C17="",G17=""),"",IF(ISNUMBER(SEARCH(TRIM(G17),INDEX('ผู้รับ-ส่ง'!$Q$9:$Q$13,C17))),"✓ มีสิทธิ์รับ","⚠ ไม่อยู่ในรายชื่อ")) | L17: =IF(C17="","",IFERROR(INDEX('ผู้รับ-ส่ง'!$O$9:$O$13,C17)&"",""))
D18: =IF(C18="","",IFERROR(INDEX('ข้อมูลนักเรียน'!$T$9:$T$13,C18),"ไม่พบเลขที่")) | I18: =IF(OR(C18="",G18=""),"",IF(ISNUMBER(SEARCH(TRIM(G18),INDEX('ผู้รับ-ส่ง'!$Q$9:$Q$13,C18))),"✓ มีสิทธิ์รับ","⚠ ไม่อยู่ในรายชื่อ")) | L18: =IF(C18="","",IFERROR(INDEX('ผู้รับ-ส่ง'!$O$9:$O$13,C18)&"",""))
... D406: =IF(C406="","",IFERROR(INDEX('ข้อมูลนักเรียน'!$T$9:$T$13,C406),"ไม่พบเลขที่")) | I406: =IF(OR(C406="",G406=""),"",IF(ISNUMBER(SEARCH(TRIM(G406),INDEX('ผู้รับ-ส่ง'!$Q$9:$Q$13,C406))),"✓ มีสิทธิ์รับ","⚠ ไม่อยู่ในรายชื่อ")) | L406: =IF(C406="","",IFERROR(INDEX('ผู้รับ-ส่ง'!$O$9:$O$13,C406)&"",""))

Sheet ใบรับ-ส่งรายวัน
A1: 🏠 | B1: ="ใบลงชื่อรับ - ส่งนักเรียน ประจำวัน"&IFERROR(CHOOSE(WEEKDAY($M$6,2),"จันทร์","อังคาร","พุธ","พฤหัสบดี","ศุกร์","เสาร์","อาทิตย์"),"")&"ที่ "&$K$3&" "&$K$4&" "&IFERROR(YEAR($M$6)+543,"") | J1: เลือกวันที่ | M1: =IFERROR(MATCH($K$4,{"พฤษภาคม","มิถุนายน","กรกฎาคม","สิงหาคม","กันยายน","ตุลาคม","พฤศจิกายน","ธันวาคม","มกราคม","กุมภาพันธ์","มีนาคม"},0),1)
B2: ="โรงเรียน"&'ข้อมูลโรงเรียน'!$C$5&" ชั้น"&'ข้อมูลโรงเรียน'!$C$7&"/"&'ข้อมูลโรงเรียน'!$C$8&" ปีการศึกษา "&'ข้อมูลโรงเรียน'!$C$12&" ครูประจำชั้น "&'ข้อมูลโรงเรียน'!$C$9 | M2: =IF(M1<=6,1,2)
J3: วันที่ | K3: 1 | M3: =IF(M2=1,M1-1,M1-7)
J4: เดือน | K4: มิถุนายน | M4: =4+M3*34+$K$3-1
A5: เลขที่ | B5: ชื่อ - สกุล (ชื่อเล่น) | C5: สถานะ | D5: เวลามา | E5: ลายมือชื่อผู้มาส่ง | F5: เวลากลับ | G5: ลายมือชื่อผู้มารับ | H5: ผู้มีสิทธิ์รับ / ⚠ ข้อควรระวัง | M5: ="'มาเรียน-ภ"&M2&"'!$A$1:$HA$23"
J6: เลือกวันที่และเดือน แล้วกด Ctrl + P | M6: =IFERROR(DATE(IF(M1<=8,'ข้อมูลโรงเรียน'!$C$12-543,'ข้อมูลโรงเรียน'!$C$12-542),MATCH($K$4,{"มกราคม","กุมภาพันธ์","มีนาคม","เมษายน","พฤษภาคม","มิถุนายน","กรกฎาคม","สิงหาคม","กันยายน","ตุลาคม","พฤศจิกายน","ธันวาคม"},0),$K$3),"")
J7: พิมพ์ไว้ให้ผู้ปกครองลงชื่อ
J8: ช่อง “สถานะ” ดึงจากบันทึกการมาเรียน
A9: 1 | B9: =IF('ข้อมูลนักเรียน'!T9="","",'ข้อมูลนักเรียน'!T9&IF('ข้อมูลนักเรียน'!G9="",""," ("&'ข้อมูลนักเรียน'!G9&")")) | C9: =IF(B9="","",IFERROR(CHOOSE(MATCH(INDEX(INDIRECT($M$5),9,$M$4)&"",{"ล","ป","ข"},0),"ลา","ป่วย","ขาด"),"")) | H9: =IF(B9="","",TRIM(IF('ผู้รับ-ส่ง'!O9="","","⚠ "&'ผู้รับ-ส่ง'!O9&" ")&IF('ข้อมูลนักเรียน'!M9="","","แพ้/โรค: "&'ข้อมูลนักเรียน'!M9&" ")&'ผู้รับ-ส่ง'!R9)) | J9: (ถ้าบันทึกไว้แล้ว)
A10: 2 | B10: =IF('ข้อมูลนักเรียน'!T10="","",'ข้อมูลนักเรียน'!T10&IF('ข้อมูลนักเรียน'!G10="",""," ("&'ข้อมูลนักเรียน'!G10&")")) | C10: =IF(B10="","",IFERROR(CHOOSE(MATCH(INDEX(INDIRECT($M$5),10,$M$4)&"",{"ล","ป","ข"},0),"ลา","ป่วย","ขาด"),"")) | H10: =IF(B10="","",TRIM(IF('ผู้รับ-ส่ง'!O10="","","⚠ "&'ผู้รับ-ส่ง'!O10&" ")&IF('ข้อมูลนักเรียน'!M10="","","แพ้/โรค: "&'ข้อมูลนักเรียน'!M10&" ")&'ผู้รับ-ส่ง'!R10))
A11: 3 | B11: =IF('ข้อมูลนักเรียน'!T11="","",'ข้อมูลนักเรียน'!T11&IF('ข้อมูลนักเรียน'!G11="",""," ("&'ข้อมูลนักเรียน'!G11&")")) | C11: =IF(B11="","",IFERROR(CHOOSE(MATCH(INDEX(INDIRECT($M$5),11,$M$4)&"",{"ล","ป","ข"},0),"ลา","ป่วย","ขาด"),"")) | H11: =IF(B11="","",TRIM(IF('ผู้รับ-ส่ง'!O11="","","⚠ "&'ผู้รับ-ส่ง'!O11&" ")&IF('ข้อมูลนักเรียน'!M11="","","แพ้/โรค: "&'ข้อมูลนักเรียน'!M11&" ")&'ผู้รับ-ส่ง'!R11))
A12: 4 | B12: =IF('ข้อมูลนักเรียน'!T12="","",'ข้อมูลนักเรียน'!T12&IF('ข้อมูลนักเรียน'!G12="",""," ("&'ข้อมูลนักเรียน'!G12&")")) | C12: =IF(B12="","",IFERROR(CHOOSE(MATCH(INDEX(INDIRECT($M$5),12,$M$4)&"",{"ล","ป","ข"},0),"ลา","ป่วย","ขาด"),"")) | H12: =IF(B12="","",TRIM(IF('ผู้รับ-ส่ง'!O12="","","⚠ "&'ผู้รับ-ส่ง'!O12&" ")&IF('ข้อมูลนักเรียน'!M12="","","แพ้/โรค: "&'ข้อมูลนักเรียน'!M12&" ")&'ผู้รับ-ส่ง'!R12))
A13: 5 | B13: =IF('ข้อมูลนักเรียน'!T13="","",'ข้อมูลนักเรียน'!T13&IF('ข้อมูลนักเรียน'!G13="",""," ("&'ข้อมูลนักเรียน'!G13&")")) | C13: =IF(B13="","",IFERROR(CHOOSE(MATCH(INDEX(INDIRECT($M$5),13,$M$4)&"",{"ล","ป","ข"},0),"ลา","ป่วย","ขาด"),"")) | H13: =IF(B13="","",TRIM(IF('ผู้รับ-ส่ง'!O13="","","⚠ "&'ผู้รับ-ส่ง'!O13&" ")&IF('ข้อมูลนักเรียน'!M13="","","แพ้/โรค: "&'ข้อมูลนักเรียน'!M13&" ")&'ผู้รับ-ส่ง'!R13))
B15: ลงชื่อ ........................................................ ครูเวรรับ-ส่ง | F15: ลงชื่อ ........................................................ ครูประจำชั้น

Sheet มาเรียน-ภ1
A1: 🏠
A2: หน้าหลัก | B2: ="โรงเรียน"&'ข้อมูลโรงเรียน'!$C$5&" ชั้น"&'ข้อมูลโรงเรียน'!$C$7&"/"&'ข้อมูลโรงเรียน'!$C$8&" ปีการศึกษา "&'ข้อมูลโรงเรียน'!$C$12&" ครูประจำชั้น "&'ข้อมูลโรงเรียน'!$C$9
B3: รหัส ม = มา ส = สาย ล = ลา ป = ป่วย ข = ขาด (พิมพ์ด้วยแป้นภาษาไทยได้เลย)
D4: ='ปฏิทิน'!D2 | E4: ='ปฏิทิน'!E2 | F4: ='ปฏิทิน'!F2 | G4: ='ปฏิทิน'!G2 | H4: ='ปฏิทิน'!H2 | I4: ='ปฏิทิน'!I2 | J4: ='ปฏิทิน'!J2 | K4: ='ปฏิทิน'!K2 | ... AH4: ='ปฏิทิน'!AH2 | AI4: s | AJ4: s | AK4: s | AL4: ='ปฏิทิน'!AL2 | AM4: ='ปฏิทิน'!AM2 | AN4: ='ปฏิทิน'!AN2 | AO4: ='ปฏิทิน'!AO2 | AP4: ='ปฏิทิน'!AP2 | AQ4: ='ปฏิทิน'!AQ2 | AR4: ='ปฏิทิน'!AR2 | AS4: ='ปฏิทิน'!AS2 | ... BP4: ='ปฏิทิน'!BP2 | BQ4: s | BR4: s | BS4: s | BT4: ='ปฏิทิน'!BT2 | BU4: ='ปฏิทิน'!BU2 | BV4: ='ปฏิทิน'!BV2 | BW4: ='ปฏิทิน'!BW2 | BX4: ='ปฏิทิน'!BX2 | BY4: ='ปฏิทิน'!BY2 | BZ4: ='ปฏิทิน'!BZ2 | CA4: ='ปฏิทิน'!CA2 | ... CX4: ='ปฏิทิน'!CX2 | CY4: s | CZ4: s | DA4: s | DB4: ='ปฏิทิน'!DB2 | DC4: ='ปฏิทิน'!DC2 | DD4: ='ปฏิทิน'!DD2 | DE4: ='ปฏิทิน'!DE2 | DF4: ='ปฏิทิน'!DF2 | DG4: ='ปฏิทิน'!DG2 | DH4: ='ปฏิทิน'!DH2 | DI4: ='ปฏิทิน'!DI2 | ... EF4: ='ปฏิทิน'!EF2 | EG4: s | EH4: s | EI4: s | EJ4: ='ปฏิทิน'!EJ2 | EK4: ='ปฏิทิน'!EK2 | EL4: ='ปฏิทิน'!EL2 | EM4: ='ปฏิทิน'!EM2 | EN4: ='ปฏิทิน'!EN2 | EO4: ='ปฏิทิน'!EO2 | EP4: ='ปฏิทิน'!EP2 | EQ4: ='ปฏิทิน'!EQ2 | ... FN4: ='ปฏิทิน'!FN2 | FO4: s | FP4: s | FQ4: s | FR4: ='ปฏิทิน'!FR2 | FS4: ='ปฏิทิน'!FS2 | FT4: ='ปฏิทิน'!FT2 | FU4: ='ปฏิทิน'!FU2 | FV4: ='ปฏิทิน'!FV2 | FW4: ='ปฏิทิน'!FW2 | FX4: ='ปฏิทิน'!FX2 | FY4: ='ปฏิทิน'!FY2 | ... GV4: ='ปฏิทิน'!GV2 | GW4: s | GX4: s | GY4: s
A5: เลขที่ | B5: ชื่อ - สกุล | C5: ร้อยละ มาเรียน ทั้งภาค | D5: ="เดือนพฤษภาคม พ.ศ. "&('ข้อมูลโรงเรียน'!$C$12-543+543) | AI5: สรุป พ.ค. | AL5: ="เดือนมิถุนายน พ.ศ. "&('ข้อมูลโรงเรียน'!$C$12-543+543) | BQ5: สรุป มิ.ย. | BT5: ="เดือนกรกฎาคม พ.ศ. "&('ข้อมูลโรงเรียน'!$C$12-543+543) | CY5: สรุป ก.ค. | DB5: ="เดือนสิงหาคม พ.ศ. "&('ข้อมูลโรงเรียน'!$C$12-543+543) | EG5: สรุป ส.ค. | EJ5: ="เดือนกันยายน พ.ศ. "&('ข้อมูลโรงเรียน'!$C$12-543+543) | FO5: สรุป ก.ย. | FR5: ="เดือนตุลาคม พ.ศ. "&('ข้อมูลโรงเรียน'!$C$12-543+543) | GW5: สรุป ต.ค.
D6: =IF('ปฏิทิน'!D1="","",DAY('ปฏิทิน'!D1)) | E6: =IF('ปฏิทิน'!E1="","",DAY('ปฏิทิน'!E1)) | F6: =IF('ปฏิทิน'!F1="","",DAY('ปฏิทิน'!F1)) | G6: =IF('ปฏิทิน'!G1="","",DAY('ปฏิทิน'!G1)) | H6: =IF('ปฏิทิน'!H1="","",DAY('ปฏิทิน'!H1)) | I6: =IF('ปฏิทิน'!I1="","",DAY('ปฏิทิน'!I1)) | J6: =IF('ปฏิทิน'!J1="","",DAY('ปฏิทิน'!J1)) | K6: =IF('ปฏิทิน'!K1="","",DAY('ปฏิทิน'!K1)) | ... AH6: =IF('ปฏิทิน'!AH1="","",DAY('ปฏิทิน'!AH1)) | AI6: มา | AJ6: ลา ป่วย | AK6: ขาด | AL6: =IF('ปฏิทิน'!AL1="","",DAY('ปฏิทิน'!AL1)) | AM6: =IF('ปฏิทิน'!AM1="","",DAY('ปฏิทิน'!AM1)) | AN6: =IF('ปฏิทิน'!AN1="","",DAY('ปฏิทิน'!AN1)) | AO6: =IF('ปฏิทิน'!AO1="","",DAY('ปฏิทิน'!AO1)) | AP6: =IF('ปฏิทิน'!AP1="","",DAY('ปฏิทิน'!AP1)) | AQ6: =IF('ปฏิทิน'!AQ1="","",DAY('ปฏิทิน'!AQ1)) | AR6: =IF('ปฏิทิน'!AR1="","",DAY('ปฏิทิน'!AR1)) | AS6: =IF('ปฏิทิน'!AS1="","",DAY('ปฏิทิน'!AS1)) | ... BP6: =IF('ปฏิทิน'!BP1="","",DAY('ปฏิทิน'!BP1)) | BQ6: มา | BR6: ลา ป่วย | BS6: ขาด | BT6: =IF('ปฏิทิน'!BT1="","",DAY('ปฏิทิน'!BT1)) | BU6: =IF('ปฏิทิน'!BU1="","",DAY('ปฏิทิน'!BU1)) | BV6: =IF('ปฏิทิน'!BV1="","",DAY('ปฏิทิน'!BV1)) | BW6: =IF('ปฏิทิน'!BW1="","",DAY('ปฏิทิน'!BW1)) | BX6: =IF('ปฏิทิน'!BX1="","",DAY('ปฏิทิน'!BX1)) | BY6: =IF('ปฏิทิน'!BY1="","",DAY('ปฏิทิน'!BY1)) | BZ6: =IF('ปฏิทิน'!BZ1="","",DAY('ปฏิทิน'!BZ1)) | CA6: =IF('ปฏิทิน'!CA1="","",DAY('ปฏิทิน'!CA1)) | ... CX6: =IF('ปฏิทิน'!CX1="","",DAY('ปฏิทิน'!CX1)) | CY6: มา | CZ6: ลา ป่วย | DA6: ขาด | DB6: =IF('ปฏิทิน'!DB1="","",DAY('ปฏิทิน'!DB1)) | DC6: =IF('ปฏิทิน'!DC1="","",DAY('ปฏิทิน'!DC1)) | DD6: =IF('ปฏิทิน'!DD1="","",DAY('ปฏิทิน'!DD1)) | DE6: =IF('ปฏิทิน'!DE1="","",DAY('ปฏิทิน'!DE1)) | DF6: =IF('ปฏิทิน'!DF1="","",DAY('ปฏิทิน'!DF1)) | DG6: =IF('ปฏิทิน'!DG1="","",DAY('ปฏิทิน'!DG1)) | DH6: =IF('ปฏิทิน'!DH1="","",DAY('ปฏิทิน'!DH1)) | DI6: =IF('ปฏิทิน'!DI1="","",DAY('ปฏิทิน'!DI1)) | ... EF6: =IF('ปฏิทิน'!EF1="","",DAY('ปฏิทิน'!EF1)) | EG6: มา | EH6: ลา ป่วย | EI6: ขาด | EJ6: =IF('ปฏิทิน'!EJ1="","",DAY('ปฏิทิน'!EJ1)) | EK6: =IF('ปฏิทิน'!EK1="","",DAY('ปฏิทิน'!EK1)) | EL6: =IF('ปฏิทิน'!EL1="","",DAY('ปฏิทิน'!EL1)) | EM6: =IF('ปฏิทิน'!EM1="","",DAY('ปฏิทิน'!EM1)) | EN6: =IF('ปฏิทิน'!EN1="","",DAY('ปฏิทิน'!EN1)) | EO6: =IF('ปฏิทิน'!EO1="","",DAY('ปฏิทิน'!EO1)) | EP6: =IF('ปฏิทิน'!EP1="","",DAY('ปฏิทิน'!EP1)) | EQ6: =IF('ปฏิทิน'!EQ1="","",DAY('ปฏิทิน'!EQ1)) | ... FN6: =IF('ปฏิทิน'!FN1="","",DAY('ปฏิทิน'!FN1)) | FO6: มา | FP6: ลา ป่วย | FQ6: ขาด | FR6: =IF('ปฏิทิน'!FR1="","",DAY('ปฏิทิน'!FR1)) | FS6: =IF('ปฏิทิน'!FS1="","",DAY('ปฏิทิน'!FS1)) | FT6: =IF('ปฏิทิน'!FT1="","",DAY('ปฏิทิน'!FT1)) | FU6: =IF('ปฏิทิน'!FU1="","",DAY('ปฏิทิน'!FU1)) | FV6: =IF('ปฏิทิน'!FV1="","",DAY('ปฏิทิน'!FV1)) | FW6: =IF('ปฏิทิน'!FW1="","",DAY('ปฏิทิน'!FW1)) | FX6: =IF('ปฏิทิน'!FX1="","",DAY('ปฏิทิน'!FX1)) | FY6: =IF('ปฏิทิน'!FY1="","",DAY('ปฏิทิน'!FY1)) | ... GV6: =IF('ปฏิทิน'!GV1="","",DAY('ปฏิทิน'!GV1)) | GW6: มา | GX6: ลา ป่วย | GY6: ขาด
D7: =IF('ปฏิทิน'!D1="","",CHOOSE(WEEKDAY('ปฏิทิน'!D1,2),"จ.","อ.","พ.","พฤ.","ศ.","ส.","อา.")) | E7: =IF('ปฏิทิน'!E1="","",CHOOSE(WEEKDAY('ปฏิทิน'!E1,2),"จ.","อ.","พ.","พฤ.","ศ.","ส.","อา.")) | F7: =IF('ปฏิทิน'!F1="","",CHOOSE(WEEKDAY('ปฏิทิน'!F1,2),"จ.","อ.","พ.","พฤ.","ศ.","ส.","อา.")) | G7: =IF('ปฏิทิน'!G1="","",CHOOSE(WEEKDAY('ปฏิทิน'!G1,2),"จ.","อ.","พ.","พฤ.","ศ.","ส.","อา.")) | H7: =IF('ปฏิทิน'!H1="","",CHOOSE(WEEKDAY('ปฏิทิน'!H1,2),"จ.","อ.","พ.","พฤ.","ศ.","ส.","อา.")) | I7: =IF('ปฏิทิน'!I1="","",CHOOSE(WEEKDAY('ปฏิทิน'!I1,2),"จ.","อ.","พ.","พฤ.","ศ.","ส.","อา.")) | J7: =IF('ปฏิทิน'!J1="","",CHOOSE(WEEKDAY('ปฏิทิน'!J1,2),"จ.","อ.","พ.","พฤ.","ศ.","ส.","อา.")) | K7: =IF('ปฏิทิน'!K1="","",CHOOSE(WEEKDAY('ปฏิทิน'!K1,2),"จ.","อ.","พ.","พฤ.","ศ.","ส.","อา.")) | ... AH7: =IF('ปฏิทิน'!AH1="","",CHOOSE(WEEKDAY('ปฏิทิน'!AH1,2),"จ.","อ.","พ.","พฤ.","ศ.","ส.","อา.")) | AL7: =IF('ปฏิทิน'!AL1="","",CHOOSE(WEEKDAY('ปฏิทิน'!AL1,2),"จ.","อ.","พ.","พฤ.","ศ.","ส.","อา.")) | AM7: =IF('ปฏิทิน'!AM1="","",CHOOSE(WEEKDAY('ปฏิทิน'!AM1,2),"จ.","อ.","พ.","พฤ.","ศ.","ส.","อา.")) | AN7: =IF('ปฏิทิน'!AN1="","",CHOOSE(WEEKDAY('ปฏิทิน'!AN1,2),"จ.","อ.","พ.","พฤ.","ศ.","ส.","อา.")) | AO7: =IF('ปฏิทิน'!AO1="","",CHOOSE(WEEKDAY('ปฏิทิน'!AO1,2),"จ.","อ.","พ.","พฤ.","ศ.","ส.","อา.")) | AP7: =IF('ปฏิทิน'!AP1="","",CHOOSE(WEEKDAY('ปฏิทิน'!AP1,2),"จ.","อ.","พ.","พฤ.","ศ.","ส.","อา.")) | AQ7: =IF('ปฏิทิน'!AQ1="","",CHOOSE(WEEKDAY('ปฏิทิน'!AQ1,2),"จ.","อ.","พ.","พฤ.","ศ.","ส.","อา.")) | AR7: =IF('ปฏิทิน'!AR1="","",CHOOSE(WEEKDAY('ปฏิทิน'!AR1,2),"จ.","อ.","พ.","พฤ.","ศ.","ส.","อา.")) | AS7: =IF('ปฏิทิน'!AS1="","",CHOOSE(WEEKDAY('ปฏิทิน'!AS1,2),"จ.","อ.","พ.","พฤ.","ศ.","ส.","อา.")) | ... BP7: =IF('ปฏิทิน'!BP1="","",CHOOSE(WEEKDAY('ปฏิทิน'!BP1,2),"จ.","อ.","พ.","พฤ.","ศ.","ส.","อา.")) | BT7: =IF('ปฏิทิน'!BT1="","",CHOOSE(WEEKDAY('ปฏิทิน'!BT1,2),"จ.","อ.","พ.","พฤ.","ศ.","ส.","อา.")) | BU7: =IF('ปฏิทิน'!BU1="","",CHOOSE(WEEKDAY('ปฏิทิน'!BU1,2),"จ.","อ.","พ.","พฤ.","ศ.","ส.","อา.")) | BV7: =IF('ปฏิทิน'!BV1="","",CHOOSE(WEEKDAY('ปฏิทิน'!BV1,2),"จ.","อ.","พ.","พฤ.","ศ.","ส.","อา.")) | BW7: =IF('ปฏิทิน'!BW1="","",CHOOSE(WEEKDAY('ปฏิทิน'!BW1,2),"จ.","อ.","พ.","พฤ.","ศ.","ส.","อา.")) | BX7: =IF('ปฏิทิน'!BX1="","",CHOOSE(WEEKDAY('ปฏิทิน'!BX1,2),"จ.","อ.","พ.","พฤ.","ศ.","ส.","อา.")) | BY7: =IF('ปฏิทิน'!BY1="","",CHOOSE(WEEKDAY('ปฏิทิน'!BY1,2),"จ.","อ.","พ.","พฤ.","ศ.","ส.","อา.")) | BZ7: =IF('ปฏิทิน'!BZ1="","",CHOOSE(WEEKDAY('ปฏิทิน'!BZ1,2),"จ.","อ.","พ.","พฤ.","ศ.","ส.","อา.")) | CA7: =IF('ปฏิทิน'!CA1="","",CHOOSE(WEEKDAY('ปฏิทิน'!CA1,2),"จ.","อ.","พ.","พฤ.","ศ.","ส.","อา.")) | ... CX7: =IF('ปฏิทิน'!CX1="","",CHOOSE(WEEKDAY('ปฏิทิน'!CX1,2),"จ.","อ.","พ.","พฤ.","ศ.","ส.","อา.")) | DB7: =IF('ปฏิทิน'!DB1="","",CHOOSE(WEEKDAY('ปฏิทิน'!DB1,2),"จ.","อ.","พ.","พฤ.","ศ.","ส.","อา.")) | DC7: =IF('ปฏิทิน'!DC1="","",CHOOSE(WEEKDAY('ปฏิทิน'!DC1,2),"จ.","อ.","พ.","พฤ.","ศ.","ส.","อา.")) | DD7: =IF('ปฏิทิน'!DD1="","",CHOOSE(WEEKDAY('ปฏิทิน'!DD1,2),"จ.","อ.","พ.","พฤ.","ศ.","ส.","อา.")) | DE7: =IF('ปฏิทิน'!DE1="","",CHOOSE(WEEKDAY('ปฏิทิน'!DE1,2),"จ.","อ.","พ.","พฤ.","ศ.","ส.","อา.")) | DF7: =IF('ปฏิทิน'!DF1="","",CHOOSE(WEEKDAY('ปฏิทิน'!DF1,2),"จ.","อ.","พ.","พฤ.","ศ.","ส.","อา.")) | DG7: =IF('ปฏิทิน'!DG1="","",CHOOSE(WEEKDAY('ปฏิทิน'!DG1,2),"จ.","อ.","พ.","พฤ.","ศ.","ส.","อา.")) | DH7: =IF('ปฏิทิน'!DH1="","",CHOOSE(WEEKDAY('ปฏิทิน'!DH1,2),"จ.","อ.","พ.","พฤ.","ศ.","ส.","อา.")) | DI7: =IF('ปฏิทิน'!DI1="","",CHOOSE(WEEKDAY('ปฏิทิน'!DI1,2),"จ.","อ.","พ.","พฤ.","ศ.","ส.","อา.")) | ... EF7: =IF('ปฏิทิน'!EF1="","",CHOOSE(WEEKDAY('ปฏิทิน'!EF1,2),"จ.","อ.","พ.","พฤ.","ศ.","ส.","อา.")) | EJ7: =IF('ปฏิทิน'!EJ1="","",CHOOSE(WEEKDAY('ปฏิทิน'!EJ1,2),"จ.","อ.","พ.","พฤ.","ศ.","ส.","อา.")) | EK7: =IF('ปฏิทิน'!EK1="","",CHOOSE(WEEKDAY('ปฏิทิน'!EK1,2),"จ.","อ.","พ.","พฤ.","ศ.","ส.","อา.")) | EL7: =IF('ปฏิทิน'!EL1="","",CHOOSE(WEEKDAY('ปฏิทิน'!EL1,2),"จ.","อ.","พ.","พฤ.","ศ.","ส.","อา.")) | EM7: =IF('ปฏิทิน'!EM1="","",CHOOSE(WEEKDAY('ปฏิทิน'!EM1,2),"จ.","อ.","พ.","พฤ.","ศ.","ส.","อา.")) | EN7: =IF('ปฏิทิน'!EN1="","",CHOOSE(WEEKDAY('ปฏิทิน'!EN1,2),"จ.","อ.","พ.","พฤ.","ศ.","ส.","อา.")) | EO7: =IF('ปฏิทิน'!EO1="","",CHOOSE(WEEKDAY('ปฏิทิน'!EO1,2),"จ.","อ.","พ.","พฤ.","ศ.","ส.","อา.")) | EP7: =IF('ปฏิทิน'!EP1="","",CHOOSE(WEEKDAY('ปฏิทิน'!EP1,2),"จ.","อ.","พ.","พฤ.","ศ.","ส.","อา.")) | EQ7: =IF('ปฏิทิน'!EQ1="","",CHOOSE(WEEKDAY('ปฏิทิน'!EQ1,2),"จ.","อ.","พ.","พฤ.","ศ.","ส.","อา.")) | ... FN7: =IF('ปฏิทิน'!FN1="","",CHOOSE(WEEKDAY('ปฏิทิน'!FN1,2),"จ.","อ.","พ.","พฤ.","ศ.","ส.","อา.")) | FR7: =IF('ปฏิทิน'!FR1="","",CHOOSE(WEEKDAY('ปฏิทิน'!FR1,2),"จ.","อ.","พ.","พฤ.","ศ.","ส.","อา.")) | FS7: =IF('ปฏิทิน'!FS1="","",CHOOSE(WEEKDAY('ปฏิทิน'!FS1,2),"จ.","อ.","พ.","พฤ.","ศ.","ส.","อา.")) | FT7: =IF('ปฏิทิน'!FT1="","",CHOOSE(WEEKDAY('ปฏิทิน'!FT1,2),"จ.","อ.","พ.","พฤ.","ศ.","ส.","อา.")) | FU7: =IF('ปฏิทิน'!FU1="","",CHOOSE(WEEKDAY('ปฏิทิน'!FU1,2),"จ.","อ.","พ.","พฤ.","ศ.","ส.","อา.")) | FV7: =IF('ปฏิทิน'!FV1="","",CHOOSE(WEEKDAY('ปฏิทิน'!FV1,2),"จ.","อ.","พ.","พฤ.","ศ.","ส.","อา.")) | FW7: =IF('ปฏิทิน'!FW1="","",CHOOSE(WEEKDAY('ปฏิทิน'!FW1,2),"จ.","อ.","พ.","พฤ.","ศ.","ส.","อา.")) | FX7: =IF('ปฏิทิน'!FX1="","",CHOOSE(WEEKDAY('ปฏิทิน'!FX1,2),"จ.","อ.","พ.","พฤ.","ศ.","ส.","อา.")) | FY7: =IF('ปฏิทิน'!FY1="","",CHOOSE(WEEKDAY('ปฏิทิน'!FY1,2),"จ.","อ.","พ.","พฤ.","ศ.","ส.","อา.")) | ... GV7: =IF('ปฏิทิน'!GV1="","",CHOOSE(WEEKDAY('ปฏิทิน'!GV1,2),"จ.","อ.","พ.","พฤ.","ศ.","ส.","อา."))
D8: ='ปฏิทิน'!D3 | E8: ='ปฏิทิน'!E3 | F8: ='ปฏิทิน'!F3 | G8: ='ปฏิทิน'!G3 | H8: ='ปฏิทิน'!H3 | I8: ='ปฏิทิน'!I3 | J8: ='ปฏิทิน'!J3 | K8: ='ปฏิทิน'!K3 | ... AH8: ='ปฏิทิน'!AH3 | AL8: ='ปฏิทิน'!AL3 | AM8: ='ปฏิทิน'!AM3 | AN8: ='ปฏิทิน'!AN3 | AO8: ='ปฏิทิน'!AO3 | AP8: ='ปฏิทิน'!AP3 | AQ8: ='ปฏิทิน'!AQ3 | AR8: ='ปฏิทิน'!AR3 | AS8: ='ปฏิทิน'!AS3 | ... BP8: ='ปฏิทิน'!BP3 | BT8: ='ปฏิทิน'!BT3 | BU8: ='ปฏิทิน'!BU3 | BV8: ='ปฏิทิน'!BV3 | BW8: ='ปฏิทิน'!BW3 | BX8: ='ปฏิทิน'!BX3 | BY8: ='ปฏิทิน'!BY3 | BZ8: ='ปฏิทิน'!BZ3 | CA8: ='ปฏิทิน'!CA3 | ... CX8: ='ปฏิทิน'!CX3 | DB8: ='ปฏิทิน'!DB3 | DC8: ='ปฏิทิน'!DC3 | DD8: ='ปฏิทิน'!DD3 | DE8: ='ปฏิทิน'!DE3 | DF8: ='ปฏิทิน'!DF3 | DG8: ='ปฏิทิน'!DG3 | DH8: ='ปฏิทิน'!DH3 | DI8: ='ปฏิทิน'!DI3 | ... EF8: ='ปฏิทิน'!EF3 | EJ8: ='ปฏิทิน'!EJ3 | EK8: ='ปฏิทิน'!EK3 | EL8: ='ปฏิทิน'!EL3 | EM8: ='ปฏิทิน'!EM3 | EN8: ='ปฏิทิน'!EN3 | EO8: ='ปฏิทิน'!EO3 | EP8: ='ปฏิทิน'!EP3 | EQ8: ='ปฏิทิน'!EQ3 | ... FN8: ='ปฏิทิน'!FN3 | FR8: ='ปฏิทิน'!FR3 | FS8: ='ปฏิทิน'!FS3 | FT8: ='ปฏิทิน'!FT3 | FU8: ='ปฏิทิน'!FU3 | FV8: ='ปฏิทิน'!FV3 | FW8: ='ปฏิทิน'!FW3 | FX8: ='ปฏิทิน'!FX3 | FY8: ='ปฏิทิน'!FY3 | ... GV8: ='ปฏิทิน'!GV3
A9: 1 | B9: ='ข้อมูลนักเรียน'!T9 | C9: =IF(B9="","",IFERROR((COUNTIF(D9:GY9,"ม")+COUNTIF(D9:GY9,"ส"))/(COUNTIF(D9:GY9,"ม")+COUNTIF(D9:GY9,"ส")+COUNTIF(D9:GY9,"ล")+COUNTIF(D9:GY9,"ป")+COUNTIF(D9:GY9,"ข")),"")) | AI9: =IF($B9="","",COUNTIF(D9:AH9,"ม")+COUNTIF(D9:AH9,"ส")) | AJ9: =IF($B9="","",COUNTIF(D9:AH9,"ล")+COUNTIF(D9:AH9,"ป")) | AK9: =IF($B9="","",COUNTIF(D9:AH9,"ข")) | BQ9: =IF($B9="","",COUNTIF(AL9:BP9,"ม")+COUNTIF(AL9:BP9,"ส")) | BR9: =IF($B9="","",COUNTIF(AL9:BP9,"ล")+COUNTIF(AL9:BP9,"ป")) | BS9: =IF($B9="","",COUNTIF(AL9:BP9,"ข")) | CY9: =IF($B9="","",COUNTIF(BT9:CX9,"ม")+COUNTIF(BT9:CX9,"ส")) | CZ9: =IF($B9="","",COUNTIF(BT9:CX9,"ล")+COUNTIF(BT9:CX9,"ป")) | DA9: =IF($B9="","",COUNTIF(BT9:CX9,"ข")) | EG9: =IF($B9="","",COUNTIF(DB9:EF9,"ม")+COUNTIF(DB9:EF9,"ส")) | EH9: =IF($B9="","",COUNTIF(DB9:EF9,"ล")+COUNTIF(DB9:EF9,"ป")) | EI9: =IF($B9="","",COUNTIF(DB9:EF9,"ข")) | FO9: =IF($B9="","",COUNTIF(EJ9:FN9,"ม")+COUNTIF(EJ9:FN9,"ส")) | FP9: =IF($B9="","",COUNTIF(EJ9:FN9,"ล")+COUNTIF(EJ9:FN9,"ป")) | FQ9: =IF($B9="","",COUNTIF(EJ9:FN9,"ข")) | GW9: =IF($B9="","",COUNTIF(FR9:GV9,"ม")+COUNTIF(FR9:GV9,"ส")) | GX9: =IF($B9="","",COUNTIF(FR9:GV9,"ล")+COUNTIF(FR9:GV9,"ป")) | GY9: =IF($B9="","",COUNTIF(FR9:GV9,"ข"))
A10: 2 | B10: ='ข้อมูลนักเรียน'!T10 | C10: =IF(B10="","",IFERROR((COUNTIF(D10:GY10,"ม")+COUNTIF(D10:GY10,"ส"))/(COUNTIF(D10:GY10,"ม")+COUNTIF(D10:GY10,"ส")+COUNTIF(D10:GY10,"ล")+COUNTIF(D10:GY10,"ป")+COUNTIF(D10:GY10,"ข")),"")) | AI10: =IF($B10="","",COUNTIF(D10:AH10,"ม")+COUNTIF(D10:AH10,"ส")) | AJ10: =IF($B10="","",COUNTIF(D10:AH10,"ล")+COUNTIF(D10:AH10,"ป")) | AK10: =IF($B10="","",COUNTIF(D10:AH10,"ข")) | BQ10: =IF($B10="","",COUNTIF(AL10:BP10,"ม")+COUNTIF(AL10:BP10,"ส")) | BR10: =IF($B10="","",COUNTIF(AL10:BP10,"ล")+COUNTIF(AL10:BP10,"ป")) | BS10: =IF($B10="","",COUNTIF(AL10:BP10,"ข")) | CY10: =IF($B10="","",COUNTIF(BT10:CX10,"ม")+COUNTIF(BT10:CX10,"ส")) | CZ10: =IF($B10="","",COUNTIF(BT10:CX10,"ล")+COUNTIF(BT10:CX10,"ป")) | DA10: =IF($B10="","",COUNTIF(BT10:CX10,"ข")) | EG10: =IF($B10="","",COUNTIF(DB10:EF10,"ม")+COUNTIF(DB10:EF10,"ส")) | EH10: =IF($B10="","",COUNTIF(DB10:EF10,"ล")+COUNTIF(DB10:EF10,"ป")) | EI10: =IF($B10="","",COUNTIF(DB10:EF10,"ข")) | FO10: =IF($B10="","",COUNTIF(EJ10:FN10,"ม")+COUNTIF(EJ10:FN10,"ส")) | FP10: =IF($B10="","",COUNTIF(EJ10:FN10,"ล")+COUNTIF(EJ10:FN10,"ป")) | FQ10: =IF($B10="","",COUNTIF(EJ10:FN10,"ข")) | GW10: =IF($B10="","",COUNTIF(FR10:GV10,"ม")+COUNTIF(FR10:GV10,"ส")) | GX10: =IF($B10="","",COUNTIF(FR10:GV10,"ล")+COUNTIF(FR10:GV10,"ป")) | GY10: =IF($B10="","",COUNTIF(FR10:GV10,"ข"))
A11: 3 | B11: ='ข้อมูลนักเรียน'!T11 | C11: =IF(B11="","",IFERROR((COUNTIF(D11:GY11,"ม")+COUNTIF(D11:GY11,"ส"))/(COUNTIF(D11:GY11,"ม")+COUNTIF(D11:GY11,"ส")+COUNTIF(D11:GY11,"ล")+COUNTIF(D11:GY11,"ป")+COUNTIF(D11:GY11,"ข")),"")) | AI11: =IF($B11="","",COUNTIF(D11:AH11,"ม")+COUNTIF(D11:AH11,"ส")) | AJ11: =IF($B11="","",COUNTIF(D11:AH11,"ล")+COUNTIF(D11:AH11,"ป")) | AK11: =IF($B11="","",COUNTIF(D11:AH11,"ข")) | BQ11: =IF($B11="","",COUNTIF(AL11:BP11,"ม")+COUNTIF(AL11:BP11,"ส")) | BR11: =IF($B11="","",COUNTIF(AL11:BP11,"ล")+COUNTIF(AL11:BP11,"ป")) | BS11: =IF($B11="","",COUNTIF(AL11:BP11,"ข")) | CY11: =IF($B11="","",COUNTIF(BT11:CX11,"ม")+COUNTIF(BT11:CX11,"ส")) | CZ11: =IF($B11="","",COUNTIF(BT11:CX11,"ล")+COUNTIF(BT11:CX11,"ป")) | DA11: =IF($B11="","",COUNTIF(BT11:CX11,"ข")) | EG11: =IF($B11="","",COUNTIF(DB11:EF11,"ม")+COUNTIF(DB11:EF11,"ส")) | EH11: =IF($B11="","",COUNTIF(DB11:EF11,"ล")+COUNTIF(DB11:EF11,"ป")) | EI11: =IF($B11="","",COUNTIF(DB11:EF11,"ข")) | FO11: =IF($B11="","",COUNTIF(EJ11:FN11,"ม")+COUNTIF(EJ11:FN11,"ส")) | FP11: =IF($B11="","",COUNTIF(EJ11:FN11,"ล")+COUNTIF(EJ11:FN11,"ป")) | FQ11: =IF($B11="","",COUNTIF(EJ11:FN11,"ข")) | GW11: =IF($B11="","",COUNTIF(FR11:GV11,"ม")+COUNTIF(FR11:GV11,"ส")) | GX11: =IF($B11="","",COUNTIF(FR11:GV11,"ล")+COUNTIF(FR11:GV11,"ป")) | GY11: =IF($B11="","",COUNTIF(FR11:GV11,"ข"))
A12: 4 | B12: ='ข้อมูลนักเรียน'!T12 | C12: =IF(B12="","",IFERROR((COUNTIF(D12:GY12,"ม")+COUNTIF(D12:GY12,"ส"))/(COUNTIF(D12:GY12,"ม")+COUNTIF(D12:GY12,"ส")+COUNTIF(D12:GY12,"ล")+COUNTIF(D12:GY12,"ป")+COUNTIF(D12:GY12,"ข")),"")) | AI12: =IF($B12="","",COUNTIF(D12:AH12,"ม")+COUNTIF(D12:AH12,"ส")) | AJ12: =IF($B12="","",COUNTIF(D12:AH12,"ล")+COUNTIF(D12:AH12,"ป")) | AK12: =IF($B12="","",COUNTIF(D12:AH12,"ข")) | BQ12: =IF($B12="","",COUNTIF(AL12:BP12,"ม")+COUNTIF(AL12:BP12,"ส")) | BR12: =IF($B12="","",COUNTIF(AL12:BP12,"ล")+COUNTIF(AL12:BP12,"ป")) | BS12: =IF($B12="","",COUNTIF(AL12:BP12,"ข")) | CY12: =IF($B12="","",COUNTIF(BT12:CX12,"ม")+COUNTIF(BT12:CX12,"ส")) | CZ12: =IF($B12="","",COUNTIF(BT12:CX12,"ล")+COUNTIF(BT12:CX12,"ป")) | DA12: =IF($B12="","",COUNTIF(BT12:CX12,"ข")) | EG12: =IF($B12="","",COUNTIF(DB12:EF12,"ม")+COUNTIF(DB12:EF12,"ส")) | EH12: =IF($B12="","",COUNTIF(DB12:EF12,"ล")+COUNTIF(DB12:EF12,"ป")) | EI12: =IF($B12="","",COUNTIF(DB12:EF12,"ข")) | FO12: =IF($B12="","",COUNTIF(EJ12:FN12,"ม")+COUNTIF(EJ12:FN12,"ส")) | FP12: =IF($B12="","",COUNTIF(EJ12:FN12,"ล")+COUNTIF(EJ12:FN12,"ป")) | FQ12: =IF($B12="","",COUNTIF(EJ12:FN12,"ข")) | GW12: =IF($B12="","",COUNTIF(FR12:GV12,"ม")+COUNTIF(FR12:GV12,"ส")) | GX12: =IF($B12="","",COUNTIF(FR12:GV12,"ล")+COUNTIF(FR12:GV12,"ป")) | GY12: =IF($B12="","",COUNTIF(FR12:GV12,"ข"))
A13: 5 | B13: ='ข้อมูลนักเรียน'!T13 | C13: =IF(B13="","",IFERROR((COUNTIF(D13:GY13,"ม")+COUNTIF(D13:GY13,"ส"))/(COUNTIF(D13:GY13,"ม")+COUNTIF(D13:GY13,"ส")+COUNTIF(D13:GY13,"ล")+COUNTIF(D13:GY13,"ป")+COUNTIF(D13:GY13,"ข")),"")) | AI13: =IF($B13="","",COUNTIF(D13:AH13,"ม")+COUNTIF(D13:AH13,"ส")) | AJ13: =IF($B13="","",COUNTIF(D13:AH13,"ล")+COUNTIF(D13:AH13,"ป")) | AK13: =IF($B13="","",COUNTIF(D13:AH13,"ข")) | BQ13: =IF($B13="","",COUNTIF(AL13:BP13,"ม")+COUNTIF(AL13:BP13,"ส")) | BR13: =IF($B13="","",COUNTIF(AL13:BP13,"ล")+COUNTIF(AL13:BP13,"ป")) | BS13: =IF($B13="","",COUNTIF(AL13:BP13,"ข")) | CY13: =IF($B13="","",COUNTIF(BT13:CX13,"ม")+COUNTIF(BT13:CX13,"ส")) | CZ13: =IF($B13="","",COUNTIF(BT13:CX13,"ล")+COUNTIF(BT13:CX13,"ป")) | DA13: =IF($B13="","",COUNTIF(BT13:CX13,"ข")) | EG13: =IF($B13="","",COUNTIF(DB13:EF13,"ม")+COUNTIF(DB13:EF13,"ส")) | EH13: =IF($B13="","",COUNTIF(DB13:EF13,"ล")+COUNTIF(DB13:EF13,"ป")) | EI13: =IF($B13="","",COUNTIF(DB13:EF13,"ข")) | FO13: =IF($B13="","",COUNTIF(EJ13:FN13,"ม")+COUNTIF(EJ13:FN13,"ส")) | FP13: =IF($B13="","",COUNTIF(EJ13:FN13,"ล")+COUNTIF(EJ13:FN13,"ป")) | FQ13: =IF($B13="","",COUNTIF(EJ13:FN13,"ข")) | GW13: =IF($B13="","",COUNTIF(FR13:GV13,"ม")+COUNTIF(FR13:GV13,"ส")) | GX13: =IF($B13="","",COUNTIF(FR13:GV13,"ล")+COUNTIF(FR13:GV13,"ป")) | GY13: =IF($B13="","",COUNTIF(FR13:GV13,"ข"))
A14: มาเรียน (คน) | D14: =IF(D$4<>1,"",COUNTIF(D9:D13,"ม")+COUNTIF(D9:D13,"ส")) | E14: =IF(E$4<>1,"",COUNTIF(E9:E13,"ม")+COUNTIF(E9:E13,"ส")) | F14: =IF(F$4<>1,"",COUNTIF(F9:F13,"ม")+COUNTIF(F9:F13,"ส")) | G14: =IF(G$4<>1,"",COUNTIF(G9:G13,"ม")+COUNTIF(G9:G13,"ส")) | H14: =IF(H$4<>1,"",COUNTIF(H9:H13,"ม")+COUNTIF(H9:H13,"ส")) | I14: =IF(I$4<>1,"",COUNTIF(I9:I13,"ม")+COUNTIF(I9:I13,"ส")) | J14: =IF(J$4<>1,"",COUNTIF(J9:J13,"ม")+COUNTIF(J9:J13,"ส")) | K14: =IF(K$4<>1,"",COUNTIF(K9:K13,"ม")+COUNTIF(K9:K13,"ส")) | ... AH14: =IF(AH$4<>1,"",COUNTIF(AH9:AH13,"ม")+COUNTIF(AH9:AH13,"ส")) | AI14: =SUM(AI9:AI13) | AJ14: =SUM(AJ9:AJ13) | AK14: =SUM(AK9:AK13) | AL14: =IF(AL$4<>1,"",COUNTIF(AL9:AL13,"ม")+COUNTIF(AL9:AL13,"ส")) | AM14: =IF(AM$4<>1,"",COUNTIF(AM9:AM13,"ม")+COUNTIF(AM9:AM13,"ส")) | AN14: =IF(AN$4<>1,"",COUNTIF(AN9:AN13,"ม")+COUNTIF(AN9:AN13,"ส")) | AO14: =IF(AO$4<>1,"",COUNTIF(AO9:AO13,"ม")+COUNTIF(AO9:AO13,"ส")) | AP14: =IF(AP$4<>1,"",COUNTIF(AP9:AP13,"ม")+COUNTIF(AP9:AP13,"ส")) | AQ14: =IF(AQ$4<>1,"",COUNTIF(AQ9:AQ13,"ม")+COUNTIF(AQ9:AQ13,"ส")) | AR14: =IF(AR$4<>1,"",COUNTIF(AR9:AR13,"ม")+COUNTIF(AR9:AR13,"ส")) | AS14: =IF(AS$4<>1,"",COUNTIF(AS9:AS13,"ม")+COUNTIF(AS9:AS13,"ส")) | ... BP14: =IF(BP$4<>1,"",COUNTIF(BP9:BP13,"ม")+COUNTIF(BP9:BP13,"ส")) | BQ14: =SUM(BQ9:BQ13) | BR14: =SUM(BR9:BR13) | BS14: =SUM(BS9:BS13) | BT14: =IF(BT$4<>1,"",COUNTIF(BT9:BT13,"ม")+COUNTIF(BT9:BT13,"ส")) | BU14: =IF(BU$4<>1,"",COUNTIF(BU9:BU13,"ม")+COUNTIF(BU9:BU13,"ส")) | BV14: =IF(BV$4<>1,"",COUNTIF(BV9:BV13,"ม")+COUNTIF(BV9:BV13,"ส")) | BW14: =IF(BW$4<>1,"",COUNTIF(BW9:BW13,"ม")+COUNTIF(BW9:BW13,"ส")) | BX14: =IF(BX$4<>1,"",COUNTIF(BX9:BX13,"ม")+COUNTIF(BX9:BX13,"ส")) | BY14: =IF(BY$4<>1,"",COUNTIF(BY9:BY13,"ม")+COUNTIF(BY9:BY13,"ส")) | BZ14: =IF(BZ$4<>1,"",COUNTIF(BZ9:BZ13,"ม")+COUNTIF(BZ9:BZ13,"ส")) | CA14: =IF(CA$4<>1,"",COUNTIF(CA9:CA13,"ม")+COUNTIF(CA9:CA13,"ส")) | ... CX14: =IF(CX$4<>1,"",COUNTIF(CX9:CX13,"ม")+COUNTIF(CX9:CX13,"ส")) | CY14: =SUM(CY9:CY13) | CZ14: =SUM(CZ9:CZ13) | DA14: =SUM(DA9:DA13) | DB14: =IF(DB$4<>1,"",COUNTIF(DB9:DB13,"ม")+COUNTIF(DB9:DB13,"ส")) | DC14: =IF(DC$4<>1,"",COUNTIF(DC9:DC13,"ม")+COUNTIF(DC9:DC13,"ส")) | DD14: =IF(DD$4<>1,"",COUNTIF(DD9:DD13,"ม")+COUNTIF(DD9:DD13,"ส")) | DE14: =IF(DE$4<>1,"",COUNTIF(DE9:DE13,"ม")+COUNTIF(DE9:DE13,"ส")) | DF14: =IF(DF$4<>1,"",COUNTIF(DF9:DF13,"ม")+COUNTIF(DF9:DF13,"ส")) | DG14: =IF(DG$4<>1,"",COUNTIF(DG9:DG13,"ม")+COUNTIF(DG9:DG13,"ส")) | DH14: =IF(DH$4<>1,"",COUNTIF(DH9:DH13,"ม")+COUNTIF(DH9:DH13,"ส")) | DI14: =IF(DI$4<>1,"",COUNTIF(DI9:DI13,"ม")+COUNTIF(DI9:DI13,"ส")) | ... EF14: =IF(EF$4<>1,"",COUNTIF(EF9:EF13,"ม")+COUNTIF(EF9:EF13,"ส")) | EG14: =SUM(EG9:EG13) | EH14: =SUM(EH9:EH13) | EI14: =SUM(EI9:EI13) | EJ14: =IF(EJ$4<>1,"",COUNTIF(EJ9:EJ13,"ม")+COUNTIF(EJ9:EJ13,"ส")) | EK14: =IF(EK$4<>1,"",COUNTIF(EK9:EK13,"ม")+COUNTIF(EK9:EK13,"ส")) | EL14: =IF(EL$4<>1,"",COUNTIF(EL9:EL13,"ม")+COUNTIF(EL9:EL13,"ส")) | EM14: =IF(EM$4<>1,"",COUNTIF(EM9:EM13,"ม")+COUNTIF(EM9:EM13,"ส")) | EN14: =IF(EN$4<>1,"",COUNTIF(EN9:EN13,"ม")+COUNTIF(EN9:EN13,"ส")) | EO14: =IF(EO$4<>1,"",COUNTIF(EO9:EO13,"ม")+COUNTIF(EO9:EO13,"ส")) | EP14: =IF(EP$4<>1,"",COUNTIF(EP9:EP13,"ม")+COUNTIF(EP9:EP13,"ส")) | EQ14: =IF(EQ$4<>1,"",COUNTIF(EQ9:EQ13,"ม")+COUNTIF(EQ9:EQ13,"ส")) | ... FN14: =IF(FN$4<>1,"",COUNTIF(FN9:FN13,"ม")+COUNTIF(FN9:FN13,"ส")) | FO14: =SUM(FO9:FO13) | FP14: =SUM(FP9:FP13) | FQ14: =SUM(FQ9:FQ13) | FR14: =IF(FR$4<>1,"",COUNTIF(FR9:FR13,"ม")+COUNTIF(FR9:FR13,"ส")) | FS14: =IF(FS$4<>1,"",COUNTIF(FS9:FS13,"ม")+COUNTIF(FS9:FS13,"ส")) | FT14: =IF(FT$4<>1,"",COUNTIF(FT9:FT13,"ม")+COUNTIF(FT9:FT13,"ส")) | FU14: =IF(FU$4<>1,"",COUNTIF(FU9:FU13,"ม")+COUNTIF(FU9:FU13,"ส")) | FV14: =IF(FV$4<>1,"",COUNTIF(FV9:FV13,"ม")+COUNTIF(FV9:FV13,"ส")) | FW14: =IF(FW$4<>1,"",COUNTIF(FW9:FW13,"ม")+COUNTIF(FW9:FW13,"ส")) | FX14: =IF(FX$4<>1,"",COUNTIF(FX9:FX13,"ม")+COUNTIF(FX9:FX13,"ส")) | FY14: =IF(FY$4<>1,"",COUNTIF(FY9:FY13,"ม")+COUNTIF(FY9:FY13,"ส")) | ... GV14: =IF(GV$4<>1,"",COUNTIF(GV9:GV13,"ม")+COUNTIF(GV9:GV13,"ส")) | GW14: =SUM(GW9:GW13) | GX14: =SUM(GX9:GX13) | GY14: =SUM(GY9:GY13)
A15: ลา / ป่วย (คน) | D15: =IF(D$4<>1,"",COUNTIF(D9:D13,"ล")+COUNTIF(D9:D13,"ป")) | E15: =IF(E$4<>1,"",COUNTIF(E9:E13,"ล")+COUNTIF(E9:E13,"ป")) | F15: =IF(F$4<>1,"",COUNTIF(F9:F13,"ล")+COUNTIF(F9:F13,"ป")) | G15: =IF(G$4<>1,"",COUNTIF(G9:G13,"ล")+COUNTIF(G9:G13,"ป")) | H15: =IF(H$4<>1,"",COUNTIF(H9:H13,"ล")+COUNTIF(H9:H13,"ป")) | I15: =IF(I$4<>1,"",COUNTIF(I9:I13,"ล")+COUNTIF(I9:I13,"ป")) | J15: =IF(J$4<>1,"",COUNTIF(J9:J13,"ล")+COUNTIF(J9:J13,"ป")) | K15: =IF(K$4<>1,"",COUNTIF(K9:K13,"ล")+COUNTIF(K9:K13,"ป")) | ... AH15: =IF(AH$4<>1,"",COUNTIF(AH9:AH13,"ล")+COUNTIF(AH9:AH13,"ป")) | AL15: =IF(AL$4<>1,"",COUNTIF(AL9:AL13,"ล")+COUNTIF(AL9:AL13,"ป")) | AM15: =IF(AM$4<>1,"",COUNTIF(AM9:AM13,"ล")+COUNTIF(AM9:AM13,"ป")) | AN15: =IF(AN$4<>1,"",COUNTIF(AN9:AN13,"ล")+COUNTIF(AN9:AN13,"ป")) | AO15: =IF(AO$4<>1,"",COUNTIF(AO9:AO13,"ล")+COUNTIF(AO9:AO13,"ป")) | AP15: =IF(AP$4<>1,"",COUNTIF(AP9:AP13,"ล")+COUNTIF(AP9:AP13,"ป")) | AQ15: =IF(AQ$4<>1,"",COUNTIF(AQ9:AQ13,"ล")+COUNTIF(AQ9:AQ13,"ป")) | AR15: =IF(AR$4<>1,"",COUNTIF(AR9:AR13,"ล")+COUNTIF(AR9:AR13,"ป")) | AS15: =IF(AS$4<>1,"",COUNTIF(AS9:AS13,"ล")+COUNTIF(AS9:AS13,"ป")) | ... BP15: =IF(BP$4<>1,"",COUNTIF(BP9:BP13,"ล")+COUNTIF(BP9:BP13,"ป")) | BT15: =IF(BT$4<>1,"",COUNTIF(BT9:BT13,"ล")+COUNTIF(BT9:BT13,"ป")) | BU15: =IF(BU$4<>1,"",COUNTIF(BU9:BU13,"ล")+COUNTIF(BU9:BU13,"ป")) | BV15: =IF(BV$4<>1,"",COUNTIF(BV9:BV13,"ล")+COUNTIF(BV9:BV13,"ป")) | BW15: =IF(BW$4<>1,"",COUNTIF(BW9:BW13,"ล")+COUNTIF(BW9:BW13,"ป")) | BX15: =IF(BX$4<>1,"",COUNTIF(BX9:BX13,"ล")+COUNTIF(BX9:BX13,"ป")) | BY15: =IF(BY$4<>1,"",COUNTIF(BY9:BY13,"ล")+COUNTIF(BY9:BY13,"ป")) | BZ15: =IF(BZ$4<>1,"",COUNTIF(BZ9:BZ13,"ล")+COUNTIF(BZ9:BZ13,"ป")) | CA15: =IF(CA$4<>1,"",COUNTIF(CA9:CA13,"ล")+COUNTIF(CA9:CA13,"ป")) | ... CX15: =IF(CX$4<>1,"",COUNTIF(CX9:CX13,"ล")+COUNTIF(CX9:CX13,"ป")) | DB15: =IF(DB$4<>1,"",COUNTIF(DB9:DB13,"ล")+COUNTIF(DB9:DB13,"ป")) | DC15: =IF(DC$4<>1,"",COUNTIF(DC9:DC13,"ล")+COUNTIF(DC9:DC13,"ป")) | DD15: =IF(DD$4<>1,"",COUNTIF(DD9:DD13,"ล")+COUNTIF(DD9:DD13,"ป")) | DE15: =IF(DE$4<>1,"",COUNTIF(DE9:DE13,"ล")+COUNTIF(DE9:DE13,"ป")) | DF15: =IF(DF$4<>1,"",COUNTIF(DF9:DF13,"ล")+COUNTIF(DF9:DF13,"ป")) | DG15: =IF(DG$4<>1,"",COUNTIF(DG9:DG13,"ล")+COUNTIF(DG9:DG13,"ป")) | DH15: =IF(DH$4<>1,"",COUNTIF(DH9:DH13,"ล")+COUNTIF(DH9:DH13,"ป")) | DI15: =IF(DI$4<>1,"",COUNTIF(DI9:DI13,"ล")+COUNTIF(DI9:DI13,"ป")) | ... EF15: =IF(EF$4<>1,"",COUNTIF(EF9:EF13,"ล")+COUNTIF(EF9:EF13,"ป")) | EJ15: =IF(EJ$4<>1,"",COUNTIF(EJ9:EJ13,"ล")+COUNTIF(EJ9:EJ13,"ป")) | EK15: =IF(EK$4<>1,"",COUNTIF(EK9:EK13,"ล")+COUNTIF(EK9:EK13,"ป")) | EL15: =IF(EL$4<>1,"",COUNTIF(EL9:EL13,"ล")+COUNTIF(EL9:EL13,"ป")) | EM15: =IF(EM$4<>1,"",COUNTIF(EM9:EM13,"ล")+COUNTIF(EM9:EM13,"ป")) | EN15: =IF(EN$4<>1,"",COUNTIF(EN9:EN13,"ล")+COUNTIF(EN9:EN13,"ป")) | EO15: =IF(EO$4<>1,"",COUNTIF(EO9:EO13,"ล")+COUNTIF(EO9:EO13,"ป")) | EP15: =IF(EP$4<>1,"",COUNTIF(EP9:EP13,"ล")+COUNTIF(EP9:EP13,"ป")) | EQ15: =IF(EQ$4<>1,"",COUNTIF(EQ9:EQ13,"ล")+COUNTIF(EQ9:EQ13,"ป")) | ... FN15: =IF(FN$4<>1,"",COUNTIF(FN9:FN13,"ล")+COUNTIF(FN9:FN13,"ป")) | FR15: =IF(FR$4<>1,"",COUNTIF(FR9:FR13,"ล")+COUNTIF(FR9:FR13,"ป")) | FS15: =IF(FS$4<>1,"",COUNTIF(FS9:FS13,"ล")+COUNTIF(FS9:FS13,"ป")) | FT15: =IF(FT$4<>1,"",COUNTIF(FT9:FT13,"ล")+COUNTIF(FT9:FT13,"ป")) | FU15: =IF(FU$4<>1,"",COUNTIF(FU9:FU13,"ล")+COUNTIF(FU9:FU13,"ป")) | FV15: =IF(FV$4<>1,"",COUNTIF(FV9:FV13,"ล")+COUNTIF(FV9:FV13,"ป")) | FW15: =IF(FW$4<>1,"",COUNTIF(FW9:FW13,"ล")+COUNTIF(FW9:FW13,"ป")) | FX15: =IF(FX$4<>1,"",COUNTIF(FX9:FX13,"ล")+COUNTIF(FX9:FX13,"ป")) | FY15: =IF(FY$4<>1,"",COUNTIF(FY9:FY13,"ล")+COUNTIF(FY9:FY13,"ป")) | ... GV15: =IF(GV$4<>1,"",COUNTIF(GV9:GV13,"ล")+COUNTIF(GV9:GV13,"ป"))
A16: ขาด (คน) | D16: =IF(D$4<>1,"",COUNTIF(D9:D13,"ข")) | E16: =IF(E$4<>1,"",COUNTIF(E9:E13,"ข")) | F16: =IF(F$4<>1,"",COUNTIF(F9:F13,"ข")) | G16: =IF(G$4<>1,"",COUNTIF(G9:G13,"ข")) | H16: =IF(H$4<>1,"",COUNTIF(H9:H13,"ข")) | I16: =IF(I$4<>1,"",COUNTIF(I9:I13,"ข")) | J16: =IF(J$4<>1,"",COUNTIF(J9:J13,"ข")) | K16: =IF(K$4<>1,"",COUNTIF(K9:K13,"ข")) | ... AH16: =IF(AH$4<>1,"",COUNTIF(AH9:AH13,"ข")) | AL16: =IF(AL$4<>1,"",COUNTIF(AL9:AL13,"ข")) | AM16: =IF(AM$4<>1,"",COUNTIF(AM9:AM13,"ข")) | AN16: =IF(AN$4<>1,"",COUNTIF(AN9:AN13,"ข")) | AO16: =IF(AO$4<>1,"",COUNTIF(AO9:AO13,"ข")) | AP16: =IF(AP$4<>1,"",COUNTIF(AP9:AP13,"ข")) | AQ16: =IF(AQ$4<>1,"",COUNTIF(AQ9:AQ13,"ข")) | AR16: =IF(AR$4<>1,"",COUNTIF(AR9:AR13,"ข")) | AS16: =IF(AS$4<>1,"",COUNTIF(AS9:AS13,"ข")) | ... BP16: =IF(BP$4<>1,"",COUNTIF(BP9:BP13,"ข")) | BT16: =IF(BT$4<>1,"",COUNTIF(BT9:BT13,"ข")) | BU16: =IF(BU$4<>1,"",COUNTIF(BU9:BU13,"ข")) | BV16: =IF(BV$4<>1,"",COUNTIF(BV9:BV13,"ข")) | BW16: =IF(BW$4<>1,"",COUNTIF(BW9:BW13,"ข")) | BX16: =IF(BX$4<>1,"",COUNTIF(BX9:BX13,"ข")) | BY16: =IF(BY$4<>1,"",COUNTIF(BY9:BY13,"ข")) | BZ16: =IF(BZ$4<>1,"",COUNTIF(BZ9:BZ13,"ข")) | CA16: =IF(CA$4<>1,"",COUNTIF(CA9:CA13,"ข")) | ... CX16: =IF(CX$4<>1,"",COUNTIF(CX9:CX13,"ข")) | DB16: =IF(DB$4<>1,"",COUNTIF(DB9:DB13,"ข")) | DC16: =IF(DC$4<>1,"",COUNTIF(DC9:DC13,"ข")) | DD16: =IF(DD$4<>1,"",COUNTIF(DD9:DD13,"ข")) | DE16: =IF(DE$4<>1,"",COUNTIF(DE9:DE13,"ข")) | DF16: =IF(DF$4<>1,"",COUNTIF(DF9:DF13,"ข")) | DG16: =IF(DG$4<>1,"",COUNTIF(DG9:DG13,"ข")) | DH16: =IF(DH$4<>1,"",COUNTIF(DH9:DH13,"ข")) | DI16: =IF(DI$4<>1,"",COUNTIF(DI9:DI13,"ข")) | ... EF16: =IF(EF$4<>1,"",COUNTIF(EF9:EF13,"ข")) | EJ16: =IF(EJ$4<>1,"",COUNTIF(EJ9:EJ13,"ข")) | EK16: =IF(EK$4<>1,"",COUNTIF(EK9:EK13,"ข")) | EL16: =IF(EL$4<>1,"",COUNTIF(EL9:EL13,"ข")) | EM16: =IF(EM$4<>1,"",COUNTIF(EM9:EM13,"ข")) | EN16: =IF(EN$4<>1,"",COUNTIF(EN9:EN13,"ข")) | EO16: =IF(EO$4<>1,"",COUNTIF(EO9:EO13,"ข")) | EP16: =IF(EP$4<>1,"",COUNTIF(EP9:EP13,"ข")) | EQ16: =IF(EQ$4<>1,"",COUNTIF(EQ9:EQ13,"ข")) | ... FN16: =IF(FN$4<>1,"",COUNTIF(FN9:FN13,"ข")) | FR16: =IF(FR$4<>1,"",COUNTIF(FR9:FR13,"ข")) | FS16: =IF(FS$4<>1,"",COUNTIF(FS9:FS13,"ข")) | FT16: =IF(FT$4<>1,"",COUNTIF(FT9:FT13,"ข")) | FU16: =IF(FU$4<>1,"",COUNTIF(FU9:FU13,"ข")) | FV16: =IF(FV$4<>1,"",COUNTIF(FV9:FV13,"ข")) | FW16: =IF(FW$4<>1,"",COUNTIF(FW9:FW13,"ข")) | FX16: =IF(FX$4<>1,"",COUNTIF(FX9:FX13,"ข")) | FY16: =IF(FY$4<>1,"",COUNTIF(FY9:FY13,"ข")) | ... GV16: =IF(GV$4<>1,"",COUNTIF(GV9:GV13,"ข"))
A17: ยังไม่บันทึก (คน) | D17: =IF(D$4<>1,"",COUNTIF('ข้อมูลนักเรียน'!$E$9:$E$13,"?*")-COUNTA(D9:D13)) | E17: =IF(E$4<>1,"",COUNTIF('ข้อมูลนักเรียน'!$E$9:$E$13,"?*")-COUNTA(E9:E13)) | F17: =IF(F$4<>1,"",COUNTIF('ข้อมูลนักเรียน'!$E$9:$E$13,"?*")-COUNTA(F9:F13)) | G17: =IF(G$4<>1,"",COUNTIF('ข้อมูลนักเรียน'!$E$9:$E$13,"?*")-COUNTA(G9:G13)) | H17: =IF(H$4<>1,"",COUNTIF('ข้อมูลนักเรียน'!$E$9:$E$13,"?*")-COUNTA(H9:H13)) | I17: =IF(I$4<>1,"",COUNTIF('ข้อมูลนักเรียน'!$E$9:$E$13,"?*")-COUNTA(I9:I13)) | J17: =IF(J$4<>1,"",COUNTIF('ข้อมูลนักเรียน'!$E$9:$E$13,"?*")-COUNTA(J9:J13)) | K17: =IF(K$4<>1,"",COUNTIF('ข้อมูลนักเรียน'!$E$9:$E$13,"?*")-COUNTA(K9:K13)) | ... AH17: =IF(AH$4<>1,"",COUNTIF('ข้อมูลนักเรียน'!$E$9:$E$13,"?*")-COUNTA(AH9:AH13)) | AL17: =IF(AL$4<>1,"",COUNTIF('ข้อมูลนักเรียน'!$E$9:$E$13,"?*")-COUNTA(AL9:AL13)) | AM17: =IF(AM$4<>1,"",COUNTIF('ข้อมูลนักเรียน'!$E$9:$E$13,"?*")-COUNTA(AM9:AM13)) | AN17: =IF(AN$4<>1,"",COUNTIF('ข้อมูลนักเรียน'!$E$9:$E$13,"?*")-COUNTA(AN9:AN13)) | AO17: =IF(AO$4<>1,"",COUNTIF('ข้อมูลนักเรียน'!$E$9:$E$13,"?*")-COUNTA(AO9:AO13)) | AP17: =IF(AP$4<>1,"",COUNTIF('ข้อมูลนักเรียน'!$E$9:$E$13,"?*")-COUNTA(AP9:AP13)) | AQ17: =IF(AQ$4<>1,"",COUNTIF('ข้อมูลนักเรียน'!$E$9:$E$13,"?*")-COUNTA(AQ9:AQ13)) | AR17: =IF(AR$4<>1,"",COUNTIF('ข้อมูลนักเรียน'!$E$9:$E$13,"?*")-COUNTA(AR9:AR13)) | AS17: =IF(AS$4<>1,"",COUNTIF('ข้อมูลนักเรียน'!$E$9:$E$13,"?*")-COUNTA(AS9:AS13)) | ... BP17: =IF(BP$4<>1,"",COUNTIF('ข้อมูลนักเรียน'!$E$9:$E$13,"?*")-COUNTA(BP9:BP13)) | BT17: =IF(BT$4<>1,"",COUNTIF('ข้อมูลนักเรียน'!$E$9:$E$13,"?*")-COUNTA(BT9:BT13)) | BU17: =IF(BU$4<>1,"",COUNTIF('ข้อมูลนักเรียน'!$E$9:$E$13,"?*")-COUNTA(BU9:BU13)) | BV17: =IF(BV$4<>1,"",COUNTIF('ข้อมูลนักเรียน'!$E$9:$E$13,"?*")-COUNTA(BV9:BV13)) | BW17: =IF(BW$4<>1,"",COUNTIF('ข้อมูลนักเรียน'!$E$9:$E$13,"?*")-COUNTA(BW9:BW13)) | BX17: =IF(BX$4<>1,"",COUNTIF('ข้อมูลนักเรียน'!$E$9:$E$13,"?*")-COUNTA(BX9:BX13)) | BY17: =IF(BY$4<>1,"",COUNTIF('ข้อมูลนักเรียน'!$E$9:$E$13,"?*")-COUNTA(BY9:BY13)) | BZ17: =IF(BZ$4<>1,"",COUNTIF('ข้อมูลนักเรียน'!$E$9:$E$13,"?*")-COUNTA(BZ9:BZ13)) | CA17: =IF(CA$4<>1,"",COUNTIF('ข้อมูลนักเรียน'!$E$9:$E$13,"?*")-COUNTA(CA9:CA13)) | ... CX17: =IF(CX$4<>1,"",COUNTIF('ข้อมูลนักเรียน'!$E$9:$E$13,"?*")-COUNTA(CX9:CX13)) | DB17: =IF(DB$4<>1,"",COUNTIF('ข้อมูลนักเรียน'!$E$9:$E$13,"?*")-COUNTA(DB9:DB13)) | DC17: =IF(DC$4<>1,"",COUNTIF('ข้อมูลนักเรียน'!$E$9:$E$13,"?*")-COUNTA(DC9:DC13)) | DD17: =IF(DD$4<>1,"",COUNTIF('ข้อมูลนักเรียน'!$E$9:$E$13,"?*")-COUNTA(DD9:DD13)) | DE17: =IF(DE$4<>1,"",COUNTIF('ข้อมูลนักเรียน'!$E$9:$E$13,"?*")-COUNTA(DE9:DE13)) | DF17: =IF(DF$4<>1,"",COUNTIF('ข้อมูลนักเรียน'!$E$9:$E$13,"?*")-COUNTA(DF9:DF13)) | DG17: =IF(DG$4<>1,"",COUNTIF('ข้อมูลนักเรียน'!$E$9:$E$13,"?*")-COUNTA(DG9:DG13)) | DH17: =IF(DH$4<>1,"",COUNTIF('ข้อมูลนักเรียน'!$E$9:$E$13,"?*")-COUNTA(DH9:DH13)) | DI17: =IF(DI$4<>1,"",COUNTIF('ข้อมูลนักเรียน'!$E$9:$E$13,"?*")-COUNTA(DI9:DI13)) | ... EF17: =IF(EF$4<>1,"",COUNTIF('ข้อมูลนักเรียน'!$E$9:$E$13,"?*")-COUNTA(EF9:EF13)) | EJ17: =IF(EJ$4<>1,"",COUNTIF('ข้อมูลนักเรียน'!$E$9:$E$13,"?*")-COUNTA(EJ9:EJ13)) | EK17: =IF(EK$4<>1,"",COUNTIF('ข้อมูลนักเรียน'!$E$9:$E$13,"?*")-COUNTA(EK9:EK13)) | EL17: =IF(EL$4<>1,"",COUNTIF('ข้อมูลนักเรียน'!$E$9:$E$13,"?*")-COUNTA(EL9:EL13)) | EM17: =IF(EM$4<>1,"",COUNTIF('ข้อมูลนักเรียน'!$E$9:$E$13,"?*")-COUNTA(EM9:EM13)) | EN17: =IF(EN$4<>1,"",COUNTIF('ข้อมูลนักเรียน'!$E$9:$E$13,"?*")-COUNTA(EN9:EN13)) | EO17: =IF(EO$4<>1,"",COUNTIF('ข้อมูลนักเรียน'!$E$9:$E$13,"?*")-COUNTA(EO9:EO13)) | EP17: =IF(EP$4<>1,"",COUNTIF('ข้อมูลนักเรียน'!$E$9:$E$13,"?*")-COUNTA(EP9:EP13)) | EQ17: =IF(EQ$4<>1,"",COUNTIF('ข้อมูลนักเรียน'!$E$9:$E$13,"?*")-COUNTA(EQ9:EQ13)) | ... FN17: =IF(FN$4<>1,"",COUNTIF('ข้อมูลนักเรียน'!$E$9:$E$13,"?*")-COUNTA(FN9:FN13)) | FR17: =IF(FR$4<>1,"",COUNTIF('ข้อมูลนักเรียน'!$E$9:$E$13,"?*")-COUNTA(FR9:FR13)) | FS17: =IF(FS$4<>1,"",COUNTIF('ข้อมูลนักเรียน'!$E$9:$E$13,"?*")-COUNTA(FS9:FS13)) | FT17: =IF(FT$4<>1,"",COUNTIF('ข้อมูลนักเรียน'!$E$9:$E$13,"?*")-COUNTA(FT9:FT13)) | FU17: =IF(FU$4<>1,"",COUNTIF('ข้อมูลนักเรียน'!$E$9:$E$13,"?*")-COUNTA(FU9:FU13)) | FV17: =IF(FV$4<>1,"",COUNTIF('ข้อมูลนักเรียน'!$E$9:$E$13,"?*")-COUNTA(FV9:FV13)) | FW17: =IF(FW$4<>1,"",COUNTIF('ข้อมูลนักเรียน'!$E$9:$E$13,"?*")-COUNTA(FW9:FW13)) | FX17: =IF(FX$4<>1,"",COUNTIF('ข้อมูลนักเรียน'!$E$9:$E$13,"?*")-COUNTA(FX9:FX13)) | FY17: =IF(FY$4<>1,"",COUNTIF('ข้อมูลนักเรียน'!$E$9:$E$13,"?*")-COUNTA(FY9:FY13)) | ... GV17: =IF(GV$4<>1,"",COUNTIF('ข้อมูลนักเรียน'!$E$9:$E$13,"?*")-COUNTA(GV9:GV13))
B19: ลงชื่อ ........................................................ | V19: ลงชื่อ ........................................................
B20: ="( "&IF('ข้อมูลโรงเรียน'!$C$9="","..................................................",'ข้อมูลโรงเรียน'!$C$9)&" )" | V20: ="( "&IF('ข้อมูลโรงเรียน'!$C$11="","..................................................",'ข้อมูลโรงเรียน'!$C$11)&" )"
B21: ครูประจำชั้น | V21: ผู้บริหารสถานศึกษา

Sheet มาเรียน-ภ2
A1: 🏠
A2: หน้าหลัก | B2: ="โรงเรียน"&'ข้อมูลโรงเรียน'!$C$5&" ชั้น"&'ข้อมูลโรงเรียน'!$C$7&"/"&'ข้อมูลโรงเรียน'!$C$8&" ปีการศึกษา "&'ข้อมูลโรงเรียน'!$C$12&" ครูประจำชั้น "&'ข้อมูลโรงเรียน'!$C$9
B3: รหัส ม = มา ส = สาย ล = ลา ป = ป่วย ข = ขาด (พิมพ์ด้วยแป้นภาษาไทยได้เลย)
D4: ='ปฏิทิน'!D6 | E4: ='ปฏิทิน'!E6 | F4: ='ปฏิทิน'!F6 | G4: ='ปฏิทิน'!G6 | H4: ='ปฏิทิน'!H6 | I4: ='ปฏิทิน'!I6 | J4: ='ปฏิทิน'!J6 | K4: ='ปฏิทิน'!K6 | ... AH4: ='ปฏิทิน'!AH6 | AI4: s | AJ4: s | AK4: s | AL4: ='ปฏิทิน'!AL6 | AM4: ='ปฏิทิน'!AM6 | AN4: ='ปฏิทิน'!AN6 | AO4: ='ปฏิทิน'!AO6 | AP4: ='ปฏิทิน'!AP6 | AQ4: ='ปฏิทิน'!AQ6 | AR4: ='ปฏิทิน'!AR6 | AS4: ='ปฏิทิน'!AS6 | ... BP4: ='ปฏิทิน'!BP6 | BQ4: s | BR4: s | BS4: s | BT4: ='ปฏิทิน'!BT6 | BU4: ='ปฏิทิน'!BU6 | BV4: ='ปฏิทิน'!BV6 | BW4: ='ปฏิทิน'!BW6 | BX4: ='ปฏิทิน'!BX6 | BY4: ='ปฏิทิน'!BY6 | BZ4: ='ปฏิทิน'!BZ6 | CA4: ='ปฏิทิน'!CA6 | ... CX4: ='ปฏิทิน'!CX6 | CY4: s | CZ4: s | DA4: s | DB4: ='ปฏิทิน'!DB6 | DC4: ='ปฏิทิน'!DC6 | DD4: ='ปฏิทิน'!DD6 | DE4: ='ปฏิทิน'!DE6 | DF4: ='ปฏิทิน'!DF6 | DG4: ='ปฏิทิน'!DG6 | DH4: ='ปฏิทิน'!DH6 | DI4: ='ปฏิทิน'!DI6 | ... EF4: ='ปฏิทิน'!EF6 | EG4: s | EH4: s | EI4: s | EJ4: ='ปฏิทิน'!EJ6 | EK4: ='ปฏิทิน'!EK6 | EL4: ='ปฏิทิน'!EL6 | EM4: ='ปฏิทิน'!EM6 | EN4: ='ปฏิทิน'!EN6 | EO4: ='ปฏิทิน'!EO6 | EP4: ='ปฏิทิน'!EP6 | EQ4: ='ปฏิทิน'!EQ6 | ... FN4: ='ปฏิทิน'!FN6 | FO4: s | FP4: s | FQ4: s
A5: เลขที่ | B5: ชื่อ - สกุล | C5: ร้อยละ มาเรียน ทั้งภาค | D5: ="เดือนพฤศจิกายน พ.ศ. "&('ข้อมูลโรงเรียน'!$C$12-543+543) | AI5: สรุป พ.ย. | AL5: ="เดือนธันวาคม พ.ศ. "&('ข้อมูลโรงเรียน'!$C$12-543+543) | BQ5: สรุป ธ.ค. | BT5: ="เดือนมกราคม พ.ศ. "&('ข้อมูลโรงเรียน'!$C$12-542+543) | CY5: สรุป ม.ค. | DB5: ="เดือนกุมภาพันธ์ พ.ศ. "&('ข้อมูลโรงเรียน'!$C$12-542+543) | EG5: สรุป ก.พ. | EJ5: ="เดือนมีนาคม พ.ศ. "&('ข้อมูลโรงเรียน'!$C$12-542+543) | FO5: สรุป มี.ค.
D6: =IF('ปฏิทิน'!D5="","",DAY('ปฏิทิน'!D5)) | E6: =IF('ปฏิทิน'!E5="","",DAY('ปฏิทิน'!E5)) | F6: =IF('ปฏิทิน'!F5="","",DAY('ปฏิทิน'!F5)) | G6: =IF('ปฏิทิน'!G5="","",DAY('ปฏิทิน'!G5)) | H6: =IF('ปฏิทิน'!H5="","",DAY('ปฏิทิน'!H5)) | I6: =IF('ปฏิทิน'!I5="","",DAY('ปฏิทิน'!I5)) | J6: =IF('ปฏิทิน'!J5="","",DAY('ปฏิทิน'!J5)) | K6: =IF('ปฏิทิน'!K5="","",DAY('ปฏิทิน'!K5)) | ... AH6: =IF('ปฏิทิน'!AH5="","",DAY('ปฏิทิน'!AH5)) | AI6: มา | AJ6: ลา ป่วย | AK6: ขาด | AL6: =IF('ปฏิทิน'!AL5="","",DAY('ปฏิทิน'!AL5)) | AM6: =IF('ปฏิทิน'!AM5="","",DAY('ปฏิทิน'!AM5)) | AN6: =IF('ปฏิทิน'!AN5="","",DAY('ปฏิทิน'!AN5)) | AO6: =IF('ปฏิทิน'!AO5="","",DAY('ปฏิทิน'!AO5)) | AP6: =IF('ปฏิทิน'!AP5="","",DAY('ปฏิทิน'!AP5)) | AQ6: =IF('ปฏิทิน'!AQ5="","",DAY('ปฏิทิน'!AQ5)) | AR6: =IF('ปฏิทิน'!AR5="","",DAY('ปฏิทิน'!AR5)) | AS6: =IF('ปฏิทิน'!AS5="","",DAY('ปฏิทิน'!AS5)) | ... BP6: =IF('ปฏิทิน'!BP5="","",DAY('ปฏิทิน'!BP5)) | BQ6: มา | BR6: ลา ป่วย | BS6: ขาด | BT6: =IF('ปฏิทิน'!BT5="","",DAY('ปฏิทิน'!BT5)) | BU6: =IF('ปฏิทิน'!BU5="","",DAY('ปฏิทิน'!BU5)) | BV6: =IF('ปฏิทิน'!BV5="","",DAY('ปฏิทิน'!BV5)) | BW6: =IF('ปฏิทิน'!BW5="","",DAY('ปฏิทิน'!BW5)) | BX6: =IF('ปฏิทิน'!BX5="","",DAY('ปฏิทิน'!BX5)) | BY6: =IF('ปฏิทิน'!BY5="","",DAY('ปฏิทิน'!BY5)) | BZ6: =IF('ปฏิทิน'!BZ5="","",DAY('ปฏิทิน'!BZ5)) | CA6: =IF('ปฏิทิน'!CA5="","",DAY('ปฏิทิน'!CA5)) | ... CX6: =IF('ปฏิทิน'!CX5="","",DAY('ปฏิทิน'!CX5)) | CY6: มา | CZ6: ลา ป่วย | DA6: ขาด | DB6: =IF('ปฏิทิน'!DB5="","",DAY('ปฏิทิน'!DB5)) | DC6: =IF('ปฏิทิน'!DC5="","",DAY('ปฏิทิน'!DC5)) | DD6: =IF('ปฏิทิน'!DD5="","",DAY('ปฏิทิน'!DD5)) | DE6: =IF('ปฏิทิน'!DE5="","",DAY('ปฏิทิน'!DE5)) | DF6: =IF('ปฏิทิน'!DF5="","",DAY('ปฏิทิน'!DF5)) | DG6: =IF('ปฏิทิน'!DG5="","",DAY('ปฏิทิน'!DG5)) | DH6: =IF('ปฏิทิน'!DH5="","",DAY('ปฏิทิน'!DH5)) | DI6: =IF('ปฏิทิน'!DI5="","",DAY('ปฏิทิน'!DI5)) | ... EF6: =IF('ปฏิทิน'!EF5="","",DAY('ปฏิทิน'!EF5)) | EG6: มา | EH6: ลา ป่วย | EI6: ขาด | EJ6: =IF('ปฏิทิน'!EJ5="","",DAY('ปฏิทิน'!EJ5)) | EK6: =IF('ปฏิทิน'!EK5="","",DAY('ปฏิทิน'!EK5)) | EL6: =IF('ปฏิทิน'!EL5="","",DAY('ปฏิทิน'!EL5)) | EM6: =IF('ปฏิทิน'!EM5="","",DAY('ปฏิทิน'!EM5)) | EN6: =IF('ปฏิทิน'!EN5="","",DAY('ปฏิทิน'!EN5)) | EO6: =IF('ปฏิทิน'!EO5="","",DAY('ปฏิทิน'!EO5)) | EP6: =IF('ปฏิทิน'!EP5="","",DAY('ปฏิทิน'!EP5)) | EQ6: =IF('ปฏิทิน'!EQ5="","",DAY('ปฏิทิน'!EQ5)) | ... FN6: =IF('ปฏิทิน'!FN5="","",DAY('ปฏิทิน'!FN5)) | FO6: มา | FP6: ลา ป่วย | FQ6: ขาด
D7: =IF('ปฏิทิน'!D5="","",CHOOSE(WEEKDAY('ปฏิทิน'!D5,2),"จ.","อ.","พ.","พฤ.","ศ.","ส.","อา.")) | E7: =IF('ปฏิทิน'!E5="","",CHOOSE(WEEKDAY('ปฏิทิน'!E5,2),"จ.","อ.","พ.","พฤ.","ศ.","ส.","อา.")) | F7: =IF('ปฏิทิน'!F5="","",CHOOSE(WEEKDAY('ปฏิทิน'!F5,2),"จ.","อ.","พ.","พฤ.","ศ.","ส.","อา.")) | G7: =IF('ปฏิทิน'!G5="","",CHOOSE(WEEKDAY('ปฏิทิน'!G5,2),"จ.","อ.","พ.","พฤ.","ศ.","ส.","อา.")) | H7: =IF('ปฏิทิน'!H5="","",CHOOSE(WEEKDAY('ปฏิทิน'!H5,2),"จ.","อ.","พ.","พฤ.","ศ.","ส.","อา.")) | I7: =IF('ปฏิทิน'!I5="","",CHOOSE(WEEKDAY('ปฏิทิน'!I5,2),"จ.","อ.","พ.","พฤ.","ศ.","ส.","อา.")) | J7: =IF('ปฏิทิน'!J5="","",CHOOSE(WEEKDAY('ปฏิทิน'!J5,2),"จ.","อ.","พ.","พฤ.","ศ.","ส.","อา.")) | K7: =IF('ปฏิทิน'!K5="","",CHOOSE(WEEKDAY('ปฏิทิน'!K5,2),"จ.","อ.","พ.","พฤ.","ศ.","ส.","อา.")) | ... AH7: =IF('ปฏิทิน'!AH5="","",CHOOSE(WEEKDAY('ปฏิทิน'!AH5,2),"จ.","อ.","พ.","พฤ.","ศ.","ส.","อา.")) | AL7: =IF('ปฏิทิน'!AL5="","",CHOOSE(WEEKDAY('ปฏิทิน'!AL5,2),"จ.","อ.","พ.","พฤ.","ศ.","ส.","อา.")) | AM7: =IF('ปฏิทิน'!AM5="","",CHOOSE(WEEKDAY('ปฏิทิน'!AM5,2),"จ.","อ.","พ.","พฤ.","ศ.","ส.","อา.")) | AN7: =IF('ปฏิทิน'!AN5="","",CHOOSE(WEEKDAY('ปฏิทิน'!AN5,2),"จ.","อ.","พ.","พฤ.","ศ.","ส.","อา.")) | AO7: =IF('ปฏิทิน'!AO5="","",CHOOSE(WEEKDAY('ปฏิทิน'!AO5,2),"จ.","อ.","พ.","พฤ.","ศ.","ส.","อา.")) | AP7: =IF('ปฏิทิน'!AP5="","",CHOOSE(WEEKDAY('ปฏิทิน'!AP5,2),"จ.","อ.","พ.","พฤ.","ศ.","ส.","อา.")) | AQ7: =IF('ปฏิทิน'!AQ5="","",CHOOSE(WEEKDAY('ปฏิทิน'!AQ5,2),"จ.","อ.","พ.","พฤ.","ศ.","ส.","อา.")) | AR7: =IF('ปฏิทิน'!AR5="","",CHOOSE(WEEKDAY('ปฏิทิน'!AR5,2),"จ.","อ.","พ.","พฤ.","ศ.","ส.","อา.")) | AS7: =IF('ปฏิทิน'!AS5="","",CHOOSE(WEEKDAY('ปฏิทิน'!AS5,2),"จ.","อ.","พ.","พฤ.","ศ.","ส.","อา.")) | ... BP7: =IF('ปฏิทิน'!BP5="","",CHOOSE(WEEKDAY('ปฏิทิน'!BP5,2),"จ.","อ.","พ.","พฤ.","ศ.","ส.","อา.")) | BT7: =IF('ปฏิทิน'!BT5="","",CHOOSE(WEEKDAY('ปฏิทิน'!BT5,2),"จ.","อ.","พ.","พฤ.","ศ.","ส.","อา.")) | BU7: =IF('ปฏิทิน'!BU5="","",CHOOSE(WEEKDAY('ปฏิทิน'!BU5,2),"จ.","อ.","พ.","พฤ.","ศ.","ส.","อา.")) | BV7: =IF('ปฏิทิน'!BV5="","",CHOOSE(WEEKDAY('ปฏิทิน'!BV5,2),"จ.","อ.","พ.","พฤ.","ศ.","ส.","อา.")) | BW7: =IF('ปฏิทิน'!BW5="","",CHOOSE(WEEKDAY('ปฏิทิน'!BW5,2),"จ.","อ.","พ.","พฤ.","ศ.","ส.","อา.")) | BX7: =IF('ปฏิทิน'!BX5="","",CHOOSE(WEEKDAY('ปฏิทิน'!BX5,2),"จ.","อ.","พ.","พฤ.","ศ.","ส.","อา.")) | BY7: =IF('ปฏิทิน'!BY5="","",CHOOSE(WEEKDAY('ปฏิทิน'!BY5,2),"จ.","อ.","พ.","พฤ.","ศ.","ส.","อา.")) | BZ7: =IF('ปฏิทิน'!BZ5="","",CHOOSE(WEEKDAY('ปฏิทิน'!BZ5,2),"จ.","อ.","พ.","พฤ.","ศ.","ส.","อา.")) | CA7: =IF('ปฏิทิน'!CA5="","",CHOOSE(WEEKDAY('ปฏิทิน'!CA5,2),"จ.","อ.","พ.","พฤ.","ศ.","ส.","อา.")) | ... CX7: =IF('ปฏิทิน'!CX5="","",CHOOSE(WEEKDAY('ปฏิทิน'!CX5,2),"จ.","อ.","พ.","พฤ.","ศ.","ส.","อา.")) | DB7: =IF('ปฏิทิน'!DB5="","",CHOOSE(WEEKDAY('ปฏิทิน'!DB5,2),"จ.","อ.","พ.","พฤ.","ศ.","ส.","อา.")) | DC7: =IF('ปฏิทิน'!DC5="","",CHOOSE(WEEKDAY('ปฏิทิน'!DC5,2),"จ.","อ.","พ.","พฤ.","ศ.","ส.","อา.")) | DD7: =IF('ปฏิทิน'!DD5="","",CHOOSE(WEEKDAY('ปฏิทิน'!DD5,2),"จ.","อ.","พ.","พฤ.","ศ.","ส.","อา.")) | DE7: =IF('ปฏิทิน'!DE5="","",CHOOSE(WEEKDAY('ปฏิทิน'!DE5,2),"จ.","อ.","พ.","พฤ.","ศ.","ส.","อา.")) | DF7: =IF('ปฏิทิน'!DF5="","",CHOOSE(WEEKDAY('ปฏิทิน'!DF5,2),"จ.","อ.","พ.","พฤ.","ศ.","ส.","อา.")) | DG7: =IF('ปฏิทิน'!DG5="","",CHOOSE(WEEKDAY('ปฏิทิน'!DG5,2),"จ.","อ.","พ.","พฤ.","ศ.","ส.","อา.")) | DH7: =IF('ปฏิทิน'!DH5="","",CHOOSE(WEEKDAY('ปฏิทิน'!DH5,2),"จ.","อ.","พ.","พฤ.","ศ.","ส.","อา.")) | DI7: =IF('ปฏิทิน'!DI5="","",CHOOSE(WEEKDAY('ปฏิทิน'!DI5,2),"จ.","อ.","พ.","พฤ.","ศ.","ส.","อา.")) | ... EF7: =IF('ปฏิทิน'!EF5="","",CHOOSE(WEEKDAY('ปฏิทิน'!EF5,2),"จ.","อ.","พ.","พฤ.","ศ.","ส.","อา.")) | EJ7: =IF('ปฏิทิน'!EJ5="","",CHOOSE(WEEKDAY('ปฏิทิน'!EJ5,2),"จ.","อ.","พ.","พฤ.","ศ.","ส.","อา.")) | EK7: =IF('ปฏิทิน'!EK5="","",CHOOSE(WEEKDAY('ปฏิทิน'!EK5,2),"จ.","อ.","พ.","พฤ.","ศ.","ส.","อา.")) | EL7: =IF('ปฏิทิน'!EL5="","",CHOOSE(WEEKDAY('ปฏิทิน'!EL5,2),"จ.","อ.","พ.","พฤ.","ศ.","ส.","อา.")) | EM7: =IF('ปฏิทิน'!EM5="","",CHOOSE(WEEKDAY('ปฏิทิน'!EM5,2),"จ.","อ.","พ.","พฤ.","ศ.","ส.","อา.")) | EN7: =IF('ปฏิทิน'!EN5="","",CHOOSE(WEEKDAY('ปฏิทิน'!EN5,2),"จ.","อ.","พ.","พฤ.","ศ.","ส.","อา.")) | EO7: =IF('ปฏิทิน'!EO5="","",CHOOSE(WEEKDAY('ปฏิทิน'!EO5,2),"จ.","อ.","พ.","พฤ.","ศ.","ส.","อา.")) | EP7: =IF('ปฏิทิน'!EP5="","",CHOOSE(WEEKDAY('ปฏิทิน'!EP5,2),"จ.","อ.","พ.","พฤ.","ศ.","ส.","อา.")) | EQ7: =IF('ปฏิทิน'!EQ5="","",CHOOSE(WEEKDAY('ปฏิทิน'!EQ5,2),"จ.","อ.","พ.","พฤ.","ศ.","ส.","อา.")) | ... FN7: =IF('ปฏิทิน'!FN5="","",CHOOSE(WEEKDAY('ปฏิทิน'!FN5,2),"จ.","อ.","พ.","พฤ.","ศ.","ส.","อา."))
D8: ='ปฏิทิน'!D7 | E8: ='ปฏิทิน'!E7 | F8: ='ปฏิทิน'!F7 | G8: ='ปฏิทิน'!G7 | H8: ='ปฏิทิน'!H7 | I8: ='ปฏิทิน'!I7 | J8: ='ปฏิทิน'!J7 | K8: ='ปฏิทิน'!K7 | ... AH8: ='ปฏิทิน'!AH7 | AL8: ='ปฏิทิน'!AL7 | AM8: ='ปฏิทิน'!AM7 | AN8: ='ปฏิทิน'!AN7 | AO8: ='ปฏิทิน'!AO7 | AP8: ='ปฏิทิน'!AP7 | AQ8: ='ปฏิทิน'!AQ7 | AR8: ='ปฏิทิน'!AR7 | AS8: ='ปฏิทิน'!AS7 | ... BP8: ='ปฏิทิน'!BP7 | BT8: ='ปฏิทิน'!BT7 | BU8: ='ปฏิทิน'!BU7 | BV8: ='ปฏิทิน'!BV7 | BW8: ='ปฏิทิน'!BW7 | BX8: ='ปฏิทิน'!BX7 | BY8: ='ปฏิทิน'!BY7 | BZ8: ='ปฏิทิน'!BZ7 | CA8: ='ปฏิทิน'!CA7 | ... CX8: ='ปฏิทิน'!CX7 | DB8: ='ปฏิทิน'!DB7 | DC8: ='ปฏิทิน'!DC7 | DD8: ='ปฏิทิน'!DD7 | DE8: ='ปฏิทิน'!DE7 | DF8: ='ปฏิทิน'!DF7 | DG8: ='ปฏิทิน'!DG7 | DH8: ='ปฏิทิน'!DH7 | DI8: ='ปฏิทิน'!DI7 | ... EF8: ='ปฏิทิน'!EF7 | EJ8: ='ปฏิทิน'!EJ7 | EK8: ='ปฏิทิน'!EK7 | EL8: ='ปฏิทิน'!EL7 | EM8: ='ปฏิทิน'!EM7 | EN8: ='ปฏิทิน'!EN7 | EO8: ='ปฏิทิน'!EO7 | EP8: ='ปฏิทิน'!EP7 | EQ8: ='ปฏิทิน'!EQ7 | ... FN8: ='ปฏิทิน'!FN7
A9: 1 | B9: ='ข้อมูลนักเรียน'!T9 | C9: =IF(B9="","",IFERROR((COUNTIF(D9:FQ9,"ม")+COUNTIF(D9:FQ9,"ส"))/(COUNTIF(D9:FQ9,"ม")+COUNTIF(D9:FQ9,"ส")+COUNTIF(D9:FQ9,"ล")+COUNTIF(D9:FQ9,"ป")+COUNTIF(D9:FQ9,"ข")),"")) | AI9: =IF($B9="","",COUNTIF(D9:AH9,"ม")+COUNTIF(D9:AH9,"ส")) | AJ9: =IF($B9="","",COUNTIF(D9:AH9,"ล")+COUNTIF(D9:AH9,"ป")) | AK9: =IF($B9="","",COUNTIF(D9:AH9,"ข")) | BQ9: =IF($B9="","",COUNTIF(AL9:BP9,"ม")+COUNTIF(AL9:BP9,"ส")) | BR9: =IF($B9="","",COUNTIF(AL9:BP9,"ล")+COUNTIF(AL9:BP9,"ป")) | BS9: =IF($B9="","",COUNTIF(AL9:BP9,"ข")) | CY9: =IF($B9="","",COUNTIF(BT9:CX9,"ม")+COUNTIF(BT9:CX9,"ส")) | CZ9: =IF($B9="","",COUNTIF(BT9:CX9,"ล")+COUNTIF(BT9:CX9,"ป")) | DA9: =IF($B9="","",COUNTIF(BT9:CX9,"ข")) | EG9: =IF($B9="","",COUNTIF(DB9:EF9,"ม")+COUNTIF(DB9:EF9,"ส")) | EH9: =IF($B9="","",COUNTIF(DB9:EF9,"ล")+COUNTIF(DB9:EF9,"ป")) | EI9: =IF($B9="","",COUNTIF(DB9:EF9,"ข")) | FO9: =IF($B9="","",COUNTIF(EJ9:FN9,"ม")+COUNTIF(EJ9:FN9,"ส")) | FP9: =IF($B9="","",COUNTIF(EJ9:FN9,"ล")+COUNTIF(EJ9:FN9,"ป")) | FQ9: =IF($B9="","",COUNTIF(EJ9:FN9,"ข"))
A10: 2 | B10: ='ข้อมูลนักเรียน'!T10 | C10: =IF(B10="","",IFERROR((COUNTIF(D10:FQ10,"ม")+COUNTIF(D10:FQ10,"ส"))/(COUNTIF(D10:FQ10,"ม")+COUNTIF(D10:FQ10,"ส")+COUNTIF(D10:FQ10,"ล")+COUNTIF(D10:FQ10,"ป")+COUNTIF(D10:FQ10,"ข")),"")) | AI10: =IF($B10="","",COUNTIF(D10:AH10,"ม")+COUNTIF(D10:AH10,"ส")) | AJ10: =IF($B10="","",COUNTIF(D10:AH10,"ล")+COUNTIF(D10:AH10,"ป")) | AK10: =IF($B10="","",COUNTIF(D10:AH10,"ข")) | BQ10: =IF($B10="","",COUNTIF(AL10:BP10,"ม")+COUNTIF(AL10:BP10,"ส")) | BR10: =IF($B10="","",COUNTIF(AL10:BP10,"ล")+COUNTIF(AL10:BP10,"ป")) | BS10: =IF($B10="","",COUNTIF(AL10:BP10,"ข")) | CY10: =IF($B10="","",COUNTIF(BT10:CX10,"ม")+COUNTIF(BT10:CX10,"ส")) | CZ10: =IF($B10="","",COUNTIF(BT10:CX10,"ล")+COUNTIF(BT10:CX10,"ป")) | DA10: =IF($B10="","",COUNTIF(BT10:CX10,"ข")) | EG10: =IF($B10="","",COUNTIF(DB10:EF10,"ม")+COUNTIF(DB10:EF10,"ส")) | EH10: =IF($B10="","",COUNTIF(DB10:EF10,"ล")+COUNTIF(DB10:EF10,"ป")) | EI10: =IF($B10="","",COUNTIF(DB10:EF10,"ข")) | FO10: =IF($B10="","",COUNTIF(EJ10:FN10,"ม")+COUNTIF(EJ10:FN10,"ส")) | FP10: =IF($B10="","",COUNTIF(EJ10:FN10,"ล")+COUNTIF(EJ10:FN10,"ป")) | FQ10: =IF($B10="","",COUNTIF(EJ10:FN10,"ข"))
A11: 3 | B11: ='ข้อมูลนักเรียน'!T11 | C11: =IF(B11="","",IFERROR((COUNTIF(D11:FQ11,"ม")+COUNTIF(D11:FQ11,"ส"))/(COUNTIF(D11:FQ11,"ม")+COUNTIF(D11:FQ11,"ส")+COUNTIF(D11:FQ11,"ล")+COUNTIF(D11:FQ11,"ป")+COUNTIF(D11:FQ11,"ข")),"")) | AI11: =IF($B11="","",COUNTIF(D11:AH11,"ม")+COUNTIF(D11:AH11,"ส")) | AJ11: =IF($B11="","",COUNTIF(D11:AH11,"ล")+COUNTIF(D11:AH11,"ป")) | AK11: =IF($B11="","",COUNTIF(D11:AH11,"ข")) | BQ11: =IF($B11="","",COUNTIF(AL11:BP11,"ม")+COUNTIF(AL11:BP11,"ส")) | BR11: =IF($B11="","",COUNTIF(AL11:BP11,"ล")+COUNTIF(AL11:BP11,"ป")) | BS11: =IF($B11="","",COUNTIF(AL11:BP11,"ข")) | CY11: =IF($B11="","",COUNTIF(BT11:CX11,"ม")+COUNTIF(BT11:CX11,"ส")) | CZ11: =IF($B11="","",COUNTIF(BT11:CX11,"ล")+COUNTIF(BT11:CX11,"ป")) | DA11: =IF($B11="","",COUNTIF(BT11:CX11,"ข")) | EG11: =IF($B11="","",COUNTIF(DB11:EF11,"ม")+COUNTIF(DB11:EF11,"ส")) | EH11: =IF($B11="","",COUNTIF(DB11:EF11,"ล")+COUNTIF(DB11:EF11,"ป")) | EI11: =IF($B11="","",COUNTIF(DB11:EF11,"ข")) | FO11: =IF($B11="","",COUNTIF(EJ11:FN11,"ม")+COUNTIF(EJ11:FN11,"ส")) | FP11: =IF($B11="","",COUNTIF(EJ11:FN11,"ล")+COUNTIF(EJ11:FN11,"ป")) | FQ11: =IF($B11="","",COUNTIF(EJ11:FN11,"ข"))
A12: 4 | B12: ='ข้อมูลนักเรียน'!T12 | C12: =IF(B12="","",IFERROR((COUNTIF(D12:FQ12,"ม")+COUNTIF(D12:FQ12,"ส"))/(COUNTIF(D12:FQ12,"ม")+COUNTIF(D12:FQ12,"ส")+COUNTIF(D12:FQ12,"ล")+COUNTIF(D12:FQ12,"ป")+COUNTIF(D12:FQ12,"ข")),"")) | AI12: =IF($B12="","",COUNTIF(D12:AH12,"ม")+COUNTIF(D12:AH12,"ส")) | AJ12: =IF($B12="","",COUNTIF(D12:AH12,"ล")+COUNTIF(D12:AH12,"ป")) | AK12: =IF($B12="","",COUNTIF(D12:AH12,"ข")) | BQ12: =IF($B12="","",COUNTIF(AL12:BP12,"ม")+COUNTIF(AL12:BP12,"ส")) | BR12: =IF($B12="","",COUNTIF(AL12:BP12,"ล")+COUNTIF(AL12:BP12,"ป")) | BS12: =IF($B12="","",COUNTIF(AL12:BP12,"ข")) | CY12: =IF($B12="","",COUNTIF(BT12:CX12,"ม")+COUNTIF(BT12:CX12,"ส")) | CZ12: =IF($B12="","",COUNTIF(BT12:CX12,"ล")+COUNTIF(BT12:CX12,"ป")) | DA12: =IF($B12="","",COUNTIF(BT12:CX12,"ข")) | EG12: =IF($B12="","",COUNTIF(DB12:EF12,"ม")+COUNTIF(DB12:EF12,"ส")) | EH12: =IF($B12="","",COUNTIF(DB12:EF12,"ล")+COUNTIF(DB12:EF12,"ป")) | EI12: =IF($B12="","",COUNTIF(DB12:EF12,"ข")) | FO12: =IF($B12="","",COUNTIF(EJ12:FN12,"ม")+COUNTIF(EJ12:FN12,"ส")) | FP12: =IF($B12="","",COUNTIF(EJ12:FN12,"ล")+COUNTIF(EJ12:FN12,"ป")) | FQ12: =IF($B12="","",COUNTIF(EJ12:FN12,"ข"))
A13: 5 | B13: ='ข้อมูลนักเรียน'!T13 | C13: =IF(B13="","",IFERROR((COUNTIF(D13:FQ13,"ม")+COUNTIF(D13:FQ13,"ส"))/(COUNTIF(D13:FQ13,"ม")+COUNTIF(D13:FQ13,"ส")+COUNTIF(D13:FQ13,"ล")+COUNTIF(D13:FQ13,"ป")+COUNTIF(D13:FQ13,"ข")),"")) | AI13: =IF($B13="","",COUNTIF(D13:AH13,"ม")+COUNTIF(D13:AH13,"ส")) | AJ13: =IF($B13="","",COUNTIF(D13:AH13,"ล")+COUNTIF(D13:AH13,"ป")) | AK13: =IF($B13="","",COUNTIF(D13:AH13,"ข")) | BQ13: =IF($B13="","",COUNTIF(AL13:BP13,"ม")+COUNTIF(AL13:BP13,"ส")) | BR13: =IF($B13="","",COUNTIF(AL13:BP13,"ล")+COUNTIF(AL13:BP13,"ป")) | BS13: =IF($B13="","",COUNTIF(AL13:BP13,"ข")) | CY13: =IF($B13="","",COUNTIF(BT13:CX13,"ม")+COUNTIF(BT13:CX13,"ส")) | CZ13: =IF($B13="","",COUNTIF(BT13:CX13,"ล")+COUNTIF(BT13:CX13,"ป")) | DA13: =IF($B13="","",COUNTIF(BT13:CX13,"ข")) | EG13: =IF($B13="","",COUNTIF(DB13:EF13,"ม")+COUNTIF(DB13:EF13,"ส")) | EH13: =IF($B13="","",COUNTIF(DB13:EF13,"ล")+COUNTIF(DB13:EF13,"ป")) | EI13: =IF($B13="","",COUNTIF(DB13:EF13,"ข")) | FO13: =IF($B13="","",COUNTIF(EJ13:FN13,"ม")+COUNTIF(EJ13:FN13,"ส")) | FP13: =IF($B13="","",COUNTIF(EJ13:FN13,"ล")+COUNTIF(EJ13:FN13,"ป")) | FQ13: =IF($B13="","",COUNTIF(EJ13:FN13,"ข"))
A14: มาเรียน (คน) | D14: =IF(D$4<>1,"",COUNTIF(D9:D13,"ม")+COUNTIF(D9:D13,"ส")) | E14: =IF(E$4<>1,"",COUNTIF(E9:E13,"ม")+COUNTIF(E9:E13,"ส")) | F14: =IF(F$4<>1,"",COUNTIF(F9:F13,"ม")+COUNTIF(F9:F13,"ส")) | G14: =IF(G$4<>1,"",COUNTIF(G9:G13,"ม")+COUNTIF(G9:G13,"ส")) | H14: =IF(H$4<>1,"",COUNTIF(H9:H13,"ม")+COUNTIF(H9:H13,"ส")) | I14: =IF(I$4<>1,"",COUNTIF(I9:I13,"ม")+COUNTIF(I9:I13,"ส")) | J14: =IF(J$4<>1,"",COUNTIF(J9:J13,"ม")+COUNTIF(J9:J13,"ส")) | K14: =IF(K$4<>1,"",COUNTIF(K9:K13,"ม")+COUNTIF(K9:K13,"ส")) | ... AH14: =IF(AH$4<>1,"",COUNTIF(AH9:AH13,"ม")+COUNTIF(AH9:AH13,"ส")) | AI14: =SUM(AI9:AI13) | AJ14: =SUM(AJ9:AJ13) | AK14: =SUM(AK9:AK13) | AL14: =IF(AL$4<>1,"",COUNTIF(AL9:AL13,"ม")+COUNTIF(AL9:AL13,"ส")) | AM14: =IF(AM$4<>1,"",COUNTIF(AM9:AM13,"ม")+COUNTIF(AM9:AM13,"ส")) | AN14: =IF(AN$4<>1,"",COUNTIF(AN9:AN13,"ม")+COUNTIF(AN9:AN13,"ส")) | AO14: =IF(AO$4<>1,"",COUNTIF(AO9:AO13,"ม")+COUNTIF(AO9:AO13,"ส")) | AP14: =IF(AP$4<>1,"",COUNTIF(AP9:AP13,"ม")+COUNTIF(AP9:AP13,"ส")) | AQ14: =IF(AQ$4<>1,"",COUNTIF(AQ9:AQ13,"ม")+COUNTIF(AQ9:AQ13,"ส")) | AR14: =IF(AR$4<>1,"",COUNTIF(AR9:AR13,"ม")+COUNTIF(AR9:AR13,"ส")) | AS14: =IF(AS$4<>1,"",COUNTIF(AS9:AS13,"ม")+COUNTIF(AS9:AS13,"ส")) | ... BP14: =IF(BP$4<>1,"",COUNTIF(BP9:BP13,"ม")+COUNTIF(BP9:BP13,"ส")) | BQ14: =SUM(BQ9:BQ13) | BR14: =SUM(BR9:BR13) | BS14: =SUM(BS9:BS13) | BT14: =IF(BT$4<>1,"",COUNTIF(BT9:BT13,"ม")+COUNTIF(BT9:BT13,"ส")) | BU14: =IF(BU$4<>1,"",COUNTIF(BU9:BU13,"ม")+COUNTIF(BU9:BU13,"ส")) | BV14: =IF(BV$4<>1,"",COUNTIF(BV9:BV13,"ม")+COUNTIF(BV9:BV13,"ส")) | BW14: =IF(BW$4<>1,"",COUNTIF(BW9:BW13,"ม")+COUNTIF(BW9:BW13,"ส")) | BX14: =IF(BX$4<>1,"",COUNTIF(BX9:BX13,"ม")+COUNTIF(BX9:BX13,"ส")) | BY14: =IF(BY$4<>1,"",COUNTIF(BY9:BY13,"ม")+COUNTIF(BY9:BY13,"ส")) | BZ14: =IF(BZ$4<>1,"",COUNTIF(BZ9:BZ13,"ม")+COUNTIF(BZ9:BZ13,"ส")) | CA14: =IF(CA$4<>1,"",COUNTIF(CA9:CA13,"ม")+COUNTIF(CA9:CA13,"ส")) | ... CX14: =IF(CX$4<>1,"",COUNTIF(CX9:CX13,"ม")+COUNTIF(CX9:CX13,"ส")) | CY14: =SUM(CY9:CY13) | CZ14: =SUM(CZ9:CZ13) | DA14: =SUM(DA9:DA13) | DB14: =IF(DB$4<>1,"",COUNTIF(DB9:DB13,"ม")+COUNTIF(DB9:DB13,"ส")) | DC14: =IF(DC$4<>1,"",COUNTIF(DC9:DC13,"ม")+COUNTIF(DC9:DC13,"ส")) | DD14: =IF(DD$4<>1,"",COUNTIF(DD9:DD13,"ม")+COUNTIF(DD9:DD13,"ส")) | DE14: =IF(DE$4<>1,"",COUNTIF(DE9:DE13,"ม")+COUNTIF(DE9:DE13,"ส")) | DF14: =IF(DF$4<>1,"",COUNTIF(DF9:DF13,"ม")+COUNTIF(DF9:DF13,"ส")) | DG14: =IF(DG$4<>1,"",COUNTIF(DG9:DG13,"ม")+COUNTIF(DG9:DG13,"ส")) | DH14: =IF(DH$4<>1,"",COUNTIF(DH9:DH13,"ม")+COUNTIF(DH9:DH13,"ส")) | DI14: =IF(DI$4<>1,"",COUNTIF(DI9:DI13,"ม")+COUNTIF(DI9:DI13,"ส")) | ... EF14: =IF(EF$4<>1,"",COUNTIF(EF9:EF13,"ม")+COUNTIF(EF9:EF13,"ส")) | EG14: =SUM(EG9:EG13) | EH14: =SUM(EH9:EH13) | EI14: =SUM(EI9:EI13) | EJ14: =IF(EJ$4<>1,"",COUNTIF(EJ9:EJ13,"ม")+COUNTIF(EJ9:EJ13,"ส")) | EK14: =IF(EK$4<>1,"",COUNTIF(EK9:EK13,"ม")+COUNTIF(EK9:EK13,"ส")) | EL14: =IF(EL$4<>1,"",COUNTIF(EL9:EL13,"ม")+COUNTIF(EL9:EL13,"ส")) | EM14: =IF(EM$4<>1,"",COUNTIF(EM9:EM13,"ม")+COUNTIF(EM9:EM13,"ส")) | EN14: =IF(EN$4<>1,"",COUNTIF(EN9:EN13,"ม")+COUNTIF(EN9:EN13,"ส")) | EO14: =IF(EO$4<>1,"",COUNTIF(EO9:EO13,"ม")+COUNTIF(EO9:EO13,"ส")) | EP14: =IF(EP$4<>1,"",COUNTIF(EP9:EP13,"ม")+COUNTIF(EP9:EP13,"ส")) | EQ14: =IF(EQ$4<>1,"",COUNTIF(EQ9:EQ13,"ม")+COUNTIF(EQ9:EQ13,"ส")) | ... FN14: =IF(FN$4<>1,"",COUNTIF(FN9:FN13,"ม")+COUNTIF(FN9:FN13,"ส")) | FO14: =SUM(FO9:FO13) | FP14: =SUM(FP9:FP13) | FQ14: =SUM(FQ9:FQ13)
A15: ลา / ป่วย (คน) | D15: =IF(D$4<>1,"",COUNTIF(D9:D13,"ล")+COUNTIF(D9:D13,"ป")) | E15: =IF(E$4<>1,"",COUNTIF(E9:E13,"ล")+COUNTIF(E9:E13,"ป")) | F15: =IF(F$4<>1,"",COUNTIF(F9:F13,"ล")+COUNTIF(F9:F13,"ป")) | G15: =IF(G$4<>1,"",COUNTIF(G9:G13,"ล")+COUNTIF(G9:G13,"ป")) | H15: =IF(H$4<>1,"",COUNTIF(H9:H13,"ล")+COUNTIF(H9:H13,"ป")) | I15: =IF(I$4<>1,"",COUNTIF(I9:I13,"ล")+COUNTIF(I9:I13,"ป")) | J15: =IF(J$4<>1,"",COUNTIF(J9:J13,"ล")+COUNTIF(J9:J13,"ป")) | K15: =IF(K$4<>1,"",COUNTIF(K9:K13,"ล")+COUNTIF(K9:K13,"ป")) | ... AH15: =IF(AH$4<>1,"",COUNTIF(AH9:AH13,"ล")+COUNTIF(AH9:AH13,"ป")) | AL15: =IF(AL$4<>1,"",COUNTIF(AL9:AL13,"ล")+COUNTIF(AL9:AL13,"ป")) | AM15: =IF(AM$4<>1,"",COUNTIF(AM9:AM13,"ล")+COUNTIF(AM9:AM13,"ป")) | AN15: =IF(AN$4<>1,"",COUNTIF(AN9:AN13,"ล")+COUNTIF(AN9:AN13,"ป")) | AO15: =IF(AO$4<>1,"",COUNTIF(AO9:AO13,"ล")+COUNTIF(AO9:AO13,"ป")) | AP15: =IF(AP$4<>1,"",COUNTIF(AP9:AP13,"ล")+COUNTIF(AP9:AP13,"ป")) | AQ15: =IF(AQ$4<>1,"",COUNTIF(AQ9:AQ13,"ล")+COUNTIF(AQ9:AQ13,"ป")) | AR15: =IF(AR$4<>1,"",COUNTIF(AR9:AR13,"ล")+COUNTIF(AR9:AR13,"ป")) | AS15: =IF(AS$4<>1,"",COUNTIF(AS9:AS13,"ล")+COUNTIF(AS9:AS13,"ป")) | ... BP15: =IF(BP$4<>1,"",COUNTIF(BP9:BP13,"ล")+COUNTIF(BP9:BP13,"ป")) | BT15: =IF(BT$4<>1,"",COUNTIF(BT9:BT13,"ล")+COUNTIF(BT9:BT13,"ป")) | BU15: =IF(BU$4<>1,"",COUNTIF(BU9:BU13,"ล")+COUNTIF(BU9:BU13,"ป")) | BV15: =IF(BV$4<>1,"",COUNTIF(BV9:BV13,"ล")+COUNTIF(BV9:BV13,"ป")) | BW15: =IF(BW$4<>1,"",COUNTIF(BW9:BW13,"ล")+COUNTIF(BW9:BW13,"ป")) | BX15: =IF(BX$4<>1,"",COUNTIF(BX9:BX13,"ล")+COUNTIF(BX9:BX13,"ป")) | BY15: =IF(BY$4<>1,"",COUNTIF(BY9:BY13,"ล")+COUNTIF(BY9:BY13,"ป")) | BZ15: =IF(BZ$4<>1,"",COUNTIF(BZ9:BZ13,"ล")+COUNTIF(BZ9:BZ13,"ป")) | CA15: =IF(CA$4<>1,"",COUNTIF(CA9:CA13,"ล")+COUNTIF(CA9:CA13,"ป")) | ... CX15: =IF(CX$4<>1,"",COUNTIF(CX9:CX13,"ล")+COUNTIF(CX9:CX13,"ป")) | DB15: =IF(DB$4<>1,"",COUNTIF(DB9:DB13,"ล")+COUNTIF(DB9:DB13,"ป")) | DC15: =IF(DC$4<>1,"",COUNTIF(DC9:DC13,"ล")+COUNTIF(DC9:DC13,"ป")) | DD15: =IF(DD$4<>1,"",COUNTIF(DD9:DD13,"ล")+COUNTIF(DD9:DD13,"ป")) | DE15: =IF(DE$4<>1,"",COUNTIF(DE9:DE13,"ล")+COUNTIF(DE9:DE13,"ป")) | DF15: =IF(DF$4<>1,"",COUNTIF(DF9:DF13,"ล")+COUNTIF(DF9:DF13,"ป")) | DG15: =IF(DG$4<>1,"",COUNTIF(DG9:DG13,"ล")+COUNTIF(DG9:DG13,"ป")) | DH15: =IF(DH$4<>1,"",COUNTIF(DH9:DH13,"ล")+COUNTIF(DH9:DH13,"ป")) | DI15: =IF(DI$4<>1,"",COUNTIF(DI9:DI13,"ล")+COUNTIF(DI9:DI13,"ป")) | ... EF15: =IF(EF$4<>1,"",COUNTIF(EF9:EF13,"ล")+COUNTIF(EF9:EF13,"ป")) | EJ15: =IF(EJ$4<>1,"",COUNTIF(EJ9:EJ13,"ล")+COUNTIF(EJ9:EJ13,"ป")) | EK15: =IF(EK$4<>1,"",COUNTIF(EK9:EK13,"ล")+COUNTIF(EK9:EK13,"ป")) | EL15: =IF(EL$4<>1,"",COUNTIF(EL9:EL13,"ล")+COUNTIF(EL9:EL13,"ป")) | EM15: =IF(EM$4<>1,"",COUNTIF(EM9:EM13,"ล")+COUNTIF(EM9:EM13,"ป")) | EN15: =IF(EN$4<>1,"",COUNTIF(EN9:EN13,"ล")+COUNTIF(EN9:EN13,"ป")) | EO15: =IF(EO$4<>1,"",COUNTIF(EO9:EO13,"ล")+COUNTIF(EO9:EO13,"ป")) | EP15: =IF(EP$4<>1,"",COUNTIF(EP9:EP13,"ล")+COUNTIF(EP9:EP13,"ป")) | EQ15: =IF(EQ$4<>1,"",COUNTIF(EQ9:EQ13,"ล")+COUNTIF(EQ9:EQ13,"ป")) | ... FN15: =IF(FN$4<>1,"",COUNTIF(FN9:FN13,"ล")+COUNTIF(FN9:FN13,"ป"))
A16: ขาด (คน) | D16: =IF(D$4<>1,"",COUNTIF(D9:D13,"ข")) | E16: =IF(E$4<>1,"",COUNTIF(E9:E13,"ข")) | F16: =IF(F$4<>1,"",COUNTIF(F9:F13,"ข")) | G16: =IF(G$4<>1,"",COUNTIF(G9:G13,"ข")) | H16: =IF(H$4<>1,"",COUNTIF(H9:H13,"ข")) | I16: =IF(I$4<>1,"",COUNTIF(I9:I13,"ข")) | J16: =IF(J$4<>1,"",COUNTIF(J9:J13,"ข")) | K16: =IF(K$4<>1,"",COUNTIF(K9:K13,"ข")) | ... AH16: =IF(AH$4<>1,"",COUNTIF(AH9:AH13,"ข")) | AL16: =IF(AL$4<>1,"",COUNTIF(AL9:AL13,"ข")) | AM16: =IF(AM$4<>1,"",COUNTIF(AM9:AM13,"ข")) | AN16: =IF(AN$4<>1,"",COUNTIF(AN9:AN13,"ข")) | AO16: =IF(AO$4<>1,"",COUNTIF(AO9:AO13,"ข")) | AP16: =IF(AP$4<>1,"",COUNTIF(AP9:AP13,"ข")) | AQ16: =IF(AQ$4<>1,"",COUNTIF(AQ9:AQ13,"ข")) | AR16: =IF(AR$4<>1,"",COUNTIF(AR9:AR13,"ข")) | AS16: =IF(AS$4<>1,"",COUNTIF(AS9:AS13,"ข")) | ... BP16: =IF(BP$4<>1,"",COUNTIF(BP9:BP13,"ข")) | BT16: =IF(BT$4<>1,"",COUNTIF(BT9:BT13,"ข")) | BU16: =IF(BU$4<>1,"",COUNTIF(BU9:BU13,"ข")) | BV16: =IF(BV$4<>1,"",COUNTIF(BV9:BV13,"ข")) | BW16: =IF(BW$4<>1,"",COUNTIF(BW9:BW13,"ข")) | BX16: =IF(BX$4<>1,"",COUNTIF(BX9:BX13,"ข")) | BY16: =IF(BY$4<>1,"",COUNTIF(BY9:BY13,"ข")) | BZ16: =IF(BZ$4<>1,"",COUNTIF(BZ9:BZ13,"ข")) | CA16: =IF(CA$4<>1,"",COUNTIF(CA9:CA13,"ข")) | ... CX16: =IF(CX$4<>1,"",COUNTIF(CX9:CX13,"ข")) | DB16: =IF(DB$4<>1,"",COUNTIF(DB9:DB13,"ข")) | DC16: =IF(DC$4<>1,"",COUNTIF(DC9:DC13,"ข")) | DD16: =IF(DD$4<>1,"",COUNTIF(DD9:DD13,"ข")) | DE16: =IF(DE$4<>1,"",COUNTIF(DE9:DE13,"ข")) | DF16: =IF(DF$4<>1,"",COUNTIF(DF9:DF13,"ข")) | DG16: =IF(DG$4<>1,"",COUNTIF(DG9:DG13,"ข")) | DH16: =IF(DH$4<>1,"",COUNTIF(DH9:DH13,"ข")) | DI16: =IF(DI$4<>1,"",COUNTIF(DI9:DI13,"ข")) | ... EF16: =IF(EF$4<>1,"",COUNTIF(EF9:EF13,"ข")) | EJ16: =IF(EJ$4<>1,"",COUNTIF(EJ9:EJ13,"ข")) | EK16: =IF(EK$4<>1,"",COUNTIF(EK9:EK13,"ข")) | EL16: =IF(EL$4<>1,"",COUNTIF(EL9:EL13,"ข")) | EM16: =IF(EM$4<>1,"",COUNTIF(EM9:EM13,"ข")) | EN16: =IF(EN$4<>1,"",COUNTIF(EN9:EN13,"ข")) | EO16: =IF(EO$4<>1,"",COUNTIF(EO9:EO13,"ข")) | EP16: =IF(EP$4<>1,"",COUNTIF(EP9:EP13,"ข")) | EQ16: =IF(EQ$4<>1,"",COUNTIF(EQ9:EQ13,"ข")) | ... FN16: =IF(FN$4<>1,"",COUNTIF(FN9:FN13,"ข"))
A17: ยังไม่บันทึก (คน) | D17: =IF(D$4<>1,"",COUNTIF('ข้อมูลนักเรียน'!$E$9:$E$13,"?*")-COUNTA(D9:D13)) | E17: =IF(E$4<>1,"",COUNTIF('ข้อมูลนักเรียน'!$E$9:$E$13,"?*")-COUNTA(E9:E13)) | F17: =IF(F$4<>1,"",COUNTIF('ข้อมูลนักเรียน'!$E$9:$E$13,"?*")-COUNTA(F9:F13)) | G17: =IF(G$4<>1,"",COUNTIF('ข้อมูลนักเรียน'!$E$9:$E$13,"?*")-COUNTA(G9:G13)) | H17: =IF(H$4<>1,"",COUNTIF('ข้อมูลนักเรียน'!$E$9:$E$13,"?*")-COUNTA(H9:H13)) | I17: =IF(I$4<>1,"",COUNTIF('ข้อมูลนักเรียน'!$E$9:$E$13,"?*")-COUNTA(I9:I13)) | J17: =IF(J$4<>1,"",COUNTIF('ข้อมูลนักเรียน'!$E$9:$E$13,"?*")-COUNTA(J9:J13)) | K17: =IF(K$4<>1,"",COUNTIF('ข้อมูลนักเรียน'!$E$9:$E$13,"?*")-COUNTA(K9:K13)) | ... AH17: =IF(AH$4<>1,"",COUNTIF('ข้อมูลนักเรียน'!$E$9:$E$13,"?*")-COUNTA(AH9:AH13)) | AL17: =IF(AL$4<>1,"",COUNTIF('ข้อมูลนักเรียน'!$E$9:$E$13,"?*")-COUNTA(AL9:AL13)) | AM17: =IF(AM$4<>1,"",COUNTIF('ข้อมูลนักเรียน'!$E$9:$E$13,"?*")-COUNTA(AM9:AM13)) | AN17: =IF(AN$4<>1,"",COUNTIF('ข้อมูลนักเรียน'!$E$9:$E$13,"?*")-COUNTA(AN9:AN13)) | AO17: =IF(AO$4<>1,"",COUNTIF('ข้อมูลนักเรียน'!$E$9:$E$13,"?*")-COUNTA(AO9:AO13)) | AP17: =IF(AP$4<>1,"",COUNTIF('ข้อมูลนักเรียน'!$E$9:$E$13,"?*")-COUNTA(AP9:AP13)) | AQ17: =IF(AQ$4<>1,"",COUNTIF('ข้อมูลนักเรียน'!$E$9:$E$13,"?*")-COUNTA(AQ9:AQ13)) | AR17: =IF(AR$4<>1,"",COUNTIF('ข้อมูลนักเรียน'!$E$9:$E$13,"?*")-COUNTA(AR9:AR13)) | AS17: =IF(AS$4<>1,"",COUNTIF('ข้อมูลนักเรียน'!$E$9:$E$13,"?*")-COUNTA(AS9:AS13)) | ... BP17: =IF(BP$4<>1,"",COUNTIF('ข้อมูลนักเรียน'!$E$9:$E$13,"?*")-COUNTA(BP9:BP13)) | BT17: =IF(BT$4<>1,"",COUNTIF('ข้อมูลนักเรียน'!$E$9:$E$13,"?*")-COUNTA(BT9:BT13)) | BU17: =IF(BU$4<>1,"",COUNTIF('ข้อมูลนักเรียน'!$E$9:$E$13,"?*")-COUNTA(BU9:BU13)) | BV17: =IF(BV$4<>1,"",COUNTIF('ข้อมูลนักเรียน'!$E$9:$E$13,"?*")-COUNTA(BV9:BV13)) | BW17: =IF(BW$4<>1,"",COUNTIF('ข้อมูลนักเรียน'!$E$9:$E$13,"?*")-COUNTA(BW9:BW13)) | BX17: =IF(BX$4<>1,"",COUNTIF('ข้อมูลนักเรียน'!$E$9:$E$13,"?*")-COUNTA(BX9:BX13)) | BY17: =IF(BY$4<>1,"",COUNTIF('ข้อมูลนักเรียน'!$E$9:$E$13,"?*")-COUNTA(BY9:BY13)) | BZ17: =IF(BZ$4<>1,"",COUNTIF('ข้อมูลนักเรียน'!$E$9:$E$13,"?*")-COUNTA(BZ9:BZ13)) | CA17: =IF(CA$4<>1,"",COUNTIF('ข้อมูลนักเรียน'!$E$9:$E$13,"?*")-COUNTA(CA9:CA13)) | ... CX17: =IF(CX$4<>1,"",COUNTIF('ข้อมูลนักเรียน'!$E$9:$E$13,"?*")-COUNTA(CX9:CX13)) | DB17: =IF(DB$4<>1,"",COUNTIF('ข้อมูลนักเรียน'!$E$9:$E$13,"?*")-COUNTA(DB9:DB13)) | DC17: =IF(DC$4<>1,"",COUNTIF('ข้อมูลนักเรียน'!$E$9:$E$13,"?*")-COUNTA(DC9:DC13)) | DD17: =IF(DD$4<>1,"",COUNTIF('ข้อมูลนักเรียน'!$E$9:$E$13,"?*")-COUNTA(DD9:DD13)) | DE17: =IF(DE$4<>1,"",COUNTIF('ข้อมูลนักเรียน'!$E$9:$E$13,"?*")-COUNTA(DE9:DE13)) | DF17: =IF(DF$4<>1,"",COUNTIF('ข้อมูลนักเรียน'!$E$9:$E$13,"?*")-COUNTA(DF9:DF13)) | DG17: =IF(DG$4<>1,"",COUNTIF('ข้อมูลนักเรียน'!$E$9:$E$13,"?*")-COUNTA(DG9:DG13)) | DH17: =IF(DH$4<>1,"",COUNTIF('ข้อมูลนักเรียน'!$E$9:$E$13,"?*")-COUNTA(DH9:DH13)) | DI17: =IF(DI$4<>1,"",COUNTIF('ข้อมูลนักเรียน'!$E$9:$E$13,"?*")-COUNTA(DI9:DI13)) | ... EF17: =IF(EF$4<>1,"",COUNTIF('ข้อมูลนักเรียน'!$E$9:$E$13,"?*")-COUNTA(EF9:EF13)) | EJ17: =IF(EJ$4<>1,"",COUNTIF('ข้อมูลนักเรียน'!$E$9:$E$13,"?*")-COUNTA(EJ9:EJ13)) | EK17: =IF(EK$4<>1,"",COUNTIF('ข้อมูลนักเรียน'!$E$9:$E$13,"?*")-COUNTA(EK9:EK13)) | EL17: =IF(EL$4<>1,"",COUNTIF('ข้อมูลนักเรียน'!$E$9:$E$13,"?*")-COUNTA(EL9:EL13)) | EM17: =IF(EM$4<>1,"",COUNTIF('ข้อมูลนักเรียน'!$E$9:$E$13,"?*")-COUNTA(EM9:EM13)) | EN17: =IF(EN$4<>1,"",COUNTIF('ข้อมูลนักเรียน'!$E$9:$E$13,"?*")-COUNTA(EN9:EN13)) | EO17: =IF(EO$4<>1,"",COUNTIF('ข้อมูลนักเรียน'!$E$9:$E$13,"?*")-COUNTA(EO9:EO13)) | EP17: =IF(EP$4<>1,"",COUNTIF('ข้อมูลนักเรียน'!$E$9:$E$13,"?*")-COUNTA(EP9:EP13)) | EQ17: =IF(EQ$4<>1,"",COUNTIF('ข้อมูลนักเรียน'!$E$9:$E$13,"?*")-COUNTA(EQ9:EQ13)) | ... FN17: =IF(FN$4<>1,"",COUNTIF('ข้อมูลนักเรียน'!$E$9:$E$13,"?*")-COUNTA(FN9:FN13))
B19: ลงชื่อ ........................................................ | V19: ลงชื่อ ........................................................
B20: ="( "&IF('ข้อมูลโรงเรียน'!$C$9="","..................................................",'ข้อมูลโรงเรียน'!$C$9)&" )" | V20: ="( "&IF('ข้อมูลโรงเรียน'!$C$11="","..................................................",'ข้อมูลโรงเรียน'!$C$11)&" )"
B21: ครูประจำชั้น | V21: ผู้บริหารสถานศึกษา

Sheet สรุปมาเรียน
A1: 🏠
A2: หน้าหลัก | B2: ="โรงเรียน"&'ข้อมูลโรงเรียน'!$C$5&" ชั้น"&'ข้อมูลโรงเรียน'!$C$7&"/"&'ข้อมูลโรงเรียน'!$C$8&" ปีการศึกษา "&'ข้อมูลโรงเรียน'!$C$12&" ครูประจำชั้น "&'ข้อมูลโรงเรียน'!$C$9
B3: คำนวณอัตโนมัติจากแบบบันทึกการมาเรียน • “มา” นับรวมมาสาย • ร้อยละคิดจากวันที่บันทึกแล้ว
A5: เลขที่ | B5: ชื่อ - สกุล | C5: เพศ | D5: ภาคเรียนที่ 1 | M5: ภาคเรียนที่ 2 | U5: รวมทั้งปีการศึกษา
D6: พ.ค. | E6: มิ.ย. | F6: ก.ค. | G6: ส.ค. | H6: ก.ย. | I6: ต.ค. | J6: รวม มา | K6: ไม่มา | L6: ร้อยละ | M6: พ.ย. | N6: ธ.ค. | O6: ม.ค. | P6: ก.พ. | Q6: มี.ค. | R6: รวม มา | S6: ไม่มา | T6: ร้อยละ | U6: มา | V6: สาย | W6: ลา | X6: ป่วย | Y6: ขาด | Z6: ร้อยละ ทั้งปี
D7: ="เรียน"&CHAR(10)&COUNTIF('ปฏิทิน'!$D$2:$AH$2,1)&" วัน" | E7: ="เรียน"&CHAR(10)&COUNTIF('ปฏิทิน'!$AL$2:$BP$2,1)&" วัน" | F7: ="เรียน"&CHAR(10)&COUNTIF('ปฏิทิน'!$BT$2:$CX$2,1)&" วัน" | G7: ="เรียน"&CHAR(10)&COUNTIF('ปฏิทิน'!$DB$2:$EF$2,1)&" วัน" | H7: ="เรียน"&CHAR(10)&COUNTIF('ปฏิทิน'!$EJ$2:$FN$2,1)&" วัน" | I7: ="เรียน"&CHAR(10)&COUNTIF('ปฏิทิน'!$FR$2:$GV$2,1)&" วัน" | M7: ="เรียน"&CHAR(10)&COUNTIF('ปฏิทิน'!$D$6:$AH$6,1)&" วัน" | N7: ="เรียน"&CHAR(10)&COUNTIF('ปฏิทิน'!$AL$6:$BP$6,1)&" วัน" | O7: ="เรียน"&CHAR(10)&COUNTIF('ปฏิทิน'!$BT$6:$CX$6,1)&" วัน" | P7: ="เรียน"&CHAR(10)&COUNTIF('ปฏิทิน'!$DB$6:$EF$6,1)&" วัน" | Q7: ="เรียน"&CHAR(10)&COUNTIF('ปฏิทิน'!$EJ$6:$FN$6,1)&" วัน"
A9: 1 | B9: ='ข้อมูลนักเรียน'!T9 | C9: =IF(B9="","",IF('ข้อมูลนักเรียน'!D9="ด.ช.","ช",IF('ข้อมูลนักเรียน'!D9="ด.ญ.","ญ",""))) | D9: =IF($B9="","",N('มาเรียน-ภ1'!AI9)) | E9: =IF($B9="","",N('มาเรียน-ภ1'!BQ9)) | F9: =IF($B9="","",N('มาเรียน-ภ1'!CY9)) | G9: =IF($B9="","",N('มาเรียน-ภ1'!EG9)) | H9: =IF($B9="","",N('มาเรียน-ภ1'!FO9)) | I9: =IF($B9="","",N('มาเรียน-ภ1'!GW9)) | J9: =IF($B9="","",COUNTIF('มาเรียน-ภ1'!$D9:$GY9,"ม")+COUNTIF('มาเรียน-ภ1'!$D9:$GY9,"ส")) | K9: =IF($B9="","",COUNTIF('มาเรียน-ภ1'!$D9:$GY9,"ล")+COUNTIF('มาเรียน-ภ1'!$D9:$GY9,"ป")+COUNTIF('มาเรียน-ภ1'!$D9:$GY9,"ข")) | L9: =IF($B9="","",IFERROR(J9/(J9+K9),"")) | M9: =IF($B9="","",N('มาเรียน-ภ2'!AI9)) | N9: =IF($B9="","",N('มาเรียน-ภ2'!BQ9)) | O9: =IF($B9="","",N('มาเรียน-ภ2'!CY9)) | P9: =IF($B9="","",N('มาเรียน-ภ2'!EG9)) | Q9: =IF($B9="","",N('มาเรียน-ภ2'!FO9)) | R9: =IF($B9="","",COUNTIF('มาเรียน-ภ2'!$D9:$FQ9,"ม")+COUNTIF('มาเรียน-ภ2'!$D9:$FQ9,"ส")) | S9: =IF($B9="","",COUNTIF('มาเรียน-ภ2'!$D9:$FQ9,"ล")+COUNTIF('มาเรียน-ภ2'!$D9:$FQ9,"ป")+COUNTIF('มาเรียน-ภ2'!$D9:$FQ9,"ข")) | T9: =IF($B9="","",IFERROR(R9/(R9+S9),"")) | U9: =IF($B9="","",COUNTIF('มาเรียน-ภ1'!$D9:$GY9,"ม")+COUNTIF('มาเรียน-ภ2'!$D9:$FQ9,"ม")) | V9: =IF($B9="","",COUNTIF('มาเรียน-ภ1'!$D9:$GY9,"ส")+COUNTIF('มาเรียน-ภ2'!$D9:$FQ9,"ส")) | W9: =IF($B9="","",COUNTIF('มาเรียน-ภ1'!$D9:$GY9,"ล")+COUNTIF('มาเรียน-ภ2'!$D9:$FQ9,"ล")) | X9: =IF($B9="","",COUNTIF('มาเรียน-ภ1'!$D9:$GY9,"ป")+COUNTIF('มาเรียน-ภ2'!$D9:$FQ9,"ป")) | Y9: =IF($B9="","",COUNTIF('มาเรียน-ภ1'!$D9:$GY9,"ข")+COUNTIF('มาเรียน-ภ2'!$D9:$FQ9,"ข")) | Z9: =IF($B9="","",IFERROR((U9+V9)/(U9+V9+W9+X9+Y9),""))
A10: 2 | B10: ='ข้อมูลนักเรียน'!T10 | C10: =IF(B10="","",IF('ข้อมูลนักเรียน'!D10="ด.ช.","ช",IF('ข้อมูลนักเรียน'!D10="ด.ญ.","ญ",""))) | D10: =IF($B10="","",N('มาเรียน-ภ1'!AI10)) | E10: =IF($B10="","",N('มาเรียน-ภ1'!BQ10)) | F10: =IF($B10="","",N('มาเรียน-ภ1'!CY10)) | G10: =IF($B10="","",N('มาเรียน-ภ1'!EG10)) | H10: =IF($B10="","",N('มาเรียน-ภ1'!FO10)) | I10: =IF($B10="","",N('มาเรียน-ภ1'!GW10)) | J10: =IF($B10="","",COUNTIF('มาเรียน-ภ1'!$D10:$GY10,"ม")+COUNTIF('มาเรียน-ภ1'!$D10:$GY10,"ส")) | K10: =IF($B10="","",COUNTIF('มาเรียน-ภ1'!$D10:$GY10,"ล")+COUNTIF('มาเรียน-ภ1'!$D10:$GY10,"ป")+COUNTIF('มาเรียน-ภ1'!$D10:$GY10,"ข")) | L10: =IF($B10="","",IFERROR(J10/(J10+K10),"")) | M10: =IF($B10="","",N('มาเรียน-ภ2'!AI10)) | N10: =IF($B10="","",N('มาเรียน-ภ2'!BQ10)) | O10: =IF($B10="","",N('มาเรียน-ภ2'!CY10)) | P10: =IF($B10="","",N('มาเรียน-ภ2'!EG10)) | Q10: =IF($B10="","",N('มาเรียน-ภ2'!FO10)) | R10: =IF($B10="","",COUNTIF('มาเรียน-ภ2'!$D10:$FQ10,"ม")+COUNTIF('มาเรียน-ภ2'!$D10:$FQ10,"ส")) | S10: =IF($B10="","",COUNTIF('มาเรียน-ภ2'!$D10:$FQ10,"ล")+COUNTIF('มาเรียน-ภ2'!$D10:$FQ10,"ป")+COUNTIF('มาเรียน-ภ2'!$D10:$FQ10,"ข")) | T10: =IF($B10="","",IFERROR(R10/(R10+S10),"")) | U10: =IF($B10="","",COUNTIF('มาเรียน-ภ1'!$D10:$GY10,"ม")+COUNTIF('มาเรียน-ภ2'!$D10:$FQ10,"ม")) | V10: =IF($B10="","",COUNTIF('มาเรียน-ภ1'!$D10:$GY10,"ส")+COUNTIF('มาเรียน-ภ2'!$D10:$FQ10,"ส")) | W10: =IF($B10="","",COUNTIF('มาเรียน-ภ1'!$D10:$GY10,"ล")+COUNTIF('มาเรียน-ภ2'!$D10:$FQ10,"ล")) | X10: =IF($B10="","",COUNTIF('มาเรียน-ภ1'!$D10:$GY10,"ป")+COUNTIF('มาเรียน-ภ2'!$D10:$FQ10,"ป")) | Y10: =IF($B10="","",COUNTIF('มาเรียน-ภ1'!$D10:$GY10,"ข")+COUNTIF('มาเรียน-ภ2'!$D10:$FQ10,"ข")) | Z10: =IF($B10="","",IFERROR((U10+V10)/(U10+V10+W10+X10+Y10),""))
A11: 3 | B11: ='ข้อมูลนักเรียน'!T11 | C11: =IF(B11="","",IF('ข้อมูลนักเรียน'!D11="ด.ช.","ช",IF('ข้อมูลนักเรียน'!D11="ด.ญ.","ญ",""))) | D11: =IF($B11="","",N('มาเรียน-ภ1'!AI11)) | E11: =IF($B11="","",N('มาเรียน-ภ1'!BQ11)) | F11: =IF($B11="","",N('มาเรียน-ภ1'!CY11)) | G11: =IF($B11="","",N('มาเรียน-ภ1'!EG11)) | H11: =IF($B11="","",N('มาเรียน-ภ1'!FO11)) | I11: =IF($B11="","",N('มาเรียน-ภ1'!GW11)) | J11: =IF($B11="","",COUNTIF('มาเรียน-ภ1'!$D11:$GY11,"ม")+COUNTIF('มาเรียน-ภ1'!$D11:$GY11,"ส")) | K11: =IF($B11="","",COUNTIF('มาเรียน-ภ1'!$D11:$GY11,"ล")+COUNTIF('มาเรียน-ภ1'!$D11:$GY11,"ป")+COUNTIF('มาเรียน-ภ1'!$D11:$GY11,"ข")) | L11: =IF($B11="","",IFERROR(J11/(J11+K11),"")) | M11: =IF($B11="","",N('มาเรียน-ภ2'!AI11)) | N11: =IF($B11="","",N('มาเรียน-ภ2'!BQ11)) | O11: =IF($B11="","",N('มาเรียน-ภ2'!CY11)) | P11: =IF($B11="","",N('มาเรียน-ภ2'!EG11)) | Q11: =IF($B11="","",N('มาเรียน-ภ2'!FO11)) | R11: =IF($B11="","",COUNTIF('มาเรียน-ภ2'!$D11:$FQ11,"ม")+COUNTIF('มาเรียน-ภ2'!$D11:$FQ11,"ส")) | S11: =IF($B11="","",COUNTIF('มาเรียน-ภ2'!$D11:$FQ11,"ล")+COUNTIF('มาเรียน-ภ2'!$D11:$FQ11,"ป")+COUNTIF('มาเรียน-ภ2'!$D11:$FQ11,"ข")) | T11: =IF($B11="","",IFERROR(R11/(R11+S11),"")) | U11: =IF($B11="","",COUNTIF('มาเรียน-ภ1'!$D11:$GY11,"ม")+COUNTIF('มาเรียน-ภ2'!$D11:$FQ11,"ม")) | V11: =IF($B11="","",COUNTIF('มาเรียน-ภ1'!$D11:$GY11,"ส")+COUNTIF('มาเรียน-ภ2'!$D11:$FQ11,"ส")) | W11: =IF($B11="","",COUNTIF('มาเรียน-ภ1'!$D11:$GY11,"ล")+COUNTIF('มาเรียน-ภ2'!$D11:$FQ11,"ล")) | X11: =IF($B11="","",COUNTIF('มาเรียน-ภ1'!$D11:$GY11,"ป")+COUNTIF('มาเรียน-ภ2'!$D11:$FQ11,"ป")) | Y11: =IF($B11="","",COUNTIF('มาเรียน-ภ1'!$D11:$GY11,"ข")+COUNTIF('มาเรียน-ภ2'!$D11:$FQ11,"ข")) | Z11: =IF($B11="","",IFERROR((U11+V11)/(U11+V11+W11+X11+Y11),""))
A12: 4 | B12: ='ข้อมูลนักเรียน'!T12 | C12: =IF(B12="","",IF('ข้อมูลนักเรียน'!D12="ด.ช.","ช",IF('ข้อมูลนักเรียน'!D12="ด.ญ.","ญ",""))) | D12: =IF($B12="","",N('มาเรียน-ภ1'!AI12)) | E12: =IF($B12="","",N('มาเรียน-ภ1'!BQ12)) | F12: =IF($B12="","",N('มาเรียน-ภ1'!CY12)) | G12: =IF($B12="","",N('มาเรียน-ภ1'!EG12)) | H12: =IF($B12="","",N('มาเรียน-ภ1'!FO12)) | I12: =IF($B12="","",N('มาเรียน-ภ1'!GW12)) | J12: =IF($B12="","",COUNTIF('มาเรียน-ภ1'!$D12:$GY12,"ม")+COUNTIF('มาเรียน-ภ1'!$D12:$GY12,"ส")) | K12: =IF($B12="","",COUNTIF('มาเรียน-ภ1'!$D12:$GY12,"ล")+COUNTIF('มาเรียน-ภ1'!$D12:$GY12,"ป")+COUNTIF('มาเรียน-ภ1'!$D12:$GY12,"ข")) | L12: =IF($B12="","",IFERROR(J12/(J12+K12),"")) | M12: =IF($B12="","",N('มาเรียน-ภ2'!AI12)) | N12: =IF($B12="","",N('มาเรียน-ภ2'!BQ12)) | O12: =IF($B12="","",N('มาเรียน-ภ2'!CY12)) | P12: =IF($B12="","",N('มาเรียน-ภ2'!EG12)) | Q12: =IF($B12="","",N('มาเรียน-ภ2'!FO12)) | R12: =IF($B12="","",COUNTIF('มาเรียน-ภ2'!$D12:$FQ12,"ม")+COUNTIF('มาเรียน-ภ2'!$D12:$FQ12,"ส")) | S12: =IF($B12="","",COUNTIF('มาเรียน-ภ2'!$D12:$FQ12,"ล")+COUNTIF('มาเรียน-ภ2'!$D12:$FQ12,"ป")+COUNTIF('มาเรียน-ภ2'!$D12:$FQ12,"ข")) | T12: =IF($B12="","",IFERROR(R12/(R12+S12),"")) | U12: =IF($B12="","",COUNTIF('มาเรียน-ภ1'!$D12:$GY12,"ม")+COUNTIF('มาเรียน-ภ2'!$D12:$FQ12,"ม")) | V12: =IF($B12="","",COUNTIF('มาเรียน-ภ1'!$D12:$GY12,"ส")+COUNTIF('มาเรียน-ภ2'!$D12:$FQ12,"ส")) | W12: =IF($B12="","",COUNTIF('มาเรียน-ภ1'!$D12:$GY12,"ล")+COUNTIF('มาเรียน-ภ2'!$D12:$FQ12,"ล")) | X12: =IF($B12="","",COUNTIF('มาเรียน-ภ1'!$D12:$GY12,"ป")+COUNTIF('มาเรียน-ภ2'!$D12:$FQ12,"ป")) | Y12: =IF($B12="","",COUNTIF('มาเรียน-ภ1'!$D12:$GY12,"ข")+COUNTIF('มาเรียน-ภ2'!$D12:$FQ12,"ข")) | Z12: =IF($B12="","",IFERROR((U12+V12)/(U12+V12+W12+X12+Y12),""))
A13: 5 | B13: ='ข้อมูลนักเรียน'!T13 | C13: =IF(B13="","",IF('ข้อมูลนักเรียน'!D13="ด.ช.","ช",IF('ข้อมูลนักเรียน'!D13="ด.ญ.","ญ",""))) | D13: =IF($B13="","",N('มาเรียน-ภ1'!AI13)) | E13: =IF($B13="","",N('มาเรียน-ภ1'!BQ13)) | F13: =IF($B13="","",N('มาเรียน-ภ1'!CY13)) | G13: =IF($B13="","",N('มาเรียน-ภ1'!EG13)) | H13: =IF($B13="","",N('มาเรียน-ภ1'!FO13)) | I13: =IF($B13="","",N('มาเรียน-ภ1'!GW13)) | J13: =IF($B13="","",COUNTIF('มาเรียน-ภ1'!$D13:$GY13,"ม")+COUNTIF('มาเรียน-ภ1'!$D13:$GY13,"ส")) | K13: =IF($B13="","",COUNTIF('มาเรียน-ภ1'!$D13:$GY13,"ล")+COUNTIF('มาเรียน-ภ1'!$D13:$GY13,"ป")+COUNTIF('มาเรียน-ภ1'!$D13:$GY13,"ข")) | L13: =IF($B13="","",IFERROR(J13/(J13+K13),"")) | M13: =IF($B13="","",N('มาเรียน-ภ2'!AI13)) | N13: =IF($B13="","",N('มาเรียน-ภ2'!BQ13)) | O13: =IF($B13="","",N('มาเรียน-ภ2'!CY13)) | P13: =IF($B13="","",N('มาเรียน-ภ2'!EG13)) | Q13: =IF($B13="","",N('มาเรียน-ภ2'!FO13)) | R13: =IF($B13="","",COUNTIF('มาเรียน-ภ2'!$D13:$FQ13,"ม")+COUNTIF('มาเรียน-ภ2'!$D13:$FQ13,"ส")) | S13: =IF($B13="","",COUNTIF('มาเรียน-ภ2'!$D13:$FQ13,"ล")+COUNTIF('มาเรียน-ภ2'!$D13:$FQ13,"ป")+COUNTIF('มาเรียน-ภ2'!$D13:$FQ13,"ข")) | T13: =IF($B13="","",IFERROR(R13/(R13+S13),"")) | U13: =IF($B13="","",COUNTIF('มาเรียน-ภ1'!$D13:$GY13,"ม")+COUNTIF('มาเรียน-ภ2'!$D13:$FQ13,"ม")) | V13: =IF($B13="","",COUNTIF('มาเรียน-ภ1'!$D13:$GY13,"ส")+COUNTIF('มาเรียน-ภ2'!$D13:$FQ13,"ส")) | W13: =IF($B13="","",COUNTIF('มาเรียน-ภ1'!$D13:$GY13,"ล")+COUNTIF('มาเรียน-ภ2'!$D13:$FQ13,"ล")) | X13: =IF($B13="","",COUNTIF('มาเรียน-ภ1'!$D13:$GY13,"ป")+COUNTIF('มาเรียน-ภ2'!$D13:$FQ13,"ป")) | Y13: =IF($B13="","",COUNTIF('มาเรียน-ภ1'!$D13:$GY13,"ข")+COUNTIF('มาเรียน-ภ2'!$D13:$FQ13,"ข")) | Z13: =IF($B13="","",IFERROR((U13+V13)/(U13+V13+W13+X13+Y13),""))
A14: รวม / เฉลี่ยทั้งห้อง | D14: =SUM(D9:D13) | E14: =SUM(E9:E13) | F14: =SUM(F9:F13) | G14: =SUM(G9:G13) | H14: =SUM(H9:H13) | I14: =SUM(I9:I13) | J14: =SUM(J9:J13) | K14: =SUM(K9:K13) | L14: =IFERROR(AVERAGE(L9:L13),"") | M14: =SUM(M9:M13) | N14: =SUM(N9:N13) | O14: =SUM(O9:O13) | P14: =SUM(P9:P13) | Q14: =SUM(Q9:Q13) | R14: =SUM(R9:R13) | S14: =SUM(S9:S13) | T14: =IFERROR(AVERAGE(T9:T13),"") | U14: =SUM(U9:U13) | V14: =SUM(V9:V13) | W14: =SUM(W9:W13) | X14: =SUM(X9:X13) | Y14: =SUM(Y9:Y13) | Z14: =IFERROR(AVERAGE(Z9:Z13),"")
B15: ร้อยละทั้งปีต่ำกว่า 80% จะเป็นสีแดง (ควรติดตาม)
B17: ลงชื่อ ........................................................ | U17: ลงชื่อ ........................................................
B18: ="( "&IF('ข้อมูลโรงเรียน'!$C$9="","..................................................",'ข้อมูลโรงเรียน'!$C$9)&" )" | U18: ="( "&IF('ข้อมูลโรงเรียน'!$C$11="","..................................................",'ข้อมูลโรงเรียน'!$C$11)&" )"
B19: ครูประจำชั้น | U19: ผู้บริหารสถานศึกษา

Sheet ประเมินพัฒนาการ-ภ1
A1: 🏠
A2: หน้าหลัก | B2: ="โรงเรียน"&'ข้อมูลโรงเรียน'!$C$5&" ชั้น"&'ข้อมูลโรงเรียน'!$C$7&"/"&'ข้อมูลโรงเรียน'!$C$8&" ปีการศึกษา "&'ข้อมูลโรงเรียน'!$C$12&" ครูประจำชั้น "&'ข้อมูลโรงเรียน'!$C$9
B3: ให้คะแนนรายตัวบ่งชี้ 3 = ดี 2 = พอใช้ 1 = ปรับปรุง • ผลรายด้านคำนวณจากค่าเฉลี่ย (เกิน 2.50 = ดี, เกิน 1.50 = พอใช้)
A5: เลขที่ | B5: ชื่อ - สกุล | C5: อายุ | D5: ด้านร่างกาย | I5: ด้านอารมณ์ จิตใจ | P5: ด้านสังคม | X5: ด้านสติปัญญา | AG5: ด้านร่างกาย | AI5: ด้านอารมณ์ จิตใจ | AK5: ด้านสังคม | AM5: ด้านสติปัญญา | AO5: ภาพรวม | AQ5: ความคิดเห็นของครู (แสดงในสมุดรายงานประจำตัว)
D6: มฐ.1 | G6: มฐ.2 | I6: มฐ.3 | K6: มฐ.4 | L6: มฐ.5 | P6: มฐ.6 | S6: มฐ.7 | U6: มฐ.8 | X6: มฐ.9 | Z6: มฐ.10 | AC6: มฐ.11 | AE6: มฐ.12
D7: 1.1 | E7: 1.2 | F7: 1.3 | G7: 2.1 | H7: 2.2 | I7: 3.1 | J7: 3.2 | K7: 4.1 | L7: 5.1 | M7: 5.2 | N7: 5.3 | O7: 5.4 | P7: 6.1 | Q7: 6.2 | R7: 6.3 | S7: 7.1 | T7: 7.2 | U7: 8.1 | V7: 8.2 | W7: 8.3 | X7: 9.1 | Y7: 9.2 | Z7: 10.1 | AA7: 10.2 | AB7: 10.3 | AC7: 11.1 | AD7: 11.2 | AE7: 12.1 | AF7: 12.2 | AG7: คะแนน เฉลี่ย | AH7: ผล | AI7: คะแนน เฉลี่ย | AJ7: ผล | AK7: คะแนน เฉลี่ย | AL7: ผล | AM7: คะแนน เฉลี่ย | AN7: ผล | AO7: คะแนน เฉลี่ย | AP7: ผล
D8: น้ำหนักและส่วนสูงตามเกณฑ์ | E8: มีสุขภาพอนามัย สุขนิสัยที่ดี | F8: รักษาความปลอดภัยของตนเองและผู้อื่น | G8: เคลื่อนไหวร่างกายอย่างคล่องแคล่ว ประสานสัมพันธ์และทรงตัวได้ | H8: ใช้มือ-ตาประสานสัมพันธ์กัน | I8: แสดงออกทางอารมณ์ได้อย่างเหมาะสม | J8: มีความรู้สึกที่ดีต่อตนเองและผู้อื่น | K8: สนใจ มีความสุขและแสดงออกผ่านงานศิลปะ ดนตรีและการเคลื่อนไหว | L8: ซื่อสัตย์สุจริต | M8: มีความเมตตากรุณา มีน้ำใจ และช่วยเหลือแบ่งปัน | N8: มีความเห็นอกเห็นใจผู้อื่น | O8: มีความรับผิดชอบ | P8: ช่วยเหลือตนเองในการปฏิบัติกิจวัตรประจำวัน | Q8: มีวินัยในตนเอง | R8: ประหยัดและพอเพียง | S8: ดูแลรักษาธรรมชาติและสิ่งแวดล้อม | T8: มีมารยาทตามวัฒนธรรมไทยและรักความเป็นไทย | U8: ยอมรับความเหมือนและความแตกต่างระหว่างบุคคล | V8: มีปฏิสัมพันธ์ที่ดีกับผู้อื่น | W8: ปฏิบัติตนเบื้องต้นในการเป็นสมาชิกที่ดีของสังคม | X8: สนทนาโต้ตอบและเล่าเรื่องให้ผู้อื่นเข้าใจ | Y8: อ่าน เขียนภาพ และสัญลักษณ์ได้ | Z8: มีความสามารถในการคิดรวบยอด | AA8: มีความสามารถในการคิดเชิงเหตุผล | AB8: มีความสามารถในการคิดแก้ปัญหาและตัดสินใจ | AC8: ทำงานศิลปะตามจินตนาการและความคิดสร้างสรรค์ | AD8: แสดงท่าทาง/เคลื่อนไหวตามจินตนาการอย่างสร้างสรรค์ | AE8: มีเจตคติที่ดีต่อการเรียนรู้ | AF8: มีความสามารถในการแสวงหาความรู้
A9: 1 | B9: ='ข้อมูลนักเรียน'!T9 | C9: =IF(B9="","",'ข้อมูลนักเรียน'!K9) | AG9: =IF(COUNT(D9:H9)=0,"",ROUND(AVERAGE(D9:H9),2)) | AH9: =IF(AG9="","",IF(AG9>2.5,"ดี",IF(AG9>1.5,"พอใช้","ปรับปรุง"))) | AI9: =IF(COUNT(I9:O9)=0,"",ROUND(AVERAGE(I9:O9),2)) | AJ9: =IF(AI9="","",IF(AI9>2.5,"ดี",IF(AI9>1.5,"พอใช้","ปรับปรุง"))) | AK9: =IF(COUNT(P9:W9)=0,"",ROUND(AVERAGE(P9:W9),2)) | AL9: =IF(AK9="","",IF(AK9>2.5,"ดี",IF(AK9>1.5,"พอใช้","ปรับปรุง"))) | AM9: =IF(COUNT(X9:AF9)=0,"",ROUND(AVERAGE(X9:AF9),2)) | AN9: =IF(AM9="","",IF(AM9>2.5,"ดี",IF(AM9>1.5,"พอใช้","ปรับปรุง"))) | AO9: =IF(COUNT(D9:AF9)=0,"",ROUND(AVERAGE(D9:AF9),2)) | AP9: =IF(AO9="","",IF(AO9>2.5,"ดี",IF(AO9>1.5,"พอใช้","ปรับปรุง")))
A10: 2 | B10: ='ข้อมูลนักเรียน'!T10 | C10: =IF(B10="","",'ข้อมูลนักเรียน'!K10) | AG10: =IF(COUNT(D10:H10)=0,"",ROUND(AVERAGE(D10:H10),2)) | AH10: =IF(AG10="","",IF(AG10>2.5,"ดี",IF(AG10>1.5,"พอใช้","ปรับปรุง"))) | AI10: =IF(COUNT(I10:O10)=0,"",ROUND(AVERAGE(I10:O10),2)) | AJ10: =IF(AI10="","",IF(AI10>2.5,"ดี",IF(AI10>1.5,"พอใช้","ปรับปรุง"))) | AK10: =IF(COUNT(P10:W10)=0,"",ROUND(AVERAGE(P10:W10),2)) | AL10: =IF(AK10="","",IF(AK10>2.5,"ดี",IF(AK10>1.5,"พอใช้","ปรับปรุง"))) | AM10: =IF(COUNT(X10:AF10)=0,"",ROUND(AVERAGE(X10:AF10),2)) | AN10: =IF(AM10="","",IF(AM10>2.5,"ดี",IF(AM10>1.5,"พอใช้","ปรับปรุง"))) | AO10: =IF(COUNT(D10:AF10)=0,"",ROUND(AVERAGE(D10:AF10),2)) | AP10: =IF(AO10="","",IF(AO10>2.5,"ดี",IF(AO10>1.5,"พอใช้","ปรับปรุง")))
A11: 3 | B11: ='ข้อมูลนักเรียน'!T11 | C11: =IF(B11="","",'ข้อมูลนักเรียน'!K11) | AG11: =IF(COUNT(D11:H11)=0,"",ROUND(AVERAGE(D11:H11),2)) | AH11: =IF(AG11="","",IF(AG11>2.5,"ดี",IF(AG11>1.5,"พอใช้","ปรับปรุง"))) | AI11: =IF(COUNT(I11:O11)=0,"",ROUND(AVERAGE(I11:O11),2)) | AJ11: =IF(AI11="","",IF(AI11>2.5,"ดี",IF(AI11>1.5,"พอใช้","ปรับปรุง"))) | AK11: =IF(COUNT(P11:W11)=0,"",ROUND(AVERAGE(P11:W11),2)) | AL11: =IF(AK11="","",IF(AK11>2.5,"ดี",IF(AK11>1.5,"พอใช้","ปรับปรุง"))) | AM11: =IF(COUNT(X11:AF11)=0,"",ROUND(AVERAGE(X11:AF11),2)) | AN11: =IF(AM11="","",IF(AM11>2.5,"ดี",IF(AM11>1.5,"พอใช้","ปรับปรุง"))) | AO11: =IF(COUNT(D11:AF11)=0,"",ROUND(AVERAGE(D11:AF11),2)) | AP11: =IF(AO11="","",IF(AO11>2.5,"ดี",IF(AO11>1.5,"พอใช้","ปรับปรุง")))
A12: 4 | B12: ='ข้อมูลนักเรียน'!T12 | C12: =IF(B12="","",'ข้อมูลนักเรียน'!K12) | AG12: =IF(COUNT(D12:H12)=0,"",ROUND(AVERAGE(D12:H12),2)) | AH12: =IF(AG12="","",IF(AG12>2.5,"ดี",IF(AG12>1.5,"พอใช้","ปรับปรุง"))) | AI12: =IF(COUNT(I12:O12)=0,"",ROUND(AVERAGE(I12:O12),2)) | AJ12: =IF(AI12="","",IF(AI12>2.5,"ดี",IF(AI12>1.5,"พอใช้","ปรับปรุง"))) | AK12: =IF(COUNT(P12:W12)=0,"",ROUND(AVERAGE(P12:W12),2)) | AL12: =IF(AK12="","",IF(AK12>2.5,"ดี",IF(AK12>1.5,"พอใช้","ปรับปรุง"))) | AM12: =IF(COUNT(X12:AF12)=0,"",ROUND(AVERAGE(X12:AF12),2)) | AN12: =IF(AM12="","",IF(AM12>2.5,"ดี",IF(AM12>1.5,"พอใช้","ปรับปรุง"))) | AO12: =IF(COUNT(D12:AF12)=0,"",ROUND(AVERAGE(D12:AF12),2)) | AP12: =IF(AO12="","",IF(AO12>2.5,"ดี",IF(AO12>1.5,"พอใช้","ปรับปรุง")))
A13: 5 | B13: ='ข้อมูลนักเรียน'!T13 | C13: =IF(B13="","",'ข้อมูลนักเรียน'!K13) | AG13: =IF(COUNT(D13:H13)=0,"",ROUND(AVERAGE(D13:H13),2)) | AH13: =IF(AG13="","",IF(AG13>2.5,"ดี",IF(AG13>1.5,"พอใช้","ปรับปรุง"))) | AI13: =IF(COUNT(I13:O13)=0,"",ROUND(AVERAGE(I13:O13),2)) | AJ13: =IF(AI13="","",IF(AI13>2.5,"ดี",IF(AI13>1.5,"พอใช้","ปรับปรุง"))) | AK13: =IF(COUNT(P13:W13)=0,"",ROUND(AVERAGE(P13:W13),2)) | AL13: =IF(AK13="","",IF(AK13>2.5,"ดี",IF(AK13>1.5,"พอใช้","ปรับปรุง"))) | AM13: =IF(COUNT(X13:AF13)=0,"",ROUND(AVERAGE(X13:AF13),2)) | AN13: =IF(AM13="","",IF(AM13>2.5,"ดี",IF(AM13>1.5,"พอใช้","ปรับปรุง"))) | AO13: =IF(COUNT(D13:AF13)=0,"",ROUND(AVERAGE(D13:AF13),2)) | AP13: =IF(AO13="","",IF(AO13>2.5,"ดี",IF(AO13>1.5,"พอใช้","ปรับปรุง")))
A14: ค่าเฉลี่ย | D14: =IFERROR(ROUND(AVERAGE(D9:D13),2),"") | E14: =IFERROR(ROUND(AVERAGE(E9:E13),2),"") | F14: =IFERROR(ROUND(AVERAGE(F9:F13),2),"") | G14: =IFERROR(ROUND(AVERAGE(G9:G13),2),"") | H14: =IFERROR(ROUND(AVERAGE(H9:H13),2),"") | I14: =IFERROR(ROUND(AVERAGE(I9:I13),2),"") | J14: =IFERROR(ROUND(AVERAGE(J9:J13),2),"") | K14: =IFERROR(ROUND(AVERAGE(K9:K13),2),"") | ... AG14: =IFERROR(ROUND(AVERAGE(AG9:AG13),2),"") | AI14: =IFERROR(ROUND(AVERAGE(AI9:AI13),2),"") | AK14: =IFERROR(ROUND(AVERAGE(AK9:AK13),2),"") | AM14: =IFERROR(ROUND(AVERAGE(AM9:AM13),2),"") | AO14: =IFERROR(ROUND(AVERAGE(AO9:AO13),2),"")
A15: ระดับ 3 / ดี (คน) | D15: =COUNTIF(D9:D13,3) | E15: =COUNTIF(E9:E13,3) | F15: =COUNTIF(F9:F13,3) | G15: =COUNTIF(G9:G13,3) | H15: =COUNTIF(H9:H13,3) | I15: =COUNTIF(I9:I13,3) | J15: =COUNTIF(J9:J13,3) | K15: =COUNTIF(K9:K13,3) | ... AF15: =COUNTIF(AF9:AF13,3) | AH15: =COUNTIF(AH9:AH13,"ดี") | AJ15: =COUNTIF(AJ9:AJ13,"ดี") | AL15: =COUNTIF(AL9:AL13,"ดี") | AN15: =COUNTIF(AN9:AN13,"ดี") | AP15: =COUNTIF(AP9:AP13,"ดี")
A16: ระดับ 2 / พอใช้ (คน) | D16: =COUNTIF(D9:D13,2) | E16: =COUNTIF(E9:E13,2) | F16: =COUNTIF(F9:F13,2) | G16: =COUNTIF(G9:G13,2) | H16: =COUNTIF(H9:H13,2) | I16: =COUNTIF(I9:I13,2) | J16: =COUNTIF(J9:J13,2) | K16: =COUNTIF(K9:K13,2) | ... AF16: =COUNTIF(AF9:AF13,2) | AH16: =COUNTIF(AH9:AH13,"พอใช้") | AJ16: =COUNTIF(AJ9:AJ13,"พอใช้") | AL16: =COUNTIF(AL9:AL13,"พอใช้") | AN16: =COUNTIF(AN9:AN13,"พอใช้") | AP16: =COUNTIF(AP9:AP13,"พอใช้")
A17: ระดับ 1 / ปรับปรุง (คน) | D17: =COUNTIF(D9:D13,1) | E17: =COUNTIF(E9:E13,1) | F17: =COUNTIF(F9:F13,1) | G17: =COUNTIF(G9:G13,1) | H17: =COUNTIF(H9:H13,1) | I17: =COUNTIF(I9:I13,1) | J17: =COUNTIF(J9:J13,1) | K17: =COUNTIF(K9:K13,1) | ... AF17: =COUNTIF(AF9:AF13,1) | AH17: =COUNTIF(AH9:AH13,"ปรับปรุง") | AJ17: =COUNTIF(AJ9:AJ13,"ปรับปรุง") | AL17: =COUNTIF(AL9:AL13,"ปรับปรุง") | AN17: =COUNTIF(AN9:AN13,"ปรับปรุง") | AP17: =COUNTIF(AP9:AP13,"ปรับปรุง")
B20: สรุปผลการประเมินพัฒนาการทั้งห้อง
B21: ด้าน | C21: ประเมิน (คน) | D21: ดี (คน) | G21: ร้อยละ | J21: พอใช้ (คน) | M21: ร้อยละ | P21: ปรับปรุง (คน) | S21: ร้อยละ
B22: ด้านร่างกาย | C22: =COUNTIF(AH9:AH13,"?*") | D22: =COUNTIF(AH9:AH13,"ดี") | G22: =IFERROR(D22/C22,"") | J22: =COUNTIF(AH9:AH13,"พอใช้") | M22: =IFERROR(J22/C22,"") | P22: =COUNTIF(AH9:AH13,"ปรับปรุง") | S22: =IFERROR(P22/C22,"")
B23: ด้านอารมณ์ จิตใจ | C23: =COUNTIF(AJ9:AJ13,"?*") | D23: =COUNTIF(AJ9:AJ13,"ดี") | G23: =IFERROR(D23/C23,"") | J23: =COUNTIF(AJ9:AJ13,"พอใช้") | M23: =IFERROR(J23/C23,"") | P23: =COUNTIF(AJ9:AJ13,"ปรับปรุง") | S23: =IFERROR(P23/C23,"")
B24: ด้านสังคม | C24: =COUNTIF(AL9:AL13,"?*") | D24: =COUNTIF(AL9:AL13,"ดี") | G24: =IFERROR(D24/C24,"") | J24: =COUNTIF(AL9:AL13,"พอใช้") | M24: =IFERROR(J24/C24,"") | P24: =COUNTIF(AL9:AL13,"ปรับปรุง") | S24: =IFERROR(P24/C24,"")
B25: ด้านสติปัญญา | C25: =COUNTIF(AN9:AN13,"?*") | D25: =COUNTIF(AN9:AN13,"ดี") | G25: =IFERROR(D25/C25,"") | J25: =COUNTIF(AN9:AN13,"พอใช้") | M25: =IFERROR(J25/C25,"") | P25: =COUNTIF(AN9:AN13,"ปรับปรุง") | S25: =IFERROR(P25/C25,"")
B26: ภาพรวม | C26: =COUNTIF(AP9:AP13,"?*") | D26: =COUNTIF(AP9:AP13,"ดี") | G26: =IFERROR(D26/C26,"") | J26: =COUNTIF(AP9:AP13,"พอใช้") | M26: =IFERROR(J26/C26,"") | P26: =COUNTIF(AP9:AP13,"ปรับปรุง") | S26: =IFERROR(P26/C26,"")
B29: ลงชื่อ ........................................................ | X29: ลงชื่อ ........................................................
B30: ="( "&IF('ข้อมูลโรงเรียน'!$C$9="","..................................................",'ข้อมูลโรงเรียน'!$C$9)&" )" | X30: ="( "&IF('ข้อมูลโรงเรียน'!$C$11="","..................................................",'ข้อมูลโรงเรียน'!$C$11)&" )"
B31: ครูประจำชั้น | X31: ผู้บริหารสถานศึกษา

Sheet ประเมินพัฒนาการ-ภ2
A1: 🏠
A2: หน้าหลัก | B2: ="โรงเรียน"&'ข้อมูลโรงเรียน'!$C$5&" ชั้น"&'ข้อมูลโรงเรียน'!$C$7&"/"&'ข้อมูลโรงเรียน'!$C$8&" ปีการศึกษา "&'ข้อมูลโรงเรียน'!$C$12&" ครูประจำชั้น "&'ข้อมูลโรงเรียน'!$C$9
B3: ให้คะแนนรายตัวบ่งชี้ 3 = ดี 2 = พอใช้ 1 = ปรับปรุง • ผลรายด้านคำนวณจากค่าเฉลี่ย (เกิน 2.50 = ดี, เกิน 1.50 = พอใช้)
A5: เลขที่ | B5: ชื่อ - สกุล | C5: อายุ | D5: ด้านร่างกาย | I5: ด้านอารมณ์ จิตใจ | P5: ด้านสังคม | X5: ด้านสติปัญญา | AG5: ด้านร่างกาย | AI5: ด้านอารมณ์ จิตใจ | AK5: ด้านสังคม | AM5: ด้านสติปัญญา | AO5: ภาพรวม | AQ5: ความคิดเห็นของครู (แสดงในสมุดรายงานประจำตัว)
D6: มฐ.1 | G6: มฐ.2 | I6: มฐ.3 | K6: มฐ.4 | L6: มฐ.5 | P6: มฐ.6 | S6: มฐ.7 | U6: มฐ.8 | X6: มฐ.9 | Z6: มฐ.10 | AC6: มฐ.11 | AE6: มฐ.12
D7: 1.1 | E7: 1.2 | F7: 1.3 | G7: 2.1 | H7: 2.2 | I7: 3.1 | J7: 3.2 | K7: 4.1 | L7: 5.1 | M7: 5.2 | N7: 5.3 | O7: 5.4 | P7: 6.1 | Q7: 6.2 | R7: 6.3 | S7: 7.1 | T7: 7.2 | U7: 8.1 | V7: 8.2 | W7: 8.3 | X7: 9.1 | Y7: 9.2 | Z7: 10.1 | AA7: 10.2 | AB7: 10.3 | AC7: 11.1 | AD7: 11.2 | AE7: 12.1 | AF7: 12.2 | AG7: คะแนน เฉลี่ย | AH7: ผล | AI7: คะแนน เฉลี่ย | AJ7: ผล | AK7: คะแนน เฉลี่ย | AL7: ผล | AM7: คะแนน เฉลี่ย | AN7: ผล | AO7: คะแนน เฉลี่ย | AP7: ผล
D8: น้ำหนักและส่วนสูงตามเกณฑ์ | E8: มีสุขภาพอนามัย สุขนิสัยที่ดี | F8: รักษาความปลอดภัยของตนเองและผู้อื่น | G8: เคลื่อนไหวร่างกายอย่างคล่องแคล่ว ประสานสัมพันธ์และทรงตัวได้ | H8: ใช้มือ-ตาประสานสัมพันธ์กัน | I8: แสดงออกทางอารมณ์ได้อย่างเหมาะสม | J8: มีความรู้สึกที่ดีต่อตนเองและผู้อื่น | K8: สนใจ มีความสุขและแสดงออกผ่านงานศิลปะ ดนตรีและการเคลื่อนไหว | L8: ซื่อสัตย์สุจริต | M8: มีความเมตตากรุณา มีน้ำใจ และช่วยเหลือแบ่งปัน | N8: มีความเห็นอกเห็นใจผู้อื่น | O8: มีความรับผิดชอบ | P8: ช่วยเหลือตนเองในการปฏิบัติกิจวัตรประจำวัน | Q8: มีวินัยในตนเอง | R8: ประหยัดและพอเพียง | S8: ดูแลรักษาธรรมชาติและสิ่งแวดล้อม | T8: มีมารยาทตามวัฒนธรรมไทยและรักความเป็นไทย | U8: ยอมรับความเหมือนและความแตกต่างระหว่างบุคคล | V8: มีปฏิสัมพันธ์ที่ดีกับผู้อื่น | W8: ปฏิบัติตนเบื้องต้นในการเป็นสมาชิกที่ดีของสังคม | X8: สนทนาโต้ตอบและเล่าเรื่องให้ผู้อื่นเข้าใจ | Y8: อ่าน เขียนภาพ และสัญลักษณ์ได้ | Z8: มีความสามารถในการคิดรวบยอด | AA8: มีความสามารถในการคิดเชิงเหตุผล | AB8: มีความสามารถในการคิดแก้ปัญหาและตัดสินใจ | AC8: ทำงานศิลปะตามจินตนาการและความคิดสร้างสรรค์ | AD8: แสดงท่าทาง/เคลื่อนไหวตามจินตนาการอย่างสร้างสรรค์ | AE8: มีเจตคติที่ดีต่อการเรียนรู้ | AF8: มีความสามารถในการแสวงหาความรู้
A9: 1 | B9: ='ข้อมูลนักเรียน'!T9 | C9: =IF(B9="","",'ข้อมูลนักเรียน'!K9) | AG9: =IF(COUNT(D9:H9)=0,"",ROUND(AVERAGE(D9:H9),2)) | AH9: =IF(AG9="","",IF(AG9>2.5,"ดี",IF(AG9>1.5,"พอใช้","ปรับปรุง"))) | AI9: =IF(COUNT(I9:O9)=0,"",ROUND(AVERAGE(I9:O9),2)) | AJ9: =IF(AI9="","",IF(AI9>2.5,"ดี",IF(AI9>1.5,"พอใช้","ปรับปรุง"))) | AK9: =IF(COUNT(P9:W9)=0,"",ROUND(AVERAGE(P9:W9),2)) | AL9: =IF(AK9="","",IF(AK9>2.5,"ดี",IF(AK9>1.5,"พอใช้","ปรับปรุง"))) | AM9: =IF(COUNT(X9:AF9)=0,"",ROUND(AVERAGE(X9:AF9),2)) | AN9: =IF(AM9="","",IF(AM9>2.5,"ดี",IF(AM9>1.5,"พอใช้","ปรับปรุง"))) | AO9: =IF(COUNT(D9:AF9)=0,"",ROUND(AVERAGE(D9:AF9),2)) | AP9: =IF(AO9="","",IF(AO9>2.5,"ดี",IF(AO9>1.5,"พอใช้","ปรับปรุง")))
A10: 2 | B10: ='ข้อมูลนักเรียน'!T10 | C10: =IF(B10="","",'ข้อมูลนักเรียน'!K10) | AG10: =IF(COUNT(D10:H10)=0,"",ROUND(AVERAGE(D10:H10),2)) | AH10: =IF(AG10="","",IF(AG10>2.5,"ดี",IF(AG10>1.5,"พอใช้","ปรับปรุง"))) | AI10: =IF(COUNT(I10:O10)=0,"",ROUND(AVERAGE(I10:O10),2)) | AJ10: =IF(AI10="","",IF(AI10>2.5,"ดี",IF(AI10>1.5,"พอใช้","ปรับปรุง"))) | AK10: =IF(COUNT(P10:W10)=0,"",ROUND(AVERAGE(P10:W10),2)) | AL10: =IF(AK10="","",IF(AK10>2.5,"ดี",IF(AK10>1.5,"พอใช้","ปรับปรุง"))) | AM10: =IF(COUNT(X10:AF10)=0,"",ROUND(AVERAGE(X10:AF10),2)) | AN10: =IF(AM10="","",IF(AM10>2.5,"ดี",IF(AM10>1.5,"พอใช้","ปรับปรุง"))) | AO10: =IF(COUNT(D10:AF10)=0,"",ROUND(AVERAGE(D10:AF10),2)) | AP10: =IF(AO10="","",IF(AO10>2.5,"ดี",IF(AO10>1.5,"พอใช้","ปรับปรุง")))
A11: 3 | B11: ='ข้อมูลนักเรียน'!T11 | C11: =IF(B11="","",'ข้อมูลนักเรียน'!K11) | AG11: =IF(COUNT(D11:H11)=0,"",ROUND(AVERAGE(D11:H11),2)) | AH11: =IF(AG11="","",IF(AG11>2.5,"ดี",IF(AG11>1.5,"พอใช้","ปรับปรุง"))) | AI11: =IF(COUNT(I11:O11)=0,"",ROUND(AVERAGE(I11:O11),2)) | AJ11: =IF(AI11="","",IF(AI11>2.5,"ดี",IF(AI11>1.5,"พอใช้","ปรับปรุง"))) | AK11: =IF(COUNT(P11:W11)=0,"",ROUND(AVERAGE(P11:W11),2)) | AL11: =IF(AK11="","",IF(AK11>2.5,"ดี",IF(AK11>1.5,"พอใช้","ปรับปรุง"))) | AM11: =IF(COUNT(X11:AF11)=0,"",ROUND(AVERAGE(X11:AF11),2)) | AN11: =IF(AM11="","",IF(AM11>2.5,"ดี",IF(AM11>1.5,"พอใช้","ปรับปรุง"))) | AO11: =IF(COUNT(D11:AF11)=0,"",ROUND(AVERAGE(D11:AF11),2)) | AP11: =IF(AO11="","",IF(AO11>2.5,"ดี",IF(AO11>1.5,"พอใช้","ปรับปรุง")))
A12: 4 | B12: ='ข้อมูลนักเรียน'!T12 | C12: =IF(B12="","",'ข้อมูลนักเรียน'!K12) | AG12: =IF(COUNT(D12:H12)=0,"",ROUND(AVERAGE(D12:H12),2)) | AH12: =IF(AG12="","",IF(AG12>2.5,"ดี",IF(AG12>1.5,"พอใช้","ปรับปรุง"))) | AI12: =IF(COUNT(I12:O12)=0,"",ROUND(AVERAGE(I12:O12),2)) | AJ12: =IF(AI12="","",IF(AI12>2.5,"ดี",IF(AI12>1.5,"พอใช้","ปรับปรุง"))) | AK12: =IF(COUNT(P12:W12)=0,"",ROUND(AVERAGE(P12:W12),2)) | AL12: =IF(AK12="","",IF(AK12>2.5,"ดี",IF(AK12>1.5,"พอใช้","ปรับปรุง"))) | AM12: =IF(COUNT(X12:AF12)=0,"",ROUND(AVERAGE(X12:AF12),2)) | AN12: =IF(AM12="","",IF(AM12>2.5,"ดี",IF(AM12>1.5,"พอใช้","ปรับปรุง"))) | AO12: =IF(COUNT(D12:AF12)=0,"",ROUND(AVERAGE(D12:AF12),2)) | AP12: =IF(AO12="","",IF(AO12>2.5,"ดี",IF(AO12>1.5,"พอใช้","ปรับปรุง")))
A13: 5 | B13: ='ข้อมูลนักเรียน'!T13 | C13: =IF(B13="","",'ข้อมูลนักเรียน'!K13) | AG13: =IF(COUNT(D13:H13)=0,"",ROUND(AVERAGE(D13:H13),2)) | AH13: =IF(AG13="","",IF(AG13>2.5,"ดี",IF(AG13>1.5,"พอใช้","ปรับปรุง"))) | AI13: =IF(COUNT(I13:O13)=0,"",ROUND(AVERAGE(I13:O13),2)) | AJ13: =IF(AI13="","",IF(AI13>2.5,"ดี",IF(AI13>1.5,"พอใช้","ปรับปรุง"))) | AK13: =IF(COUNT(P13:W13)=0,"",ROUND(AVERAGE(P13:W13),2)) | AL13: =IF(AK13="","",IF(AK13>2.5,"ดี",IF(AK13>1.5,"พอใช้","ปรับปรุง"))) | AM13: =IF(COUNT(X13:AF13)=0,"",ROUND(AVERAGE(X13:AF13),2)) | AN13: =IF(AM13="","",IF(AM13>2.5,"ดี",IF(AM13>1.5,"พอใช้","ปรับปรุง"))) | AO13: =IF(COUNT(D13:AF13)=0,"",ROUND(AVERAGE(D13:AF13),2)) | AP13: =IF(AO13="","",IF(AO13>2.5,"ดี",IF(AO13>1.5,"พอใช้","ปรับปรุง")))
A14: ค่าเฉลี่ย | D14: =IFERROR(ROUND(AVERAGE(D9:D13),2),"") | E14: =IFERROR(ROUND(AVERAGE(E9:E13),2),"") | F14: =IFERROR(ROUND(AVERAGE(F9:F13),2),"") | G14: =IFERROR(ROUND(AVERAGE(G9:G13),2),"") | H14: =IFERROR(ROUND(AVERAGE(H9:H13),2),"") | I14: =IFERROR(ROUND(AVERAGE(I9:I13),2),"") | J14: =IFERROR(ROUND(AVERAGE(J9:J13),2),"") | K14: =IFERROR(ROUND(AVERAGE(K9:K13),2),"") | ... AG14: =IFERROR(ROUND(AVERAGE(AG9:AG13),2),"") | AI14: =IFERROR(ROUND(AVERAGE(AI9:AI13),2),"") | AK14: =IFERROR(ROUND(AVERAGE(AK9:AK13),2),"") | AM14: =IFERROR(ROUND(AVERAGE(AM9:AM13),2),"") | AO14: =IFERROR(ROUND(AVERAGE(AO9:AO13),2),"")
A15: ระดับ 3 / ดี (คน) | D15: =COUNTIF(D9:D13,3) | E15: =COUNTIF(E9:E13,3) | F15: =COUNTIF(F9:F13,3) | G15: =COUNTIF(G9:G13,3) | H15: =COUNTIF(H9:H13,3) | I15: =COUNTIF(I9:I13,3) | J15: =COUNTIF(J9:J13,3) | K15: =COUNTIF(K9:K13,3) | ... AF15: =COUNTIF(AF9:AF13,3) | AH15: =COUNTIF(AH9:AH13,"ดี") | AJ15: =COUNTIF(AJ9:AJ13,"ดี") | AL15: =COUNTIF(AL9:AL13,"ดี") | AN15: =COUNTIF(AN9:AN13,"ดี") | AP15: =COUNTIF(AP9:AP13,"ดี")
A16: ระดับ 2 / พอใช้ (คน) | D16: =COUNTIF(D9:D13,2) | E16: =COUNTIF(E9:E13,2) | F16: =COUNTIF(F9:F13,2) | G16: =COUNTIF(G9:G13,2) | H16: =COUNTIF(H9:H13,2) | I16: =COUNTIF(I9:I13,2) | J16: =COUNTIF(J9:J13,2) | K16: =COUNTIF(K9:K13,2) | ... AF16: =COUNTIF(AF9:AF13,2) | AH16: =COUNTIF(AH9:AH13,"พอใช้") | AJ16: =COUNTIF(AJ9:AJ13,"พอใช้") | AL16: =COUNTIF(AL9:AL13,"พอใช้") | AN16: =COUNTIF(AN9:AN13,"พอใช้") | AP16: =COUNTIF(AP9:AP13,"พอใช้")
A17: ระดับ 1 / ปรับปรุง (คน) | D17: =COUNTIF(D9:D13,1) | E17: =COUNTIF(E9:E13,1) | F17: =COUNTIF(F9:F13,1) | G17: =COUNTIF(G9:G13,1) | H17: =COUNTIF(H9:H13,1) | I17: =COUNTIF(I9:I13,1) | J17: =COUNTIF(J9:J13,1) | K17: =COUNTIF(K9:K13,1) | ... AF17: =COUNTIF(AF9:AF13,1) | AH17: =COUNTIF(AH9:AH13,"ปรับปรุง") | AJ17: =COUNTIF(AJ9:AJ13,"ปรับปรุง") | AL17: =COUNTIF(AL9:AL13,"ปรับปรุง") | AN17: =COUNTIF(AN9:AN13,"ปรับปรุง") | AP17: =COUNTIF(AP9:AP13,"ปรับปรุง")
B20: สรุปผลการประเมินพัฒนาการทั้งห้อง
B21: ด้าน | C21: ประเมิน (คน) | D21: ดี (คน) | G21: ร้อยละ | J21: พอใช้ (คน) | M21: ร้อยละ | P21: ปรับปรุง (คน) | S21: ร้อยละ
B22: ด้านร่างกาย | C22: =COUNTIF(AH9:AH13,"?*") | D22: =COUNTIF(AH9:AH13,"ดี") | G22: =IFERROR(D22/C22,"") | J22: =COUNTIF(AH9:AH13,"พอใช้") | M22: =IFERROR(J22/C22,"") | P22: =COUNTIF(AH9:AH13,"ปรับปรุง") | S22: =IFERROR(P22/C22,"")
B23: ด้านอารมณ์ จิตใจ | C23: =COUNTIF(AJ9:AJ13,"?*") | D23: =COUNTIF(AJ9:AJ13,"ดี") | G23: =IFERROR(D23/C23,"") | J23: =COUNTIF(AJ9:AJ13,"พอใช้") | M23: =IFERROR(J23/C23,"") | P23: =COUNTIF(AJ9:AJ13,"ปรับปรุง") | S23: =IFERROR(P23/C23,"")
B24: ด้านสังคม | C24: =COUNTIF(AL9:AL13,"?*") | D24: =COUNTIF(AL9:AL13,"ดี") | G24: =IFERROR(D24/C24,"") | J24: =COUNTIF(AL9:AL13,"พอใช้") | M24: =IFERROR(J24/C24,"") | P24: =COUNTIF(AL9:AL13,"ปรับปรุง") | S24: =IFERROR(P24/C24,"")
B25: ด้านสติปัญญา | C25: =COUNTIF(AN9:AN13,"?*") | D25: =COUNTIF(AN9:AN13,"ดี") | G25: =IFERROR(D25/C25,"") | J25: =COUNTIF(AN9:AN13,"พอใช้") | M25: =IFERROR(J25/C25,"") | P25: =COUNTIF(AN9:AN13,"ปรับปรุง") | S25: =IFERROR(P25/C25,"")
B26: ภาพรวม | C26: =COUNTIF(AP9:AP13,"?*") | D26: =COUNTIF(AP9:AP13,"ดี") | G26: =IFERROR(D26/C26,"") | J26: =COUNTIF(AP9:AP13,"พอใช้") | M26: =IFERROR(J26/C26,"") | P26: =COUNTIF(AP9:AP13,"ปรับปรุง") | S26: =IFERROR(P26/C26,"")
B29: ลงชื่อ ........................................................ | X29: ลงชื่อ ........................................................
B30: ="( "&IF('ข้อมูลโรงเรียน'!$C$9="","..................................................",'ข้อมูลโรงเรียน'!$C$9)&" )" | X30: ="( "&IF('ข้อมูลโรงเรียน'!$C$11="","..................................................",'ข้อมูลโรงเรียน'!$C$11)&" )"
B31: ครูประจำชั้น | X31: ผู้บริหารสถานศึกษา

Sheet น้ำหนักส่วนสูง
A1: 🏠
A2: หน้าหลัก | B2: ="โรงเรียน"&'ข้อมูลโรงเรียน'!$C$5&" ชั้น"&'ข้อมูลโรงเรียน'!$C$7&"/"&'ข้อมูลโรงเรียน'!$C$8&" ปีการศึกษา "&'ข้อมูลโรงเรียน'!$C$12&" ครูประจำชั้น "&'ข้อมูลโรงเรียน'!$C$9
B3: ใส่วันที่วัด น้ำหนัก (กก.) และส่วนสูง (ซม.) • BMI และภาวะโภชนาการประเมินให้อัตโนมัติตามมาตรฐาน WHO ที่กรมอนามัยใช้ (อายุ 2 - 5 ปี 11 เดือน)
A5: เลขที่ | B5: ชื่อ - สกุล | C5: เพศ / อายุ | D5: ="พฤษภาคม "&('ข้อมูลโรงเรียน'!$C$12-543+543) | L5: ="มิถุนายน "&('ข้อมูลโรงเรียน'!$C$12-543+543) | T5: ="กรกฎาคม "&('ข้อมูลโรงเรียน'!$C$12-543+543) | AB5: ="สิงหาคม "&('ข้อมูลโรงเรียน'!$C$12-543+543) | AJ5: ="กันยายน "&('ข้อมูลโรงเรียน'!$C$12-543+543) | AR5: ="ตุลาคม "&('ข้อมูลโรงเรียน'!$C$12-543+543) | AZ5: ="พฤศจิกายน "&('ข้อมูลโรงเรียน'!$C$12-543+543) | BH5: ="ธันวาคม "&('ข้อมูลโรงเรียน'!$C$12-543+543) | BP5: ="มกราคม "&('ข้อมูลโรงเรียน'!$C$12-542+543) | BX5: ="กุมภาพันธ์ "&('ข้อมูลโรงเรียน'!$C$12-542+543) | CF5: ="มีนาคม "&('ข้อมูลโรงเรียน'!$C$12-542+543)
D6: วันที่วัด | G6: ="พ.ค. "&RIGHT('ข้อมูลโรงเรียน'!$C$12-543+543,2)&IF(F6=""," (ไม่ระบุ = วันที่ 15)","") | L6: วันที่วัด | O6: ="มิ.ย. "&RIGHT('ข้อมูลโรงเรียน'!$C$12-543+543,2)&IF(N6=""," (ไม่ระบุ = วันที่ 15)","") | T6: วันที่วัด | W6: ="ก.ค. "&RIGHT('ข้อมูลโรงเรียน'!$C$12-543+543,2)&IF(V6=""," (ไม่ระบุ = วันที่ 15)","") | AB6: วันที่วัด | AE6: ="ส.ค. "&RIGHT('ข้อมูลโรงเรียน'!$C$12-543+543,2)&IF(AD6=""," (ไม่ระบุ = วันที่ 15)","") | AJ6: วันที่วัด | AM6: ="ก.ย. "&RIGHT('ข้อมูลโรงเรียน'!$C$12-543+543,2)&IF(AL6=""," (ไม่ระบุ = วันที่ 15)","") | AR6: วันที่วัด | AU6: ="ต.ค. "&RIGHT('ข้อมูลโรงเรียน'!$C$12-543+543,2)&IF(AT6=""," (ไม่ระบุ = วันที่ 15)","") | AZ6: วันที่วัด | BC6: ="พ.ย. "&RIGHT('ข้อมูลโรงเรียน'!$C$12-543+543,2)&IF(BB6=""," (ไม่ระบุ = วันที่ 15)","") | BH6: วันที่วัด | BK6: ="ธ.ค. "&RIGHT('ข้อมูลโรงเรียน'!$C$12-543+543,2)&IF(BJ6=""," (ไม่ระบุ = วันที่ 15)","") | BP6: วันที่วัด | BS6: ="ม.ค. "&RIGHT('ข้อมูลโรงเรียน'!$C$12-542+543,2)&IF(BR6=""," (ไม่ระบุ = วันที่ 15)","") | BX6: วันที่วัด | CA6: ="ก.พ. "&RIGHT('ข้อมูลโรงเรียน'!$C$12-542+543,2)&IF(BZ6=""," (ไม่ระบุ = วันที่ 15)","") | CF6: วันที่วัด | CI6: ="มี.ค. "&RIGHT('ข้อมูลโรงเรียน'!$C$12-542+543,2)&IF(CH6=""," (ไม่ระบุ = วันที่ 15)","")
D7: น้ำหนัก (กก.) | E7: ส่วนสูง (ซม.) | F7: BMI | G7: น้ำหนัก ตามเกณฑ์ ส่วนสูง | H7: ส่วนสูง ตามเกณฑ์ อายุ | I7: อายุ(ด.) | J7: zWH | K7: zHA | L7: น้ำหนัก (กก.) | M7: ส่วนสูง (ซม.) | N7: BMI | O7: น้ำหนัก ตามเกณฑ์ ส่วนสูง | P7: ส่วนสูง ตามเกณฑ์ อายุ | Q7: อายุ(ด.) | R7: zWH | S7: zHA | T7: น้ำหนัก (กก.) | U7: ส่วนสูง (ซม.) | V7: BMI | W7: น้ำหนัก ตามเกณฑ์ ส่วนสูง | X7: ส่วนสูง ตามเกณฑ์ อายุ | Y7: อายุ(ด.) | Z7: zWH | AA7: zHA | AB7: น้ำหนัก (กก.) | AC7: ส่วนสูง (ซม.) | AD7: BMI | AE7: น้ำหนัก ตามเกณฑ์ ส่วนสูง | AF7: ส่วนสูง ตามเกณฑ์ อายุ | AG7: อายุ(ด.) | AH7: zWH | AI7: zHA | AJ7: น้ำหนัก (กก.) | AK7: ส่วนสูง (ซม.) | AL7: BMI | AM7: น้ำหนัก ตามเกณฑ์ ส่วนสูง | AN7: ส่วนสูง ตามเกณฑ์ อายุ | AO7: อายุ(ด.) | AP7: zWH | AQ7: zHA | AR7: น้ำหนัก (กก.) | AS7: ส่วนสูง (ซม.) | AT7: BMI | AU7: น้ำหนัก ตามเกณฑ์ ส่วนสูง | AV7: ส่วนสูง ตามเกณฑ์ อายุ | AW7: อายุ(ด.) | AX7: zWH | AY7: zHA | AZ7: น้ำหนัก (กก.) | BA7: ส่วนสูง (ซม.) | BB7: BMI | BC7: น้ำหนัก ตามเกณฑ์ ส่วนสูง | BD7: ส่วนสูง ตามเกณฑ์ อายุ | BE7: อายุ(ด.) | BF7: zWH | BG7: zHA | BH7: น้ำหนัก (กก.) | BI7: ส่วนสูง (ซม.) | BJ7: BMI | BK7: น้ำหนัก ตามเกณฑ์ ส่วนสูง | BL7: ส่วนสูง ตามเกณฑ์ อายุ | BM7: อายุ(ด.) | BN7: zWH | BO7: zHA | BP7: น้ำหนัก (กก.) | BQ7: ส่วนสูง (ซม.) | BR7: BMI | BS7: น้ำหนัก ตามเกณฑ์ ส่วนสูง | BT7: ส่วนสูง ตามเกณฑ์ อายุ | BU7: อายุ(ด.) | BV7: zWH | BW7: zHA | BX7: น้ำหนัก (กก.) | BY7: ส่วนสูง (ซม.) | BZ7: BMI | CA7: น้ำหนัก ตามเกณฑ์ ส่วนสูง | CB7: ส่วนสูง ตามเกณฑ์ อายุ | CC7: อายุ(ด.) | CD7: zWH | CE7: zHA | CF7: น้ำหนัก (กก.) | CG7: ส่วนสูง (ซม.) | CH7: BMI | CI7: น้ำหนัก ตามเกณฑ์ ส่วนสูง | CJ7: ส่วนสูง ตามเกณฑ์ อายุ | CK7: อายุ(ด.) | CL7: zWH | CM7: zHA
CO8: ล่าสุด ภ1 W | CP8: ล่าสุด ภ1 H | CQ8: ล่าสุด ภ1 WH | CR8: ล่าสุด ภ1 HA | CS8: ล่าสุด ภ1 M | CT8: ล่าสุด ภ2 W | CU8: ล่าสุด ภ2 H | CV8: ล่าสุด ภ2 WH | CW8: ล่าสุด ภ2 HA | CX8: ล่าสุด ภ2 M
A9: 1 | B9: ='ข้อมูลนักเรียน'!T9 | C9: =IF(B9="","",IF('ข้อมูลนักเรียน'!D9="ด.ช.","ชาย",IF('ข้อมูลนักเรียน'!D9="ด.ญ.","หญิง",""))&CHAR(10)&'ข้อมูลนักเรียน'!K9) | F9: =IF(OR(D9="",E9=""),"",ROUND(D9/(E9/100)^2,1)) | G9: =IF(OR($B9="",D9="",E9=""),"",IF(J9="","ตรวจสอบข้อมูล",IF(J9<-2,"ผอม",IF(J9<-1.5,"ค่อนข้างผอม",IF(J9<=1.5,"สมส่วน",IF(J9<=2,"ท้วม",IF(J9<=3,"เริ่มอ้วน","อ้วน"))))))) | H9: =IF(OR($B9="",D9="",E9=""),"",IF(K9="","ตรวจสอบข้อมูล",IF(K9<-2,"เตี้ย",IF(K9<-1.5,"ค่อนข้างเตี้ย",IF(K9<=1.5,"ตามเกณฑ์",IF(K9<=2,"ค่อนข้างสูง","สูง")))))) | I9: =IF(OR($B9="",D9="",E9="",'ข้อมูลนักเรียน'!$S9=""),"",IFERROR(DATEDIF('ข้อมูลนักเรียน'!$S9,DATE('ข้อมูลโรงเรียน'!$C$12-543,5,IF($F$6="",15,$F$6)),"m"),"")) | J9: =IF(I9="","",IF(OR(I9<24,I9>71,E9<65,E9>120,(IF('ข้อมูลนักเรียน'!$D9="ด.ช.",0,IF('ข้อมูลนักเรียน'!$D9="ด.ญ.",3,-99)))<0),"",IFERROR(((D9/INDEX('เกณฑ์WHO'!$B$2:$G$112,MATCH(ROUND(E9*2,0)/2,'เกณฑ์WHO'!$A$2:$A$112,0),2+(IF('ข้อมูลนักเรียน'!$D9="ด.ช.",0,IF('ข้อมูลนักเรียน'!$D9="ด.ญ.",3,-99)))))^INDEX('เกณฑ์WHO'!$B$2:$G$112,MATCH(ROUND(E9*2,0)/2,'เกณฑ์WHO'!$A$2:$A$112,0),1+(IF('ข้อมูลนักเรียน'!$D9="ด.ช.",0,IF('ข้อมูลนักเรียน'!$D9="ด.ญ.",3,-99))))-1)/(INDEX('เกณฑ์WHO'!$B$2:$G$112,MATCH(ROUND(E9*2,0)/2,'เกณฑ์WHO'!$A$2:$A$112,0),1+(IF('ข้อมูลนักเรียน'!$D9="ด.ช.",0,IF('ข้อมูลนักเรียน'!$D9="ด.ญ.",3,-99))))*INDEX('เกณฑ์WHO'!$B$2:$G$112,MATCH(ROUND(E9*2,0)/2,'เกณฑ์WHO'!$A$2:$A$112,0),3+(IF('ข้อมูลนักเรียน'!$D9="ด.ช.",0,IF('ข้อมูลนักเรียน'!$D9="ด.ญ.",3,-99))))),""))) | K9: =IF(I9="","",IF(OR(I9<24,I9>71,(IF('ข้อมูลนักเรียน'!$D9="ด.ช.",0,IF('ข้อมูลนักเรียน'!$D9="ด.ญ.",2,-99)))<0),"",IFERROR((E9/INDEX('เกณฑ์WHO'!$J$2:$M$61,MATCH(I9,'เกณฑ์WHO'!$I$2:$I$61,0),1+(IF('ข้อมูลนักเรียน'!$D9="ด.ช.",0,IF('ข้อมูลนักเรียน'!$D9="ด.ญ.",2,-99))))-1)/INDEX('เกณฑ์WHO'!$J$2:$M$61,MATCH(I9,'เกณฑ์WHO'!$I$2:$I$61,0),2+(IF('ข้อมูลนักเรียน'!$D9="ด.ช.",0,IF('ข้อมูลนักเรียน'!$D9="ด.ญ.",2,-99)))),""))) | N9: =IF(OR(L9="",M9=""),"",ROUND(L9/(M9/100)^2,1)) | O9: =IF(OR($B9="",L9="",M9=""),"",IF(R9="","ตรวจสอบข้อมูล",IF(R9<-2,"ผอม",IF(R9<-1.5,"ค่อนข้างผอม",IF(R9<=1.5,"สมส่วน",IF(R9<=2,"ท้วม",IF(R9<=3,"เริ่มอ้วน","อ้วน"))))))) | P9: =IF(OR($B9="",L9="",M9=""),"",IF(S9="","ตรวจสอบข้อมูล",IF(S9<-2,"เตี้ย",IF(S9<-1.5,"ค่อนข้างเตี้ย",IF(S9<=1.5,"ตามเกณฑ์",IF(S9<=2,"ค่อนข้างสูง","สูง")))))) | Q9: =IF(OR($B9="",L9="",M9="",'ข้อมูลนักเรียน'!$S9=""),"",IFERROR(DATEDIF('ข้อมูลนักเรียน'!$S9,DATE('ข้อมูลโรงเรียน'!$C$12-543,6,IF($N$6="",15,$N$6)),"m"),"")) | R9: =IF(Q9="","",IF(OR(Q9<24,Q9>71,M9<65,M9>120,(IF('ข้อมูลนักเรียน'!$D9="ด.ช.",0,IF('ข้อมูลนักเรียน'!$D9="ด.ญ.",3,-99)))<0),"",IFERROR(((L9/INDEX('เกณฑ์WHO'!$B$2:$G$112,MATCH(ROUND(M9*2,0)/2,'เกณฑ์WHO'!$A$2:$A$112,0),2+(IF('ข้อมูลนักเรียน'!$D9="ด.ช.",0,IF('ข้อมูลนักเรียน'!$D9="ด.ญ.",3,-99)))))^INDEX('เกณฑ์WHO'!$B$2:$G$112,MATCH(ROUND(M9*2,0)/2,'เกณฑ์WHO'!$A$2:$A$112,0),1+(IF('ข้อมูลนักเรียน'!$D9="ด.ช.",0,IF('ข้อมูลนักเรียน'!$D9="ด.ญ.",3,-99))))-1)/(INDEX('เกณฑ์WHO'!$B$2:$G$112,MATCH(ROUND(M9*2,0)/2,'เกณฑ์WHO'!$A$2:$A$112,0),1+(IF('ข้อมูลนักเรียน'!$D9="ด.ช.",0,IF('ข้อมูลนักเรียน'!$D9="ด.ญ.",3,-99))))*INDEX('เกณฑ์WHO'!$B$2:$G$112,MATCH(ROUND(M9*2,0)/2,'เกณฑ์WHO'!$A$2:$A$112,0),3+(IF('ข้อมูลนักเรียน'!$D9="ด.ช.",0,IF('ข้อมูลนักเรียน'!$D9="ด.ญ.",3,-99))))),""))) | S9: =IF(Q9="","",IF(OR(Q9<24,Q9>71,(IF('ข้อมูลนักเรียน'!$D9="ด.ช.",0,IF('ข้อมูลนักเรียน'!$D9="ด.ญ.",2,-99)))<0),"",IFERROR((M9/INDEX('เกณฑ์WHO'!$J$2:$M$61,MATCH(Q9,'เกณฑ์WHO'!$I$2:$I$61,0),1+(IF('ข้อมูลนักเรียน'!$D9="ด.ช.",0,IF('ข้อมูลนักเรียน'!$D9="ด.ญ.",2,-99))))-1)/INDEX('เกณฑ์WHO'!$J$2:$M$61,MATCH(Q9,'เกณฑ์WHO'!$I$2:$I$61,0),2+(IF('ข้อมูลนักเรียน'!$D9="ด.ช.",0,IF('ข้อมูลนักเรียน'!$D9="ด.ญ.",2,-99)))),""))) | V9: =IF(OR(T9="",U9=""),"",ROUND(T9/(U9/100)^2,1)) | W9: =IF(OR($B9="",T9="",U9=""),"",IF(Z9="","ตรวจสอบข้อมูล",IF(Z9<-2,"ผอม",IF(Z9<-1.5,"ค่อนข้างผอม",IF(Z9<=1.5,"สมส่วน",IF(Z9<=2,"ท้วม",IF(Z9<=3,"เริ่มอ้วน","อ้วน"))))))) | X9: =IF(OR($B9="",T9="",U9=""),"",IF(AA9="","ตรวจสอบข้อมูล",IF(AA9<-2,"เตี้ย",IF(AA9<-1.5,"ค่อนข้างเตี้ย",IF(AA9<=1.5,"ตามเกณฑ์",IF(AA9<=2,"ค่อนข้างสูง","สูง")))))) | Y9: =IF(OR($B9="",T9="",U9="",'ข้อมูลนักเรียน'!$S9=""),"",IFERROR(DATEDIF('ข้อมูลนักเรียน'!$S9,DATE('ข้อมูลโรงเรียน'!$C$12-543,7,IF($V$6="",15,$V$6)),"m"),"")) | Z9: =IF(Y9="","",IF(OR(Y9<24,Y9>71,U9<65,U9>120,(IF('ข้อมูลนักเรียน'!$D9="ด.ช.",0,IF('ข้อมูลนักเรียน'!$D9="ด.ญ.",3,-99)))<0),"",IFERROR(((T9/INDEX('เกณฑ์WHO'!$B$2:$G$112,MATCH(ROUND(U9*2,0)/2,'เกณฑ์WHO'!$A$2:$A$112,0),2+(IF('ข้อมูลนักเรียน'!$D9="ด.ช.",0,IF('ข้อมูลนักเรียน'!$D9="ด.ญ.",3,-99)))))^INDEX('เกณฑ์WHO'!$B$2:$G$112,MATCH(ROUND(U9*2,0)/2,'เกณฑ์WHO'!$A$2:$A$112,0),1+(IF('ข้อมูลนักเรียน'!$D9="ด.ช.",0,IF('ข้อมูลนักเรียน'!$D9="ด.ญ.",3,-99))))-1)/(INDEX('เกณฑ์WHO'!$B$2:$G$112,MATCH(ROUND(U9*2,0)/2,'เกณฑ์WHO'!$A$2:$A$112,0),1+(IF('ข้อมูลนักเรียน'!$D9="ด.ช.",0,IF('ข้อมูลนักเรียน'!$D9="ด.ญ.",3,-99))))*INDEX('เกณฑ์WHO'!$B$2:$G$112,MATCH(ROUND(U9*2,0)/2,'เกณฑ์WHO'!$A$2:$A$112,0),3+(IF('ข้อมูลนักเรียน'!$D9="ด.ช.",0,IF('ข้อมูลนักเรียน'!$D9="ด.ญ.",3,-99))))),""))) | AA9: =IF(Y9="","",IF(OR(Y9<24,Y9>71,(IF('ข้อมูลนักเรียน'!$D9="ด.ช.",0,IF('ข้อมูลนักเรียน'!$D9="ด.ญ.",2,-99)))<0),"",IFERROR((U9/INDEX('เกณฑ์WHO'!$J$2:$M$61,MATCH(Y9,'เกณฑ์WHO'!$I$2:$I$61,0),1+(IF('ข้อมูลนักเรียน'!$D9="ด.ช.",0,IF('ข้อมูลนักเรียน'!$D9="ด.ญ.",2,-99))))-1)/INDEX('เกณฑ์WHO'!$J$2:$M$61,MATCH(Y9,'เกณฑ์WHO'!$I$2:$I$61,0),2+(IF('ข้อมูลนักเรียน'!$D9="ด.ช.",0,IF('ข้อมูลนักเรียน'!$D9="ด.ญ.",2,-99)))),""))) | AD9: =IF(OR(AB9="",AC9=""),"",ROUND(AB9/(AC9/100)^2,1)) | AE9: =IF(OR($B9="",AB9="",AC9=""),"",IF(AH9="","ตรวจสอบข้อมูล",IF(AH9<-2,"ผอม",IF(AH9<-1.5,"ค่อนข้างผอม",IF(AH9<=1.5,"สมส่วน",IF(AH9<=2,"ท้วม",IF(AH9<=3,"เริ่มอ้วน","อ้วน"))))))) | AF9: =IF(OR($B9="",AB9="",AC9=""),"",IF(AI9="","ตรวจสอบข้อมูล",IF(AI9<-2,"เตี้ย",IF(AI9<-1.5,"ค่อนข้างเตี้ย",IF(AI9<=1.5,"ตามเกณฑ์",IF(AI9<=2,"ค่อนข้างสูง","สูง")))))) | AG9: =IF(OR($B9="",AB9="",AC9="",'ข้อมูลนักเรียน'!$S9=""),"",IFERROR(DATEDIF('ข้อมูลนักเรียน'!$S9,DATE('ข้อมูลโรงเรียน'!$C$12-543,8,IF($AD$6="",15,$AD$6)),"m"),"")) | AH9: =IF(AG9="","",IF(OR(AG9<24,AG9>71,AC9<65,AC9>120,(IF('ข้อมูลนักเรียน'!$D9="ด.ช.",0,IF('ข้อมูลนักเรียน'!$D9="ด.ญ.",3,-99)))<0),"",IFERROR(((AB9/INDEX('เกณฑ์WHO'!$B$2:$G$112,MATCH(ROUND(AC9*2,0)/2,'เกณฑ์WHO'!$A$2:$A$112,0),2+(IF('ข้อมูลนักเรียน'!$D9="ด.ช.",0,IF('ข้อมูลนักเรียน'!$D9="ด.ญ.",3,-99)))))^INDEX('เกณฑ์WHO'!$B$2:$G$112,MATCH(ROUND(AC9*2,0)/2,'เกณฑ์WHO'!$A$2:$A$112,0),1+(IF('ข้อมูลนักเรียน'!$D9="ด.ช.",0,IF('ข้อมูลนักเรียน'!$D9="ด.ญ.",3,-99))))-1)/(INDEX('เกณฑ์WHO'!$B$2:$G$112,MATCH(ROUND(AC9*2,0)/2,'เกณฑ์WHO'!$A$2:$A$112,0),1+(IF('ข้อมูลนักเรียน'!$D9="ด.ช.",0,IF('ข้อมูลนักเรียน'!$D9="ด.ญ.",3,-99))))*INDEX('เกณฑ์WHO'!$B$2:$G$112,MATCH(ROUND(AC9*2,0)/2,'เกณฑ์WHO'!$A$2:$A$112,0),3+(IF('ข้อมูลนักเรียน'!$D9="ด.ช.",0,IF('ข้อมูลนักเรียน'!$D9="ด.ญ.",3,-99))))),""))) | AI9: =IF(AG9="","",IF(OR(AG9<24,AG9>71,(IF('ข้อมูลนักเรียน'!$D9="ด.ช.",0,IF('ข้อมูลนักเรียน'!$D9="ด.ญ.",2,-99)))<0),"",IFERROR((AC9/INDEX('เกณฑ์WHO'!$J$2:$M$61,MATCH(AG9,'เกณฑ์WHO'!$I$2:$I$61,0),1+(IF('ข้อมูลนักเรียน'!$D9="ด.ช.",0,IF('ข้อมูลนักเรียน'!$D9="ด.ญ.",2,-99))))-1)/INDEX('เกณฑ์WHO'!$J$2:$M$61,MATCH(AG9,'เกณฑ์WHO'!$I$2:$I$61,0),2+(IF('ข้อมูลนักเรียน'!$D9="ด.ช.",0,IF('ข้อมูลนักเรียน'!$D9="ด.ญ.",2,-99)))),""))) | AL9: =IF(OR(AJ9="",AK9=""),"",ROUND(AJ9/(AK9/100)^2,1)) | AM9: =IF(OR($B9="",AJ9="",AK9=""),"",IF(AP9="","ตรวจสอบข้อมูล",IF(AP9<-2,"ผอม",IF(AP9<-1.5,"ค่อนข้างผอม",IF(AP9<=1.5,"สมส่วน",IF(AP9<=2,"ท้วม",IF(AP9<=3,"เริ่มอ้วน","อ้วน"))))))) | AN9: =IF(OR($B9="",AJ9="",AK9=""),"",IF(AQ9="","ตรวจสอบข้อมูล",IF(AQ9<-2,"เตี้ย",IF(AQ9<-1.5,"ค่อนข้างเตี้ย",IF(AQ9<=1.5,"ตามเกณฑ์",IF(AQ9<=2,"ค่อนข้างสูง","สูง")))))) | AO9: =IF(OR($B9="",AJ9="",AK9="",'ข้อมูลนักเรียน'!$S9=""),"",IFERROR(DATEDIF('ข้อมูลนักเรียน'!$S9,DATE('ข้อมูลโรงเรียน'!$C$12-543,9,IF($AL$6="",15,$AL$6)),"m"),"")) | AP9: =IF(AO9="","",IF(OR(AO9<24,AO9>71,AK9<65,AK9>120,(IF('ข้อมูลนักเรียน'!$D9="ด.ช.",0,IF('ข้อมูลนักเรียน'!$D9="ด.ญ.",3,-99)))<0),"",IFERROR(((AJ9/INDEX('เกณฑ์WHO'!$B$2:$G$112,MATCH(ROUND(AK9*2,0)/2,'เกณฑ์WHO'!$A$2:$A$112,0),2+(IF('ข้อมูลนักเรียน'!$D9="ด.ช.",0,IF('ข้อมูลนักเรียน'!$D9="ด.ญ.",3,-99)))))^INDEX('เกณฑ์WHO'!$B$2:$G$112,MATCH(ROUND(AK9*2,0)/2,'เกณฑ์WHO'!$A$2:$A$112,0),1+(IF('ข้อมูลนักเรียน'!$D9="ด.ช.",0,IF('ข้อมูลนักเรียน'!$D9="ด.ญ.",3,-99))))-1)/(INDEX('เกณฑ์WHO'!$B$2:$G$112,MATCH(ROUND(AK9*2,0)/2,'เกณฑ์WHO'!$A$2:$A$112,0),1+(IF('ข้อมูลนักเรียน'!$D9="ด.ช.",0,IF('ข้อมูลนักเรียน'!$D9="ด.ญ.",3,-99))))*INDEX('เกณฑ์WHO'!$B$2:$G$112,MATCH(ROUND(AK9*2,0)/2,'เกณฑ์WHO'!$A$2:$A$112,0),3+(IF('ข้อมูลนักเรียน'!$D9="ด.ช.",0,IF('ข้อมูลนักเรียน'!$D9="ด.ญ.",3,-99))))),""))) | AQ9: =IF(AO9="","",IF(OR(AO9<24,AO9>71,(IF('ข้อมูลนักเรียน'!$D9="ด.ช.",0,IF('ข้อมูลนักเรียน'!$D9="ด.ญ.",2,-99)))<0),"",IFERROR((AK9/INDEX('เกณฑ์WHO'!$J$2:$M$61,MATCH(AO9,'เกณฑ์WHO'!$I$2:$I$61,0),1+(IF('ข้อมูลนักเรียน'!$D9="ด.ช.",0,IF('ข้อมูลนักเรียน'!$D9="ด.ญ.",2,-99))))-1)/INDEX('เกณฑ์WHO'!$J$2:$M$61,MATCH(AO9,'เกณฑ์WHO'!$I$2:$I$61,0),2+(IF('ข้อมูลนักเรียน'!$D9="ด.ช.",0,IF('ข้อมูลนักเรียน'!$D9="ด.ญ.",2,-99)))),""))) | AT9: =IF(OR(AR9="",AS9=""),"",ROUND(AR9/(AS9/100)^2,1)) | AU9: =IF(OR($B9="",AR9="",AS9=""),"",IF(AX9="","ตรวจสอบข้อมูล",IF(AX9<-2,"ผอม",IF(AX9<-1.5,"ค่อนข้างผอม",IF(AX9<=1.5,"สมส่วน",IF(AX9<=2,"ท้วม",IF(AX9<=3,"เริ่มอ้วน","อ้วน"))))))) | AV9: =IF(OR($B9="",AR9="",AS9=""),"",IF(AY9="","ตรวจสอบข้อมูล",IF(AY9<-2,"เตี้ย",IF(AY9<-1.5,"ค่อนข้างเตี้ย",IF(AY9<=1.5,"ตามเกณฑ์",IF(AY9<=2,"ค่อนข้างสูง","สูง")))))) | AW9: =IF(OR($B9="",AR9="",AS9="",'ข้อมูลนักเรียน'!$S9=""),"",IFERROR(DATEDIF('ข้อมูลนักเรียน'!$S9,DATE('ข้อมูลโรงเรียน'!$C$12-543,10,IF($AT$6="",15,$AT$6)),"m"),"")) | AX9: =IF(AW9="","",IF(OR(AW9<24,AW9>71,AS9<65,AS9>120,(IF('ข้อมูลนักเรียน'!$D9="ด.ช.",0,IF('ข้อมูลนักเรียน'!$D9="ด.ญ.",3,-99)))<0),"",IFERROR(((AR9/INDEX('เกณฑ์WHO'!$B$2:$G$112,MATCH(ROUND(AS9*2,0)/2,'เกณฑ์WHO'!$A$2:$A$112,0),2+(IF('ข้อมูลนักเรียน'!$D9="ด.ช.",0,IF('ข้อมูลนักเรียน'!$D9="ด.ญ.",3,-99)))))^INDEX('เกณฑ์WHO'!$B$2:$G$112,MATCH(ROUND(AS9*2,0)/2,'เกณฑ์WHO'!$A$2:$A$112,0),1+(IF('ข้อมูลนักเรียน'!$D9="ด.ช.",0,IF('ข้อมูลนักเรียน'!$D9="ด.ญ.",3,-99))))-1)/(INDEX('เกณฑ์WHO'!$B$2:$G$112,MATCH(ROUND(AS9*2,0)/2,'เกณฑ์WHO'!$A$2:$A$112,0),1+(IF('ข้อมูลนักเรียน'!$D9="ด.ช.",0,IF('ข้อมูลนักเรียน'!$D9="ด.ญ.",3,-99))))*INDEX('เกณฑ์WHO'!$B$2:$G$112,MATCH(ROUND(AS9*2,0)/2,'เกณฑ์WHO'!$A$2:$A$112,0),3+(IF('ข้อมูลนักเรียน'!$D9="ด.ช.",0,IF('ข้อมูลนักเรียน'!$D9="ด.ญ.",3,-99))))),""))) | AY9: =IF(AW9="","",IF(OR(AW9<24,AW9>71,(IF('ข้อมูลนักเรียน'!$D9="ด.ช.",0,IF('ข้อมูลนักเรียน'!$D9="ด.ญ.",2,-99)))<0),"",IFERROR((AS9/INDEX('เกณฑ์WHO'!$J$2:$M$61,MATCH(AW9,'เกณฑ์WHO'!$I$2:$I$61,0),1+(IF('ข้อมูลนักเรียน'!$D9="ด.ช.",0,IF('ข้อมูลนักเรียน'!$D9="ด.ญ.",2,-99))))-1)/INDEX('เกณฑ์WHO'!$J$2:$M$61,MATCH(AW9,'เกณฑ์WHO'!$I$2:$I$61,0),2+(IF('ข้อมูลนักเรียน'!$D9="ด.ช.",0,IF('ข้อมูลนักเรียน'!$D9="ด.ญ.",2,-99)))),""))) | BB9: =IF(OR(AZ9="",BA9=""),"",ROUND(AZ9/(BA9/100)^2,1)) | BC9: =IF(OR($B9="",AZ9="",BA9=""),"",IF(BF9="","ตรวจสอบข้อมูล",IF(BF9<-2,"ผอม",IF(BF9<-1.5,"ค่อนข้างผอม",IF(BF9<=1.5,"สมส่วน",IF(BF9<=2,"ท้วม",IF(BF9<=3,"เริ่มอ้วน","อ้วน"))))))) | BD9: =IF(OR($B9="",AZ9="",BA9=""),"",IF(BG9="","ตรวจสอบข้อมูล",IF(BG9<-2,"เตี้ย",IF(BG9<-1.5,"ค่อนข้างเตี้ย",IF(BG9<=1.5,"ตามเกณฑ์",IF(BG9<=2,"ค่อนข้างสูง","สูง")))))) | BE9: =IF(OR($B9="",AZ9="",BA9="",'ข้อมูลนักเรียน'!$S9=""),"",IFERROR(DATEDIF('ข้อมูลนักเรียน'!$S9,DATE('ข้อมูลโรงเรียน'!$C$12-543,11,IF($BB$6="",15,$BB$6)),"m"),"")) | BF9: =IF(BE9="","",IF(OR(BE9<24,BE9>71,BA9<65,BA9>120,(IF('ข้อมูลนักเรียน'!$D9="ด.ช.",0,IF('ข้อมูลนักเรียน'!$D9="ด.ญ.",3,-99)))<0),"",IFERROR(((AZ9/INDEX('เกณฑ์WHO'!$B$2:$G$112,MATCH(ROUND(BA9*2,0)/2,'เกณฑ์WHO'!$A$2:$A$112,0),2+(IF('ข้อมูลนักเรียน'!$D9="ด.ช.",0,IF('ข้อมูลนักเรียน'!$D9="ด.ญ.",3,-99)))))^INDEX('เกณฑ์WHO'!$B$2:$G$112,MATCH(ROUND(BA9*2,0)/2,'เกณฑ์WHO'!$A$2:$A$112,0),1+(IF('ข้อมูลนักเรียน'!$D9="ด.ช.",0,IF('ข้อมูลนักเรียน'!$D9="ด.ญ.",3,-99))))-1)/(INDEX('เกณฑ์WHO'!$B$2:$G$112,MATCH(ROUND(BA9*2,0)/2,'เกณฑ์WHO'!$A$2:$A$112,0),1+(IF('ข้อมูลนักเรียน'!$D9="ด.ช.",0,IF('ข้อมูลนักเรียน'!$D9="ด.ญ.",3,-99))))*INDEX('เกณฑ์WHO'!$B$2:$G$112,MATCH(ROUND(BA9*2,0)/2,'เกณฑ์WHO'!$A$2:$A$112,0),3+(IF('ข้อมูลนักเรียน'!$D9="ด.ช.",0,IF('ข้อมูลนักเรียน'!$D9="ด.ญ.",3,-99))))),""))) | BG9: =IF(BE9="","",IF(OR(BE9<24,BE9>71,(IF('ข้อมูลนักเรียน'!$D9="ด.ช.",0,IF('ข้อมูลนักเรียน'!$D9="ด.ญ.",2,-99)))<0),"",IFERROR((BA9/INDEX('เกณฑ์WHO'!$J$2:$M$61,MATCH(BE9,'เกณฑ์WHO'!$I$2:$I$61,0),1+(IF('ข้อมูลนักเรียน'!$D9="ด.ช.",0,IF('ข้อมูลนักเรียน'!$D9="ด.ญ.",2,-99))))-1)/INDEX('เกณฑ์WHO'!$J$2:$M$61,MATCH(BE9,'เกณฑ์WHO'!$I$2:$I$61,0),2+(IF('ข้อมูลนักเรียน'!$D9="ด.ช.",0,IF('ข้อมูลนักเรียน'!$D9="ด.ญ.",2,-99)))),""))) | BJ9: =IF(OR(BH9="",BI9=""),"",ROUND(BH9/(BI9/100)^2,1)) | BK9: =IF(OR($B9="",BH9="",BI9=""),"",IF(BN9="","ตรวจสอบข้อมูล",IF(BN9<-2,"ผอม",IF(BN9<-1.5,"ค่อนข้างผอม",IF(BN9<=1.5,"สมส่วน",IF(BN9<=2,"ท้วม",IF(BN9<=3,"เริ่มอ้วน","อ้วน"))))))) | BL9: =IF(OR($B9="",BH9="",BI9=""),"",IF(BO9="","ตรวจสอบข้อมูล",IF(BO9<-2,"เตี้ย",IF(BO9<-1.5,"ค่อนข้างเตี้ย",IF(BO9<=1.5,"ตามเกณฑ์",IF(BO9<=2,"ค่อนข้างสูง","สูง")))))) | BM9: =IF(OR($B9="",BH9="",BI9="",'ข้อมูลนักเรียน'!$S9=""),"",IFERROR(DATEDIF('ข้อมูลนักเรียน'!$S9,DATE('ข้อมูลโรงเรียน'!$C$12-543,12,IF($BJ$6="",15,$BJ$6)),"m"),"")) | BN9: =IF(BM9="","",IF(OR(BM9<24,BM9>71,BI9<65,BI9>120,(IF('ข้อมูลนักเรียน'!$D9="ด.ช.",0,IF('ข้อมูลนักเรียน'!$D9="ด.ญ.",3,-99)))<0),"",IFERROR(((BH9/INDEX('เกณฑ์WHO'!$B$2:$G$112,MATCH(ROUND(BI9*2,0)/2,'เกณฑ์WHO'!$A$2:$A$112,0),2+(IF('ข้อมูลนักเรียน'!$D9="ด.ช.",0,IF('ข้อมูลนักเรียน'!$D9="ด.ญ.",3,-99)))))^INDEX('เกณฑ์WHO'!$B$2:$G$112,MATCH(ROUND(BI9*2,0)/2,'เกณฑ์WHO'!$A$2:$A$112,0),1+(IF('ข้อมูลนักเรียน'!$D9="ด.ช.",0,IF('ข้อมูลนักเรียน'!$D9="ด.ญ.",3,-99))))-1)/(INDEX('เกณฑ์WHO'!$B$2:$G$112,MATCH(ROUND(BI9*2,0)/2,'เกณฑ์WHO'!$A$2:$A$112,0),1+(IF('ข้อมูลนักเรียน'!$D9="ด.ช.",0,IF('ข้อมูลนักเรียน'!$D9="ด.ญ.",3,-99))))*INDEX('เกณฑ์WHO'!$B$2:$G$112,MATCH(ROUND(BI9*2,0)/2,'เกณฑ์WHO'!$A$2:$A$112,0),3+(IF('ข้อมูลนักเรียน'!$D9="ด.ช.",0,IF('ข้อมูลนักเรียน'!$D9="ด.ญ.",3,-99))))),""))) | BO9: =IF(BM9="","",IF(OR(BM9<24,BM9>71,(IF('ข้อมูลนักเรียน'!$D9="ด.ช.",0,IF('ข้อมูลนักเรียน'!$D9="ด.ญ.",2,-99)))<0),"",IFERROR((BI9/INDEX('เกณฑ์WHO'!$J$2:$M$61,MATCH(BM9,'เกณฑ์WHO'!$I$2:$I$61,0),1+(IF('ข้อมูลนักเรียน'!$D9="ด.ช.",0,IF('ข้อมูลนักเรียน'!$D9="ด.ญ.",2,-99))))-1)/INDEX('เกณฑ์WHO'!$J$2:$M$61,MATCH(BM9,'เกณฑ์WHO'!$I$2:$I$61,0),2+(IF('ข้อมูลนักเรียน'!$D9="ด.ช.",0,IF('ข้อมูลนักเรียน'!$D9="ด.ญ.",2,-99)))),""))) | BR9: =IF(OR(BP9="",BQ9=""),"",ROUND(BP9/(BQ9/100)^2,1)) | BS9: =IF(OR($B9="",BP9="",BQ9=""),"",IF(BV9="","ตรวจสอบข้อมูล",IF(BV9<-2,"ผอม",IF(BV9<-1.5,"ค่อนข้างผอม",IF(BV9<=1.5,"สมส่วน",IF(BV9<=2,"ท้วม",IF(BV9<=3,"เริ่มอ้วน","อ้วน"))))))) | BT9: =IF(OR($B9="",BP9="",BQ9=""),"",IF(BW9="","ตรวจสอบข้อมูล",IF(BW9<-2,"เตี้ย",IF(BW9<-1.5,"ค่อนข้างเตี้ย",IF(BW9<=1.5,"ตามเกณฑ์",IF(BW9<=2,"ค่อนข้างสูง","สูง")))))) | BU9: =IF(OR($B9="",BP9="",BQ9="",'ข้อมูลนักเรียน'!$S9=""),"",IFERROR(DATEDIF('ข้อมูลนักเรียน'!$S9,DATE('ข้อมูลโรงเรียน'!$C$12-542,1,IF($BR$6="",15,$BR$6)),"m"),"")) | BV9: =IF(BU9="","",IF(OR(BU9<24,BU9>71,BQ9<65,BQ9>120,(IF('ข้อมูลนักเรียน'!$D9="ด.ช.",0,IF('ข้อมูลนักเรียน'!$D9="ด.ญ.",3,-99)))<0),"",IFERROR(((BP9/INDEX('เกณฑ์WHO'!$B$2:$G$112,MATCH(ROUND(BQ9*2,0)/2,'เกณฑ์WHO'!$A$2:$A$112,0),2+(IF('ข้อมูลนักเรียน'!$D9="ด.ช.",0,IF('ข้อมูลนักเรียน'!$D9="ด.ญ.",3,-99)))))^INDEX('เกณฑ์WHO'!$B$2:$G$112,MATCH(ROUND(BQ9*2,0)/2,'เกณฑ์WHO'!$A$2:$A$112,0),1+(IF('ข้อมูลนักเรียน'!$D9="ด.ช.",0,IF('ข้อมูลนักเรียน'!$D9="ด.ญ.",3,-99))))-1)/(INDEX('เกณฑ์WHO'!$B$2:$G$112,MATCH(ROUND(BQ9*2,0)/2,'เกณฑ์WHO'!$A$2:$A$112,0),1+(IF('ข้อมูลนักเรียน'!$D9="ด.ช.",0,IF('ข้อมูลนักเรียน'!$D9="ด.ญ.",3,-99))))*INDEX('เกณฑ์WHO'!$B$2:$G$112,MATCH(ROUND(BQ9*2,0)/2,'เกณฑ์WHO'!$A$2:$A$112,0),3+(IF('ข้อมูลนักเรียน'!$D9="ด.ช.",0,IF('ข้อมูลนักเรียน'!$D9="ด.ญ.",3,-99))))),""))) | BW9: =IF(BU9="","",IF(OR(BU9<24,BU9>71,(IF('ข้อมูลนักเรียน'!$D9="ด.ช.",0,IF('ข้อมูลนักเรียน'!$D9="ด.ญ.",2,-99)))<0),"",IFERROR((BQ9/INDEX('เกณฑ์WHO'!$J$2:$M$61,MATCH(BU9,'เกณฑ์WHO'!$I$2:$I$61,0),1+(IF('ข้อมูลนักเรียน'!$D9="ด.ช.",0,IF('ข้อมูลนักเรียน'!$D9="ด.ญ.",2,-99))))-1)/INDEX('เกณฑ์WHO'!$J$2:$M$61,MATCH(BU9,'เกณฑ์WHO'!$I$2:$I$61,0),2+(IF('ข้อมูลนักเรียน'!$D9="ด.ช.",0,IF('ข้อมูลนักเรียน'!$D9="ด.ญ.",2,-99)))),""))) | BZ9: =IF(OR(BX9="",BY9=""),"",ROUND(BX9/(BY9/100)^2,1)) | CA9: =IF(OR($B9="",BX9="",BY9=""),"",IF(CD9="","ตรวจสอบข้อมูล",IF(CD9<-2,"ผอม",IF(CD9<-1.5,"ค่อนข้างผอม",IF(CD9<=1.5,"สมส่วน",IF(CD9<=2,"ท้วม",IF(CD9<=3,"เริ่มอ้วน","อ้วน"))))))) | CB9: =IF(OR($B9="",BX9="",BY9=""),"",IF(CE9="","ตรวจสอบข้อมูล",IF(CE9<-2,"เตี้ย",IF(CE9<-1.5,"ค่อนข้างเตี้ย",IF(CE9<=1.5,"ตามเกณฑ์",IF(CE9<=2,"ค่อนข้างสูง","สูง")))))) | CC9: =IF(OR($B9="",BX9="",BY9="",'ข้อมูลนักเรียน'!$S9=""),"",IFERROR(DATEDIF('ข้อมูลนักเรียน'!$S9,DATE('ข้อมูลโรงเรียน'!$C$12-542,2,IF($BZ$6="",15,$BZ$6)),"m"),"")) | CD9: =IF(CC9="","",IF(OR(CC9<24,CC9>71,BY9<65,BY9>120,(IF('ข้อมูลนักเรียน'!$D9="ด.ช.",0,IF('ข้อมูลนักเรียน'!$D9="ด.ญ.",3,-99)))<0),"",IFERROR(((BX9/INDEX('เกณฑ์WHO'!$B$2:$G$112,MATCH(ROUND(BY9*2,0)/2,'เกณฑ์WHO'!$A$2:$A$112,0),2+(IF('ข้อมูลนักเรียน'!$D9="ด.ช.",0,IF('ข้อมูลนักเรียน'!$D9="ด.ญ.",3,-99)))))^INDEX('เกณฑ์WHO'!$B$2:$G$112,MATCH(ROUND(BY9*2,0)/2,'เกณฑ์WHO'!$A$2:$A$112,0),1+(IF('ข้อมูลนักเรียน'!$D9="ด.ช.",0,IF('ข้อมูลนักเรียน'!$D9="ด.ญ.",3,-99))))-1)/(INDEX('เกณฑ์WHO'!$B$2:$G$112,MATCH(ROUND(BY9*2,0)/2,'เกณฑ์WHO'!$A$2:$A$112,0),1+(IF('ข้อมูลนักเรียน'!$D9="ด.ช.",0,IF('ข้อมูลนักเรียน'!$D9="ด.ญ.",3,-99))))*INDEX('เกณฑ์WHO'!$B$2:$G$112,MATCH(ROUND(BY9*2,0)/2,'เกณฑ์WHO'!$A$2:$A$112,0),3+(IF('ข้อมูลนักเรียน'!$D9="ด.ช.",0,IF('ข้อมูลนักเรียน'!$D9="ด.ญ.",3,-99))))),""))) | CE9: =IF(CC9="","",IF(OR(CC9<24,CC9>71,(IF('ข้อมูลนักเรียน'!$D9="ด.ช.",0,IF('ข้อมูลนักเรียน'!$D9="ด.ญ.",2,-99)))<0),"",IFERROR((BY9/INDEX('เกณฑ์WHO'!$J$2:$M$61,MATCH(CC9,'เกณฑ์WHO'!$I$2:$I$61,0),1+(IF('ข้อมูลนักเรียน'!$D9="ด.ช.",0,IF('ข้อมูลนักเรียน'!$D9="ด.ญ.",2,-99))))-1)/INDEX('เกณฑ์WHO'!$J$2:$M$61,MATCH(CC9,'เกณฑ์WHO'!$I$2:$I$61,0),2+(IF('ข้อมูลนักเรียน'!$D9="ด.ช.",0,IF('ข้อมูลนักเรียน'!$D9="ด.ญ.",2,-99)))),""))) | CH9: =IF(OR(CF9="",CG9=""),"",ROUND(CF9/(CG9/100)^2,1)) | CI9: =IF(OR($B9="",CF9="",CG9=""),"",IF(CL9="","ตรวจสอบข้อมูล",IF(CL9<-2,"ผอม",IF(CL9<-1.5,"ค่อนข้างผอม",IF(CL9<=1.5,"สมส่วน",IF(CL9<=2,"ท้วม",IF(CL9<=3,"เริ่มอ้วน","อ้วน"))))))) | CJ9: =IF(OR($B9="",CF9="",CG9=""),"",IF(CM9="","ตรวจสอบข้อมูล",IF(CM9<-2,"เตี้ย",IF(CM9<-1.5,"ค่อนข้างเตี้ย",IF(CM9<=1.5,"ตามเกณฑ์",IF(CM9<=2,"ค่อนข้างสูง","สูง")))))) | CK9: =IF(OR($B9="",CF9="",CG9="",'ข้อมูลนักเรียน'!$S9=""),"",IFERROR(DATEDIF('ข้อมูลนักเรียน'!$S9,DATE('ข้อมูลโรงเรียน'!$C$12-542,3,IF($CH$6="",15,$CH$6)),"m"),"")) | CL9: =IF(CK9="","",IF(OR(CK9<24,CK9>71,CG9<65,CG9>120,(IF('ข้อมูลนักเรียน'!$D9="ด.ช.",0,IF('ข้อมูลนักเรียน'!$D9="ด.ญ.",3,-99)))<0),"",IFERROR(((CF9/INDEX('เกณฑ์WHO'!$B$2:$G$112,MATCH(ROUND(CG9*2,0)/2,'เกณฑ์WHO'!$A$2:$A$112,0),2+(IF('ข้อมูลนักเรียน'!$D9="ด.ช.",0,IF('ข้อมูลนักเรียน'!$D9="ด.ญ.",3,-99)))))^INDEX('เกณฑ์WHO'!$B$2:$G$112,MATCH(ROUND(CG9*2,0)/2,'เกณฑ์WHO'!$A$2:$A$112,0),1+(IF('ข้อมูลนักเรียน'!$D9="ด.ช.",0,IF('ข้อมูลนักเรียน'!$D9="ด.ญ.",3,-99))))-1)/(INDEX('เกณฑ์WHO'!$B$2:$G$112,MATCH(ROUND(CG9*2,0)/2,'เกณฑ์WHO'!$A$2:$A$112,0),1+(IF('ข้อมูลนักเรียน'!$D9="ด.ช.",0,IF('ข้อมูลนักเรียน'!$D9="ด.ญ.",3,-99))))*INDEX('เกณฑ์WHO'!$B$2:$G$112,MATCH(ROUND(CG9*2,0)/2,'เกณฑ์WHO'!$A$2:$A$112,0),3+(IF('ข้อมูลนักเรียน'!$D9="ด.ช.",0,IF('ข้อมูลนักเรียน'!$D9="ด.ญ.",3,-99))))),""))) | CM9: =IF(CK9="","",IF(OR(CK9<24,CK9>71,(IF('ข้อมูลนักเรียน'!$D9="ด.ช.",0,IF('ข้อมูลนักเรียน'!$D9="ด.ญ.",2,-99)))<0),"",IFERROR((CG9/INDEX('เกณฑ์WHO'!$J$2:$M$61,MATCH(CK9,'เกณฑ์WHO'!$I$2:$I$61,0),1+(IF('ข้อมูลนักเรียน'!$D9="ด.ช.",0,IF('ข้อมูลนักเรียน'!$D9="ด.ญ.",2,-99))))-1)/INDEX('เกณฑ์WHO'!$J$2:$M$61,MATCH(CK9,'เกณฑ์WHO'!$I$2:$I$61,0),2+(IF('ข้อมูลนักเรียน'!$D9="ด.ช.",0,IF('ข้อมูลนักเรียน'!$D9="ด.ญ.",2,-99)))),""))) | CO9: =IF(N(AR9)>0,AR9,IF(N(AJ9)>0,AJ9,IF(N(AB9)>0,AB9,IF(N(T9)>0,T9,IF(N(L9)>0,L9,IF(N(D9)>0,D9,"")))))) | CP9: =IF(N(AR9)>0,AS9,IF(N(AJ9)>0,AK9,IF(N(AB9)>0,AC9,IF(N(T9)>0,U9,IF(N(L9)>0,M9,IF(N(D9)>0,E9,"")))))) | CQ9: =IF(N(AR9)>0,AU9,IF(N(AJ9)>0,AM9,IF(N(AB9)>0,AE9,IF(N(T9)>0,W9,IF(N(L9)>0,O9,IF(N(D9)>0,G9,"")))))) | CR9: =IF(N(AR9)>0,AV9,IF(N(AJ9)>0,AN9,IF(N(AB9)>0,AF9,IF(N(T9)>0,X9,IF(N(L9)>0,P9,IF(N(D9)>0,H9,"")))))) | CS9: =IF(N(AR9)>0,"ตุลาคม",IF(N(AJ9)>0,"กันยายน",IF(N(AB9)>0,"สิงหาคม",IF(N(T9)>0,"กรกฎาคม",IF(N(L9)>0,"มิถุนายน",IF(N(D9)>0,"พฤษภาคม","")))))) | CT9: =IF(N(CF9)>0,CF9,IF(N(BX9)>0,BX9,IF(N(BP9)>0,BP9,IF(N(BH9)>0,BH9,IF(N(AZ9)>0,AZ9,""))))) | CU9: =IF(N(CF9)>0,CG9,IF(N(BX9)>0,BY9,IF(N(BP9)>0,BQ9,IF(N(BH9)>0,BI9,IF(N(AZ9)>0,BA9,""))))) | CV9: =IF(N(CF9)>0,CI9,IF(N(BX9)>0,CA9,IF(N(BP9)>0,BS9,IF(N(BH9)>0,BK9,IF(N(AZ9)>0,BC9,""))))) | CW9: =IF(N(CF9)>0,CJ9,IF(N(BX9)>0,CB9,IF(N(BP9)>0,BT9,IF(N(BH9)>0,BL9,IF(N(AZ9)>0,BD9,""))))) | CX9: =IF(N(CF9)>0,"มีนาคม",IF(N(BX9)>0,"กุมภาพันธ์",IF(N(BP9)>0,"มกราคม",IF(N(BH9)>0,"ธันวาคม",IF(N(AZ9)>0,"พฤศจิกายน","")))))
A10: 2 | B10: ='ข้อมูลนักเรียน'!T10 | C10: =IF(B10="","",IF('ข้อมูลนักเรียน'!D10="ด.ช.","ชาย",IF('ข้อมูลนักเรียน'!D10="ด.ญ.","หญิง",""))&CHAR(10)&'ข้อมูลนักเรียน'!K10) | F10: =IF(OR(D10="",E10=""),"",ROUND(D10/(E10/100)^2,1)) | G10: =IF(OR($B10="",D10="",E10=""),"",IF(J10="","ตรวจสอบข้อมูล",IF(J10<-2,"ผอม",IF(J10<-1.5,"ค่อนข้างผอม",IF(J10<=1.5,"สมส่วน",IF(J10<=2,"ท้วม",IF(J10<=3,"เริ่มอ้วน","อ้วน"))))))) | H10: =IF(OR($B10="",D10="",E10=""),"",IF(K10="","ตรวจสอบข้อมูล",IF(K10<-2,"เตี้ย",IF(K10<-1.5,"ค่อนข้างเตี้ย",IF(K10<=1.5,"ตามเกณฑ์",IF(K10<=2,"ค่อนข้างสูง","สูง")))))) | I10: =IF(OR($B10="",D10="",E10="",'ข้อมูลนักเรียน'!$S10=""),"",IFERROR(DATEDIF('ข้อมูลนักเรียน'!$S10,DATE('ข้อมูลโรงเรียน'!$C$12-543,5,IF($F$6="",15,$F$6)),"m"),"")) | J10: =IF(I10="","",IF(OR(I10<24,I10>71,E10<65,E10>120,(IF('ข้อมูลนักเรียน'!$D10="ด.ช.",0,IF('ข้อมูลนักเรียน'!$D10="ด.ญ.",3,-99)))<0),"",IFERROR(((D10/INDEX('เกณฑ์WHO'!$B$2:$G$112,MATCH(ROUND(E10*2,0)/2,'เกณฑ์WHO'!$A$2:$A$112,0),2+(IF('ข้อมูลนักเรียน'!$D10="ด.ช.",0,IF('ข้อมูลนักเรียน'!$D10="ด.ญ.",3,-99)))))^INDEX('เกณฑ์WHO'!$B$2:$G$112,MATCH(ROUND(E10*2,0)/2,'เกณฑ์WHO'!$A$2:$A$112,0),1+(IF('ข้อมูลนักเรียน'!$D10="ด.ช.",0,IF('ข้อมูลนักเรียน'!$D10="ด.ญ.",3,-99))))-1)/(INDEX('เกณฑ์WHO'!$B$2:$G$112,MATCH(ROUND(E10*2,0)/2,'เกณฑ์WHO'!$A$2:$A$112,0),1+(IF('ข้อมูลนักเรียน'!$D10="ด.ช.",0,IF('ข้อมูลนักเรียน'!$D10="ด.ญ.",3,-99))))*INDEX('เกณฑ์WHO'!$B$2:$G$112,MATCH(ROUND(E10*2,0)/2,'เกณฑ์WHO'!$A$2:$A$112,0),3+(IF('ข้อมูลนักเรียน'!$D10="ด.ช.",0,IF('ข้อมูลนักเรียน'!$D10="ด.ญ.",3,-99))))),""))) | K10: =IF(I10="","",IF(OR(I10<24,I10>71,(IF('ข้อมูลนักเรียน'!$D10="ด.ช.",0,IF('ข้อมูลนักเรียน'!$D10="ด.ญ.",2,-99)))<0),"",IFERROR((E10/INDEX('เกณฑ์WHO'!$J$2:$M$61,MATCH(I10,'เกณฑ์WHO'!$I$2:$I$61,0),1+(IF('ข้อมูลนักเรียน'!$D10="ด.ช.",0,IF('ข้อมูลนักเรียน'!$D10="ด.ญ.",2,-99))))-1)/INDEX('เกณฑ์WHO'!$J$2:$M$61,MATCH(I10,'เกณฑ์WHO'!$I$2:$I$61,0),2+(IF('ข้อมูลนักเรียน'!$D10="ด.ช.",0,IF('ข้อมูลนักเรียน'!$D10="ด.ญ.",2,-99)))),""))) | N10: =IF(OR(L10="",M10=""),"",ROUND(L10/(M10/100)^2,1)) | O10: =IF(OR($B10="",L10="",M10=""),"",IF(R10="","ตรวจสอบข้อมูล",IF(R10<-2,"ผอม",IF(R10<-1.5,"ค่อนข้างผอม",IF(R10<=1.5,"สมส่วน",IF(R10<=2,"ท้วม",IF(R10<=3,"เริ่มอ้วน","อ้วน"))))))) | P10: =IF(OR($B10="",L10="",M10=""),"",IF(S10="","ตรวจสอบข้อมูล",IF(S10<-2,"เตี้ย",IF(S10<-1.5,"ค่อนข้างเตี้ย",IF(S10<=1.5,"ตามเกณฑ์",IF(S10<=2,"ค่อนข้างสูง","สูง")))))) | Q10: =IF(OR($B10="",L10="",M10="",'ข้อมูลนักเรียน'!$S10=""),"",IFERROR(DATEDIF('ข้อมูลนักเรียน'!$S10,DATE('ข้อมูลโรงเรียน'!$C$12-543,6,IF($N$6="",15,$N$6)),"m"),"")) | R10: =IF(Q10="","",IF(OR(Q10<24,Q10>71,M10<65,M10>120,(IF('ข้อมูลนักเรียน'!$D10="ด.ช.",0,IF('ข้อมูลนักเรียน'!$D10="ด.ญ.",3,-99)))<0),"",IFERROR(((L10/INDEX('เกณฑ์WHO'!$B$2:$G$112,MATCH(ROUND(M10*2,0)/2,'เกณฑ์WHO'!$A$2:$A$112,0),2+(IF('ข้อมูลนักเรียน'!$D10="ด.ช.",0,IF('ข้อมูลนักเรียน'!$D10="ด.ญ.",3,-99)))))^INDEX('เกณฑ์WHO'!$B$2:$G$112,MATCH(ROUND(M10*2,0)/2,'เกณฑ์WHO'!$A$2:$A$112,0),1+(IF('ข้อมูลนักเรียน'!$D10="ด.ช.",0,IF('ข้อมูลนักเรียน'!$D10="ด.ญ.",3,-99))))-1)/(INDEX('เกณฑ์WHO'!$B$2:$G$112,MATCH(ROUND(M10*2,0)/2,'เกณฑ์WHO'!$A$2:$A$112,0),1+(IF('ข้อมูลนักเรียน'!$D10="ด.ช.",0,IF('ข้อมูลนักเรียน'!$D10="ด.ญ.",3,-99))))*INDEX('เกณฑ์WHO'!$B$2:$G$112,MATCH(ROUND(M10*2,0)/2,'เกณฑ์WHO'!$A$2:$A$112,0),3+(IF('ข้อมูลนักเรียน'!$D10="ด.ช.",0,IF('ข้อมูลนักเรียน'!$D10="ด.ญ.",3,-99))))),""))) | S10: =IF(Q10="","",IF(OR(Q10<24,Q10>71,(IF('ข้อมูลนักเรียน'!$D10="ด.ช.",0,IF('ข้อมูลนักเรียน'!$D10="ด.ญ.",2,-99)))<0),"",IFERROR((M10/INDEX('เกณฑ์WHO'!$J$2:$M$61,MATCH(Q10,'เกณฑ์WHO'!$I$2:$I$61,0),1+(IF('ข้อมูลนักเรียน'!$D10="ด.ช.",0,IF('ข้อมูลนักเรียน'!$D10="ด.ญ.",2,-99))))-1)/INDEX('เกณฑ์WHO'!$J$2:$M$61,MATCH(Q10,'เกณฑ์WHO'!$I$2:$I$61,0),2+(IF('ข้อมูลนักเรียน'!$D10="ด.ช.",0,IF('ข้อมูลนักเรียน'!$D10="ด.ญ.",2,-99)))),""))) | V10: =IF(OR(T10="",U10=""),"",ROUND(T10/(U10/100)^2,1)) | W10: =IF(OR($B10="",T10="",U10=""),"",IF(Z10="","ตรวจสอบข้อมูล",IF(Z10<-2,"ผอม",IF(Z10<-1.5,"ค่อนข้างผอม",IF(Z10<=1.5,"สมส่วน",IF(Z10<=2,"ท้วม",IF(Z10<=3,"เริ่มอ้วน","อ้วน"))))))) | X10: =IF(OR($B10="",T10="",U10=""),"",IF(AA10="","ตรวจสอบข้อมูล",IF(AA10<-2,"เตี้ย",IF(AA10<-1.5,"ค่อนข้างเตี้ย",IF(AA10<=1.5,"ตามเกณฑ์",IF(AA10<=2,"ค่อนข้างสูง","สูง")))))) | Y10: =IF(OR($B10="",T10="",U10="",'ข้อมูลนักเรียน'!$S10=""),"",IFERROR(DATEDIF('ข้อมูลนักเรียน'!$S10,DATE('ข้อมูลโรงเรียน'!$C$12-543,7,IF($V$6="",15,$V$6)),"m"),"")) | Z10: =IF(Y10="","",IF(OR(Y10<24,Y10>71,U10<65,U10>120,(IF('ข้อมูลนักเรียน'!$D10="ด.ช.",0,IF('ข้อมูลนักเรียน'!$D10="ด.ญ.",3,-99)))<0),"",IFERROR(((T10/INDEX('เกณฑ์WHO'!$B$2:$G$112,MATCH(ROUND(U10*2,0)/2,'เกณฑ์WHO'!$A$2:$A$112,0),2+(IF('ข้อมูลนักเรียน'!$D10="ด.ช.",0,IF('ข้อมูลนักเรียน'!$D10="ด.ญ.",3,-99)))))^INDEX('เกณฑ์WHO'!$B$2:$G$112,MATCH(ROUND(U10*2,0)/2,'เกณฑ์WHO'!$A$2:$A$112,0),1+(IF('ข้อมูลนักเรียน'!$D10="ด.ช.",0,IF('ข้อมูลนักเรียน'!$D10="ด.ญ.",3,-99))))-1)/(INDEX('เกณฑ์WHO'!$B$2:$G$112,MATCH(ROUND(U10*2,0)/2,'เกณฑ์WHO'!$A$2:$A$112,0),1+(IF('ข้อมูลนักเรียน'!$D10="ด.ช.",0,IF('ข้อมูลนักเรียน'!$D10="ด.ญ.",3,-99))))*INDEX('เกณฑ์WHO'!$B$2:$G$112,MATCH(ROUND(U10*2,0)/2,'เกณฑ์WHO'!$A$2:$A$112,0),3+(IF('ข้อมูลนักเรียน'!$D10="ด.ช.",0,IF('ข้อมูลนักเรียน'!$D10="ด.ญ.",3,-99))))),""))) | AA10: =IF(Y10="","",IF(OR(Y10<24,Y10>71,(IF('ข้อมูลนักเรียน'!$D10="ด.ช.",0,IF('ข้อมูลนักเรียน'!$D10="ด.ญ.",2,-99)))<0),"",IFERROR((U10/INDEX('เกณฑ์WHO'!$J$2:$M$61,MATCH(Y10,'เกณฑ์WHO'!$I$2:$I$61,0),1+(IF('ข้อมูลนักเรียน'!$D10="ด.ช.",0,IF('ข้อมูลนักเรียน'!$D10="ด.ญ.",2,-99))))-1)/INDEX('เกณฑ์WHO'!$J$2:$M$61,MATCH(Y10,'เกณฑ์WHO'!$I$2:$I$61,0),2+(IF('ข้อมูลนักเรียน'!$D10="ด.ช.",0,IF('ข้อมูลนักเรียน'!$D10="ด.ญ.",2,-99)))),""))) | AD10: =IF(OR(AB10="",AC10=""),"",ROUND(AB10/(AC10/100)^2,1)) | AE10: =IF(OR($B10="",AB10="",AC10=""),"",IF(AH10="","ตรวจสอบข้อมูล",IF(AH10<-2,"ผอม",IF(AH10<-1.5,"ค่อนข้างผอม",IF(AH10<=1.5,"สมส่วน",IF(AH10<=2,"ท้วม",IF(AH10<=3,"เริ่มอ้วน","อ้วน"))))))) | AF10: =IF(OR($B10="",AB10="",AC10=""),"",IF(AI10="","ตรวจสอบข้อมูล",IF(AI10<-2,"เตี้ย",IF(AI10<-1.5,"ค่อนข้างเตี้ย",IF(AI10<=1.5,"ตามเกณฑ์",IF(AI10<=2,"ค่อนข้างสูง","สูง")))))) | AG10: =IF(OR($B10="",AB10="",AC10="",'ข้อมูลนักเรียน'!$S10=""),"",IFERROR(DATEDIF('ข้อมูลนักเรียน'!$S10,DATE('ข้อมูลโรงเรียน'!$C$12-543,8,IF($AD$6="",15,$AD$6)),"m"),"")) | AH10: =IF(AG10="","",IF(OR(AG10<24,AG10>71,AC10<65,AC10>120,(IF('ข้อมูลนักเรียน'!$D10="ด.ช.",0,IF('ข้อมูลนักเรียน'!$D10="ด.ญ.",3,-99)))<0),"",IFERROR(((AB10/INDEX('เกณฑ์WHO'!$B$2:$G$112,MATCH(ROUND(AC10*2,0)/2,'เกณฑ์WHO'!$A$2:$A$112,0),2+(IF('ข้อมูลนักเรียน'!$D10="ด.ช.",0,IF('ข้อมูลนักเรียน'!$D10="ด.ญ.",3,-99)))))^INDEX('เกณฑ์WHO'!$B$2:$G$112,MATCH(ROUND(AC10*2,0)/2,'เกณฑ์WHO'!$A$2:$A$112,0),1+(IF('ข้อมูลนักเรียน'!$D10="ด.ช.",0,IF('ข้อมูลนักเรียน'!$D10="ด.ญ.",3,-99))))-1)/(INDEX('เกณฑ์WHO'!$B$2:$G$112,MATCH(ROUND(AC10*2,0)/2,'เกณฑ์WHO'!$A$2:$A$112,0),1+(IF('ข้อมูลนักเรียน'!$D10="ด.ช.",0,IF('ข้อมูลนักเรียน'!$D10="ด.ญ.",3,-99))))*INDEX('เกณฑ์WHO'!$B$2:$G$112,MATCH(ROUND(AC10*2,0)/2,'เกณฑ์WHO'!$A$2:$A$112,0),3+(IF('ข้อมูลนักเรียน'!$D10="ด.ช.",0,IF('ข้อมูลนักเรียน'!$D10="ด.ญ.",3,-99))))),""))) | AI10: =IF(AG10="","",IF(OR(AG10<24,AG10>71,(IF('ข้อมูลนักเรียน'!$D10="ด.ช.",0,IF('ข้อมูลนักเรียน'!$D10="ด.ญ.",2,-99)))<0),"",IFERROR((AC10/INDEX('เกณฑ์WHO'!$J$2:$M$61,MATCH(AG10,'เกณฑ์WHO'!$I$2:$I$61,0),1+(IF('ข้อมูลนักเรียน'!$D10="ด.ช.",0,IF('ข้อมูลนักเรียน'!$D10="ด.ญ.",2,-99))))-1)/INDEX('เกณฑ์WHO'!$J$2:$M$61,MATCH(AG10,'เกณฑ์WHO'!$I$2:$I$61,0),2+(IF('ข้อมูลนักเรียน'!$D10="ด.ช.",0,IF('ข้อมูลนักเรียน'!$D10="ด.ญ.",2,-99)))),""))) | AL10: =IF(OR(AJ10="",AK10=""),"",ROUND(AJ10/(AK10/100)^2,1)) | AM10: =IF(OR($B10="",AJ10="",AK10=""),"",IF(AP10="","ตรวจสอบข้อมูล",IF(AP10<-2,"ผอม",IF(AP10<-1.5,"ค่อนข้างผอม",IF(AP10<=1.5,"สมส่วน",IF(AP10<=2,"ท้วม",IF(AP10<=3,"เริ่มอ้วน","อ้วน"))))))) | AN10: =IF(OR($B10="",AJ10="",AK10=""),"",IF(AQ10="","ตรวจสอบข้อมูล",IF(AQ10<-2,"เตี้ย",IF(AQ10<-1.5,"ค่อนข้างเตี้ย",IF(AQ10<=1.5,"ตามเกณฑ์",IF(AQ10<=2,"ค่อนข้างสูง","สูง")))))) | AO10: =IF(OR($B10="",AJ10="",AK10="",'ข้อมูลนักเรียน'!$S10=""),"",IFERROR(DATEDIF('ข้อมูลนักเรียน'!$S10,DATE('ข้อมูลโรงเรียน'!$C$12-543,9,IF($AL$6="",15,$AL$6)),"m"),"")) | AP10: =IF(AO10="","",IF(OR(AO10<24,AO10>71,AK10<65,AK10>120,(IF('ข้อมูลนักเรียน'!$D10="ด.ช.",0,IF('ข้อมูลนักเรียน'!$D10="ด.ญ.",3,-99)))<0),"",IFERROR(((AJ10/INDEX('เกณฑ์WHO'!$B$2:$G$112,MATCH(ROUND(AK10*2,0)/2,'เกณฑ์WHO'!$A$2:$A$112,0),2+(IF('ข้อมูลนักเรียน'!$D10="ด.ช.",0,IF('ข้อมูลนักเรียน'!$D10="ด.ญ.",3,-99)))))^INDEX('เกณฑ์WHO'!$B$2:$G$112,MATCH(ROUND(AK10*2,0)/2,'เกณฑ์WHO'!$A$2:$A$112,0),1+(IF('ข้อมูลนักเรียน'!$D10="ด.ช.",0,IF('ข้อมูลนักเรียน'!$D10="ด.ญ.",3,-99))))-1)/(INDEX('เกณฑ์WHO'!$B$2:$G$112,MATCH(ROUND(AK10*2,0)/2,'เกณฑ์WHO'!$A$2:$A$112,0),1+(IF('ข้อมูลนักเรียน'!$D10="ด.ช.",0,IF('ข้อมูลนักเรียน'!$D10="ด.ญ.",3,-99))))*INDEX('เกณฑ์WHO'!$B$2:$G$112,MATCH(ROUND(AK10*2,0)/2,'เกณฑ์WHO'!$A$2:$A$112,0),3+(IF('ข้อมูลนักเรียน'!$D10="ด.ช.",0,IF('ข้อมูลนักเรียน'!$D10="ด.ญ.",3,-99))))),""))) | AQ10: =IF(AO10="","",IF(OR(AO10<24,AO10>71,(IF('ข้อมูลนักเรียน'!$D10="ด.ช.",0,IF('ข้อมูลนักเรียน'!$D10="ด.ญ.",2,-99)))<0),"",IFERROR((AK10/INDEX('เกณฑ์WHO'!$J$2:$M$61,MATCH(AO10,'เกณฑ์WHO'!$I$2:$I$61,0),1+(IF('ข้อมูลนักเรียน'!$D10="ด.ช.",0,IF('ข้อมูลนักเรียน'!$D10="ด.ญ.",2,-99))))-1)/INDEX('เกณฑ์WHO'!$J$2:$M$61,MATCH(AO10,'เกณฑ์WHO'!$I$2:$I$61,0),2+(IF('ข้อมูลนักเรียน'!$D10="ด.ช.",0,IF('ข้อมูลนักเรียน'!$D10="ด.ญ.",2,-99)))),""))) | AT10: =IF(OR(AR10="",AS10=""),"",ROUND(AR10/(AS10/100)^2,1)) | AU10: =IF(OR($B10="",AR10="",AS10=""),"",IF(AX10="","ตรวจสอบข้อมูล",IF(AX10<-2,"ผอม",IF(AX10<-1.5,"ค่อนข้างผอม",IF(AX10<=1.5,"สมส่วน",IF(AX10<=2,"ท้วม",IF(AX10<=3,"เริ่มอ้วน","อ้วน"))))))) | AV10: =IF(OR($B10="",AR10="",AS10=""),"",IF(AY10="","ตรวจสอบข้อมูล",IF(AY10<-2,"เตี้ย",IF(AY10<-1.5,"ค่อนข้างเตี้ย",IF(AY10<=1.5,"ตามเกณฑ์",IF(AY10<=2,"ค่อนข้างสูง","สูง")))))) | AW10: =IF(OR($B10="",AR10="",AS10="",'ข้อมูลนักเรียน'!$S10=""),"",IFERROR(DATEDIF('ข้อมูลนักเรียน'!$S10,DATE('ข้อมูลโรงเรียน'!$C$12-543,10,IF($AT$6="",15,$AT$6)),"m"),"")) | AX10: =IF(AW10="","",IF(OR(AW10<24,AW10>71,AS10<65,AS10>120,(IF('ข้อมูลนักเรียน'!$D10="ด.ช.",0,IF('ข้อมูลนักเรียน'!$D10="ด.ญ.",3,-99)))<0),"",IFERROR(((AR10/INDEX('เกณฑ์WHO'!$B$2:$G$112,MATCH(ROUND(AS10*2,0)/2,'เกณฑ์WHO'!$A$2:$A$112,0),2+(IF('ข้อมูลนักเรียน'!$D10="ด.ช.",0,IF('ข้อมูลนักเรียน'!$D10="ด.ญ.",3,-99)))))^INDEX('เกณฑ์WHO'!$B$2:$G$112,MATCH(ROUND(AS10*2,0)/2,'เกณฑ์WHO'!$A$2:$A$112,0),1+(IF('ข้อมูลนักเรียน'!$D10="ด.ช.",0,IF('ข้อมูลนักเรียน'!$D10="ด.ญ.",3,-99))))-1)/(INDEX('เกณฑ์WHO'!$B$2:$G$112,MATCH(ROUND(AS10*2,0)/2,'เกณฑ์WHO'!$A$2:$A$112,0),1+(IF('ข้อมูลนักเรียน'!$D10="ด.ช.",0,IF('ข้อมูลนักเรียน'!$D10="ด.ญ.",3,-99))))*INDEX('เกณฑ์WHO'!$B$2:$G$112,MATCH(ROUND(AS10*2,0)/2,'เกณฑ์WHO'!$A$2:$A$112,0),3+(IF('ข้อมูลนักเรียน'!$D10="ด.ช.",0,IF('ข้อมูลนักเรียน'!$D10="ด.ญ.",3,-99))))),""))) | AY10: =IF(AW10="","",IF(OR(AW10<24,AW10>71,(IF('ข้อมูลนักเรียน'!$D10="ด.ช.",0,IF('ข้อมูลนักเรียน'!$D10="ด.ญ.",2,-99)))<0),"",IFERROR((AS10/INDEX('เกณฑ์WHO'!$J$2:$M$61,MATCH(AW10,'เกณฑ์WHO'!$I$2:$I$61,0),1+(IF('ข้อมูลนักเรียน'!$D10="ด.ช.",0,IF('ข้อมูลนักเรียน'!$D10="ด.ญ.",2,-99))))-1)/INDEX('เกณฑ์WHO'!$J$2:$M$61,MATCH(AW10,'เกณฑ์WHO'!$I$2:$I$61,0),2+(IF('ข้อมูลนักเรียน'!$D10="ด.ช.",0,IF('ข้อมูลนักเรียน'!$D10="ด.ญ.",2,-99)))),""))) | BB10: =IF(OR(AZ10="",BA10=""),"",ROUND(AZ10/(BA10/100)^2,1)) | BC10: =IF(OR($B10="",AZ10="",BA10=""),"",IF(BF10="","ตรวจสอบข้อมูล",IF(BF10<-2,"ผอม",IF(BF10<-1.5,"ค่อนข้างผอม",IF(BF10<=1.5,"สมส่วน",IF(BF10<=2,"ท้วม",IF(BF10<=3,"เริ่มอ้วน","อ้วน"))))))) | BD10: =IF(OR($B10="",AZ10="",BA10=""),"",IF(BG10="","ตรวจสอบข้อมูล",IF(BG10<-2,"เตี้ย",IF(BG10<-1.5,"ค่อนข้างเตี้ย",IF(BG10<=1.5,"ตามเกณฑ์",IF(BG10<=2,"ค่อนข้างสูง","สูง")))))) | BE10: =IF(OR($B10="",AZ10="",BA10="",'ข้อมูลนักเรียน'!$S10=""),"",IFERROR(DATEDIF('ข้อมูลนักเรียน'!$S10,DATE('ข้อมูลโรงเรียน'!$C$12-543,11,IF($BB$6="",15,$BB$6)),"m"),"")) | BF10: =IF(BE10="","",IF(OR(BE10<24,BE10>71,BA10<65,BA10>120,(IF('ข้อมูลนักเรียน'!$D10="ด.ช.",0,IF('ข้อมูลนักเรียน'!$D10="ด.ญ.",3,-99)))<0),"",IFERROR(((AZ10/INDEX('เกณฑ์WHO'!$B$2:$G$112,MATCH(ROUND(BA10*2,0)/2,'เกณฑ์WHO'!$A$2:$A$112,0),2+(IF('ข้อมูลนักเรียน'!$D10="ด.ช.",0,IF('ข้อมูลนักเรียน'!$D10="ด.ญ.",3,-99)))))^INDEX('เกณฑ์WHO'!$B$2:$G$112,MATCH(ROUND(BA10*2,0)/2,'เกณฑ์WHO'!$A$2:$A$112,0),1+(IF('ข้อมูลนักเรียน'!$D10="ด.ช.",0,IF('ข้อมูลนักเรียน'!$D10="ด.ญ.",3,-99))))-1)/(INDEX('เกณฑ์WHO'!$B$2:$G$112,MATCH(ROUND(BA10*2,0)/2,'เกณฑ์WHO'!$A$2:$A$112,0),1+(IF('ข้อมูลนักเรียน'!$D10="ด.ช.",0,IF('ข้อมูลนักเรียน'!$D10="ด.ญ.",3,-99))))*INDEX('เกณฑ์WHO'!$B$2:$G$112,MATCH(ROUND(BA10*2,0)/2,'เกณฑ์WHO'!$A$2:$A$112,0),3+(IF('ข้อมูลนักเรียน'!$D10="ด.ช.",0,IF('ข้อมูลนักเรียน'!$D10="ด.ญ.",3,-99))))),""))) | BG10: =IF(BE10="","",IF(OR(BE10<24,BE10>71,(IF('ข้อมูลนักเรียน'!$D10="ด.ช.",0,IF('ข้อมูลนักเรียน'!$D10="ด.ญ.",2,-99)))<0),"",IFERROR((BA10/INDEX('เกณฑ์WHO'!$J$2:$M$61,MATCH(BE10,'เกณฑ์WHO'!$I$2:$I$61,0),1+(IF('ข้อมูลนักเรียน'!$D10="ด.ช.",0,IF('ข้อมูลนักเรียน'!$D10="ด.ญ.",2,-99))))-1)/INDEX('เกณฑ์WHO'!$J$2:$M$61,MATCH(BE10,'เกณฑ์WHO'!$I$2:$I$61,0),2+(IF('ข้อมูลนักเรียน'!$D10="ด.ช.",0,IF('ข้อมูลนักเรียน'!$D10="ด.ญ.",2,-99)))),""))) | BJ10: =IF(OR(BH10="",BI10=""),"",ROUND(BH10/(BI10/100)^2,1)) | BK10: =IF(OR($B10="",BH10="",BI10=""),"",IF(BN10="","ตรวจสอบข้อมูล",IF(BN10<-2,"ผอม",IF(BN10<-1.5,"ค่อนข้างผอม",IF(BN10<=1.5,"สมส่วน",IF(BN10<=2,"ท้วม",IF(BN10<=3,"เริ่มอ้วน","อ้วน"))))))) | BL10: =IF(OR($B10="",BH10="",BI10=""),"",IF(BO10="","ตรวจสอบข้อมูล",IF(BO10<-2,"เตี้ย",IF(BO10<-1.5,"ค่อนข้างเตี้ย",IF(BO10<=1.5,"ตามเกณฑ์",IF(BO10<=2,"ค่อนข้างสูง","สูง")))))) | BM10: =IF(OR($B10="",BH10="",BI10="",'ข้อมูลนักเรียน'!$S10=""),"",IFERROR(DATEDIF('ข้อมูลนักเรียน'!$S10,DATE('ข้อมูลโรงเรียน'!$C$12-543,12,IF($BJ$6="",15,$BJ$6)),"m"),"")) | BN10: =IF(BM10="","",IF(OR(BM10<24,BM10>71,BI10<65,BI10>120,(IF('ข้อมูลนักเรียน'!$D10="ด.ช.",0,IF('ข้อมูลนักเรียน'!$D10="ด.ญ.",3,-99)))<0),"",IFERROR(((BH10/INDEX('เกณฑ์WHO'!$B$2:$G$112,MATCH(ROUND(BI10*2,0)/2,'เกณฑ์WHO'!$A$2:$A$112,0),2+(IF('ข้อมูลนักเรียน'!$D10="ด.ช.",0,IF('ข้อมูลนักเรียน'!$D10="ด.ญ.",3,-99)))))^INDEX('เกณฑ์WHO'!$B$2:$G$112,MATCH(ROUND(BI10*2,0)/2,'เกณฑ์WHO'!$A$2:$A$112,0),1+(IF('ข้อมูลนักเรียน'!$D10="ด.ช.",0,IF('ข้อมูลนักเรียน'!$D10="ด.ญ.",3,-99))))-1)/(INDEX('เกณฑ์WHO'!$B$2:$G$112,MATCH(ROUND(BI10*2,0)/2,'เกณฑ์WHO'!$A$2:$A$112,0),1+(IF('ข้อมูลนักเรียน'!$D10="ด.ช.",0,IF('ข้อมูลนักเรียน'!$D10="ด.ญ.",3,-99))))*INDEX('เกณฑ์WHO'!$B$2:$G$112,MATCH(ROUND(BI10*2,0)/2,'เกณฑ์WHO'!$A$2:$A$112,0),3+(IF('ข้อมูลนักเรียน'!$D10="ด.ช.",0,IF('ข้อมูลนักเรียน'!$D10="ด.ญ.",3,-99))))),""))) | BO10: =IF(BM10="","",IF(OR(BM10<24,BM10>71,(IF('ข้อมูลนักเรียน'!$D10="ด.ช.",0,IF('ข้อมูลนักเรียน'!$D10="ด.ญ.",2,-99)))<0),"",IFERROR((BI10/INDEX('เกณฑ์WHO'!$J$2:$M$61,MATCH(BM10,'เกณฑ์WHO'!$I$2:$I$61,0),1+(IF('ข้อมูลนักเรียน'!$D10="ด.ช.",0,IF('ข้อมูลนักเรียน'!$D10="ด.ญ.",2,-99))))-1)/INDEX('เกณฑ์WHO'!$J$2:$M$61,MATCH(BM10,'เกณฑ์WHO'!$I$2:$I$61,0),2+(IF('ข้อมูลนักเรียน'!$D10="ด.ช.",0,IF('ข้อมูลนักเรียน'!$D10="ด.ญ.",2,-99)))),""))) | BR10: =IF(OR(BP10="",BQ10=""),"",ROUND(BP10/(BQ10/100)^2,1)) | BS10: =IF(OR($B10="",BP10="",BQ10=""),"",IF(BV10="","ตรวจสอบข้อมูล",IF(BV10<-2,"ผอม",IF(BV10<-1.5,"ค่อนข้างผอม",IF(BV10<=1.5,"สมส่วน",IF(BV10<=2,"ท้วม",IF(BV10<=3,"เริ่มอ้วน","อ้วน"))))))) | BT10: =IF(OR($B10="",BP10="",BQ10=""),"",IF(BW10="","ตรวจสอบข้อมูล",IF(BW10<-2,"เตี้ย",IF(BW10<-1.5,"ค่อนข้างเตี้ย",IF(BW10<=1.5,"ตามเกณฑ์",IF(BW10<=2,"ค่อนข้างสูง","สูง")))))) | BU10: =IF(OR($B10="",BP10="",BQ10="",'ข้อมูลนักเรียน'!$S10=""),"",IFERROR(DATEDIF('ข้อมูลนักเรียน'!$S10,DATE('ข้อมูลโรงเรียน'!$C$12-542,1,IF($BR$6="",15,$BR$6)),"m"),"")) | BV10: =IF(BU10="","",IF(OR(BU10<24,BU10>71,BQ10<65,BQ10>120,(IF('ข้อมูลนักเรียน'!$D10="ด.ช.",0,IF('ข้อมูลนักเรียน'!$D10="ด.ญ.",3,-99)))<0),"",IFERROR(((BP10/INDEX('เกณฑ์WHO'!$B$2:$G$112,MATCH(ROUND(BQ10*2,0)/2,'เกณฑ์WHO'!$A$2:$A$112,0),2+(IF('ข้อมูลนักเรียน'!$D10="ด.ช.",0,IF('ข้อมูลนักเรียน'!$D10="ด.ญ.",3,-99)))))^INDEX('เกณฑ์WHO'!$B$2:$G$112,MATCH(ROUND(BQ10*2,0)/2,'เกณฑ์WHO'!$A$2:$A$112,0),1+(IF('ข้อมูลนักเรียน'!$D10="ด.ช.",0,IF('ข้อมูลนักเรียน'!$D10="ด.ญ.",3,-99))))-1)/(INDEX('เกณฑ์WHO'!$B$2:$G$112,MATCH(ROUND(BQ10*2,0)/2,'เกณฑ์WHO'!$A$2:$A$112,0),1+(IF('ข้อมูลนักเรียน'!$D10="ด.ช.",0,IF('ข้อมูลนักเรียน'!$D10="ด.ญ.",3,-99))))*INDEX('เกณฑ์WHO'!$B$2:$G$112,MATCH(ROUND(BQ10*2,0)/2,'เกณฑ์WHO'!$A$2:$A$112,0),3+(IF('ข้อมูลนักเรียน'!$D10="ด.ช.",0,IF('ข้อมูลนักเรียน'!$D10="ด.ญ.",3,-99))))),""))) | BW10: =IF(BU10="","",IF(OR(BU10<24,BU10>71,(IF('ข้อมูลนักเรียน'!$D10="ด.ช.",0,IF('ข้อมูลนักเรียน'!$D10="ด.ญ.",2,-99)))<0),"",IFERROR((BQ10/INDEX('เกณฑ์WHO'!$J$2:$M$61,MATCH(BU10,'เกณฑ์WHO'!$I$2:$I$61,0),1+(IF('ข้อมูลนักเรียน'!$D10="ด.ช.",0,IF('ข้อมูลนักเรียน'!$D10="ด.ญ.",2,-99))))-1)/INDEX('เกณฑ์WHO'!$J$2:$M$61,MATCH(BU10,'เกณฑ์WHO'!$I$2:$I$61,0),2+(IF('ข้อมูลนักเรียน'!$D10="ด.ช.",0,IF('ข้อมูลนักเรียน'!$D10="ด.ญ.",2,-99)))),""))) | BZ10: =IF(OR(BX10="",BY10=""),"",ROUND(BX10/(BY10/100)^2,1)) | CA10: =IF(OR($B10="",BX10="",BY10=""),"",IF(CD10="","ตรวจสอบข้อมูล",IF(CD10<-2,"ผอม",IF(CD10<-1.5,"ค่อนข้างผอม",IF(CD10<=1.5,"สมส่วน",IF(CD10<=2,"ท้วม",IF(CD10<=3,"เริ่มอ้วน","อ้วน"))))))) | CB10: =IF(OR($B10="",BX10="",BY10=""),"",IF(CE10="","ตรวจสอบข้อมูล",IF(CE10<-2,"เตี้ย",IF(CE10<-1.5,"ค่อนข้างเตี้ย",IF(CE10<=1.5,"ตามเกณฑ์",IF(CE10<=2,"ค่อนข้างสูง","สูง")))))) | CC10: =IF(OR($B10="",BX10="",BY10="",'ข้อมูลนักเรียน'!$S10=""),"",IFERROR(DATEDIF('ข้อมูลนักเรียน'!$S10,DATE('ข้อมูลโรงเรียน'!$C$12-542,2,IF($BZ$6="",15,$BZ$6)),"m"),"")) | CD10: =IF(CC10="","",IF(OR(CC10<24,CC10>71,BY10<65,BY10>120,(IF('ข้อมูลนักเรียน'!$D10="ด.ช.",0,IF('ข้อมูลนักเรียน'!$D10="ด.ญ.",3,-99)))<0),"",IFERROR(((BX10/INDEX('เกณฑ์WHO'!$B$2:$G$112,MATCH(ROUND(BY10*2,0)/2,'เกณฑ์WHO'!$A$2:$A$112,0),2+(IF('ข้อมูลนักเรียน'!$D10="ด.ช.",0,IF('ข้อมูลนักเรียน'!$D10="ด.ญ.",3,-99)))))^INDEX('เกณฑ์WHO'!$B$2:$G$112,MATCH(ROUND(BY10*2,0)/2,'เกณฑ์WHO'!$A$2:$A$112,0),1+(IF('ข้อมูลนักเรียน'!$D10="ด.ช.",0,IF('ข้อมูลนักเรียน'!$D10="ด.ญ.",3,-99))))-1)/(INDEX('เกณฑ์WHO'!$B$2:$G$112,MATCH(ROUND(BY10*2,0)/2,'เกณฑ์WHO'!$A$2:$A$112,0),1+(IF('ข้อมูลนักเรียน'!$D10="ด.ช.",0,IF('ข้อมูลนักเรียน'!$D10="ด.ญ.",3,-99))))*INDEX('เกณฑ์WHO'!$B$2:$G$112,MATCH(ROUND(BY10*2,0)/2,'เกณฑ์WHO'!$A$2:$A$112,0),3+(IF('ข้อมูลนักเรียน'!$D10="ด.ช.",0,IF('ข้อมูลนักเรียน'!$D10="ด.ญ.",3,-99))))),""))) | CE10: =IF(CC10="","",IF(OR(CC10<24,CC10>71,(IF('ข้อมูลนักเรียน'!$D10="ด.ช.",0,IF('ข้อมูลนักเรียน'!$D10="ด.ญ.",2,-99)))<0),"",IFERROR((BY10/INDEX('เกณฑ์WHO'!$J$2:$M$61,MATCH(CC10,'เกณฑ์WHO'!$I$2:$I$61,0),1+(IF('ข้อมูลนักเรียน'!$D10="ด.ช.",0,IF('ข้อมูลนักเรียน'!$D10="ด.ญ.",2,-99))))-1)/INDEX('เกณฑ์WHO'!$J$2:$M$61,MATCH(CC10,'เกณฑ์WHO'!$I$2:$I$61,0),2+(IF('ข้อมูลนักเรียน'!$D10="ด.ช.",0,IF('ข้อมูลนักเรียน'!$D10="ด.ญ.",2,-99)))),""))) | CH10: =IF(OR(CF10="",CG10=""),"",ROUND(CF10/(CG10/100)^2,1)) | CI10: =IF(OR($B10="",CF10="",CG10=""),"",IF(CL10="","ตรวจสอบข้อมูล",IF(CL10<-2,"ผอม",IF(CL10<-1.5,"ค่อนข้างผอม",IF(CL10<=1.5,"สมส่วน",IF(CL10<=2,"ท้วม",IF(CL10<=3,"เริ่มอ้วน","อ้วน"))))))) | CJ10: =IF(OR($B10="",CF10="",CG10=""),"",IF(CM10="","ตรวจสอบข้อมูล",IF(CM10<-2,"เตี้ย",IF(CM10<-1.5,"ค่อนข้างเตี้ย",IF(CM10<=1.5,"ตามเกณฑ์",IF(CM10<=2,"ค่อนข้างสูง","สูง")))))) | CK10: =IF(OR($B10="",CF10="",CG10="",'ข้อมูลนักเรียน'!$S10=""),"",IFERROR(DATEDIF('ข้อมูลนักเรียน'!$S10,DATE('ข้อมูลโรงเรียน'!$C$12-542,3,IF($CH$6="",15,$CH$6)),"m"),"")) | CL10: =IF(CK10="","",IF(OR(CK10<24,CK10>71,CG10<65,CG10>120,(IF('ข้อมูลนักเรียน'!$D10="ด.ช.",0,IF('ข้อมูลนักเรียน'!$D10="ด.ญ.",3,-99)))<0),"",IFERROR(((CF10/INDEX('เกณฑ์WHO'!$B$2:$G$112,MATCH(ROUND(CG10*2,0)/2,'เกณฑ์WHO'!$A$2:$A$112,0),2+(IF('ข้อมูลนักเรียน'!$D10="ด.ช.",0,IF('ข้อมูลนักเรียน'!$D10="ด.ญ.",3,-99)))))^INDEX('เกณฑ์WHO'!$B$2:$G$112,MATCH(ROUND(CG10*2,0)/2,'เกณฑ์WHO'!$A$2:$A$112,0),1+(IF('ข้อมูลนักเรียน'!$D10="ด.ช.",0,IF('ข้อมูลนักเรียน'!$D10="ด.ญ.",3,-99))))-1)/(INDEX('เกณฑ์WHO'!$B$2:$G$112,MATCH(ROUND(CG10*2,0)/2,'เกณฑ์WHO'!$A$2:$A$112,0),1+(IF('ข้อมูลนักเรียน'!$D10="ด.ช.",0,IF('ข้อมูลนักเรียน'!$D10="ด.ญ.",3,-99))))*INDEX('เกณฑ์WHO'!$B$2:$G$112,MATCH(ROUND(CG10*2,0)/2,'เกณฑ์WHO'!$A$2:$A$112,0),3+(IF('ข้อมูลนักเรียน'!$D10="ด.ช.",0,IF('ข้อมูลนักเรียน'!$D10="ด.ญ.",3,-99))))),""))) | CM10: =IF(CK10="","",IF(OR(CK10<24,CK10>71,(IF('ข้อมูลนักเรียน'!$D10="ด.ช.",0,IF('ข้อมูลนักเรียน'!$D10="ด.ญ.",2,-99)))<0),"",IFERROR((CG10/INDEX('เกณฑ์WHO'!$J$2:$M$61,MATCH(CK10,'เกณฑ์WHO'!$I$2:$I$61,0),1+(IF('ข้อมูลนักเรียน'!$D10="ด.ช.",0,IF('ข้อมูลนักเรียน'!$D10="ด.ญ.",2,-99))))-1)/INDEX('เกณฑ์WHO'!$J$2:$M$61,MATCH(CK10,'เกณฑ์WHO'!$I$2:$I$61,0),2+(IF('ข้อมูลนักเรียน'!$D10="ด.ช.",0,IF('ข้อมูลนักเรียน'!$D10="ด.ญ.",2,-99)))),""))) | CO10: =IF(N(AR10)>0,AR10,IF(N(AJ10)>0,AJ10,IF(N(AB10)>0,AB10,IF(N(T10)>0,T10,IF(N(L10)>0,L10,IF(N(D10)>0,D10,"")))))) | CP10: =IF(N(AR10)>0,AS10,IF(N(AJ10)>0,AK10,IF(N(AB10)>0,AC10,IF(N(T10)>0,U10,IF(N(L10)>0,M10,IF(N(D10)>0,E10,"")))))) | CQ10: =IF(N(AR10)>0,AU10,IF(N(AJ10)>0,AM10,IF(N(AB10)>0,AE10,IF(N(T10)>0,W10,IF(N(L10)>0,O10,IF(N(D10)>0,G10,"")))))) | CR10: =IF(N(AR10)>0,AV10,IF(N(AJ10)>0,AN10,IF(N(AB10)>0,AF10,IF(N(T10)>0,X10,IF(N(L10)>0,P10,IF(N(D10)>0,H10,"")))))) | CS10: =IF(N(AR10)>0,"ตุลาคม",IF(N(AJ10)>0,"กันยายน",IF(N(AB10)>0,"สิงหาคม",IF(N(T10)>0,"กรกฎาคม",IF(N(L10)>0,"มิถุนายน",IF(N(D10)>0,"พฤษภาคม","")))))) | CT10: =IF(N(CF10)>0,CF10,IF(N(BX10)>0,BX10,IF(N(BP10)>0,BP10,IF(N(BH10)>0,BH10,IF(N(AZ10)>0,AZ10,""))))) | CU10: =IF(N(CF10)>0,CG10,IF(N(BX10)>0,BY10,IF(N(BP10)>0,BQ10,IF(N(BH10)>0,BI10,IF(N(AZ10)>0,BA10,""))))) | CV10: =IF(N(CF10)>0,CI10,IF(N(BX10)>0,CA10,IF(N(BP10)>0,BS10,IF(N(BH10)>0,BK10,IF(N(AZ10)>0,BC10,""))))) | CW10: =IF(N(CF10)>0,CJ10,IF(N(BX10)>0,CB10,IF(N(BP10)>0,BT10,IF(N(BH10)>0,BL10,IF(N(AZ10)>0,BD10,""))))) | CX10: =IF(N(CF10)>0,"มีนาคม",IF(N(BX10)>0,"กุมภาพันธ์",IF(N(BP10)>0,"มกราคม",IF(N(BH10)>0,"ธันวาคม",IF(N(AZ10)>0,"พฤศจิกายน","")))))
